Back to Multiple platform build/check report for BioC 3.12
A[B]CDEFGHIJKLMNOPQRSTUVWXYZ

BUILD BIN report for biocViews on merida1

This page was generated on 2020-08-13 11:48:15 -0400 (Thu, 13 Aug 2020).

TO THE DEVELOPERS/MAINTAINERS OF THE biocViews PACKAGE: Please make sure to use the following settings in order to reproduce any error or warning you see on this page.
Package 164/1885HostnameOS / ArchINSTALLBUILDCHECKBUILD BIN
biocViews 1.57.3
Bioconductor Package Maintainer
Snapshot Date: 2020-08-12 14:52:00 -0400 (Wed, 12 Aug 2020)
URL: https://git.bioconductor.org/packages/biocViews
Branch: master
Last Commit: d1f0be2
Last Changed Date: 2020-07-17 16:45:15 -0400 (Fri, 17 Jul 2020)
malbec1 Linux (Ubuntu 18.04.4 LTS) / x86_64  OK  OK  OK UNNEEDED, same version exists in internal repository
nebbiolo1 Linux (Ubuntu 20.04.1 LTS) / x86_64  OK  OK  OK 
tokay1 Windows Server 2012 R2 Standard / x64  OK  OK  OK  OK UNNEEDED, same version exists in internal repository
merida1 macOS 10.14.6 Mojave / x86_64  OK  OK  OK [ OK ]UNNEEDED, same version exists in internal repository

Summary

Package: biocViews
Version: 1.57.3
Command: rm -rf biocViews.buildbin-libdir && mkdir biocViews.buildbin-libdir && /Users/biocbuild/BBS/utils/build-universal.sh biocViews_1.57.3.tar.gz /Library/Frameworks/R.framework/Versions/Current/Resources/bin/R biocViews.buildbin-libdir
StartedAt: 2020-08-13 06:20:44 -0400 (Thu, 13 Aug 2020)
EndedAt: 2020-08-13 06:21:44 -0400 (Thu, 13 Aug 2020)
EllapsedTime: 59.3 seconds
RetCode: 0
Status:  OK 
PackageFile: biocViews_1.57.3.tgz
PackageFileSize: 648.9 KiB

Command output

##############################################################################
##############################################################################
###
### Running command:
###
###   rm -rf biocViews.buildbin-libdir && mkdir biocViews.buildbin-libdir && /Users/biocbuild/BBS/utils/build-universal.sh biocViews_1.57.3.tar.gz /Library/Frameworks/R.framework/Versions/Current/Resources/bin/R biocViews.buildbin-libdir
###
##############################################################################
##############################################################################


>>>>>>> 
>>>>>>> INSTALLATION WITH 'R CMD INSTALL --preclean --no-multiarch --library=biocViews.buildbin-libdir biocViews_1.57.3.tar.gz'
>>>>>>> 

* installing *source* package ‘biocViews’ ...
** using staged installation
** R
** data
** inst
** byte-compile and prepare package for lazy loading
** help
*** installing help indices
** building package indices
** installing vignettes
** testing if installed package can be loaded from temporary location
** testing if installed package can be loaded from final location
** testing if installed package keeps a record of temporary installation path
* DONE (biocViews)