Back to Multiple platform build/check report for BioC 3.12
A[B]CDEFGHIJKLMNOPQRSTUVWXYZ

BUILD report for BiocStyle on tokay1

This page was generated on 2020-08-10 12:15:28 -0400 (Mon, 10 Aug 2020).

TO THE DEVELOPERS/MAINTAINERS OF THE BiocStyle PACKAGE: Please make sure to use the following settings in order to reproduce any error or warning you see on this page.
Package 162/1882HostnameOS / ArchINSTALLBUILDCHECKBUILD BIN
BiocStyle 2.17.0
Bioconductor Package Maintainer
Snapshot Date: 2020-08-09 14:51:29 -0400 (Sun, 09 Aug 2020)
URL: https://git.bioconductor.org/packages/BiocStyle
Branch: master
Last Commit: 7ca310e
Last Changed Date: 2020-04-27 14:35:13 -0400 (Mon, 27 Apr 2020)
malbec1 Linux (Ubuntu 18.04.4 LTS) / x86_64  OK  OK  OK UNNEEDED, same version exists in internal repository
nebbiolo1 Linux (Ubuntu 20.04.1 LTS) / x86_64  OK  OK  OK 
tokay1 Windows Server 2012 R2 Standard / x64  OK [ OK ] OK  OK UNNEEDED, same version exists in internal repository
merida1 macOS 10.14.6 Mojave / x86_64  OK  OK  OK  OK UNNEEDED, same version exists in internal repository

Summary

Package: BiocStyle
Version: 2.17.0
Command: chmod a+r BiocStyle -R && C:\Users\biocbuild\bbs-3.12-bioc\R\bin\R.exe CMD build --keep-empty-dirs --no-resave-data BiocStyle
StartedAt: 2020-08-09 20:00:18 -0400 (Sun, 09 Aug 2020)
EndedAt: 2020-08-09 20:00:33 -0400 (Sun, 09 Aug 2020)
EllapsedTime: 14.8 seconds
RetCode: 0
Status:  OK  
PackageFile: BiocStyle_2.17.0.tar.gz
PackageFileSize: 676.2 KiB

Command output

##############################################################################
##############################################################################
###
### Running command:
###
###   chmod a+r BiocStyle -R && C:\Users\biocbuild\bbs-3.12-bioc\R\bin\R.exe CMD build --keep-empty-dirs --no-resave-data BiocStyle
###
##############################################################################
##############################################################################


* checking for file 'BiocStyle/DESCRIPTION' ... OK
* preparing 'BiocStyle':
* checking DESCRIPTION meta-information ... OK
* installing the package to build vignettes
* creating vignettes ... OK
* checking for LF line-endings in source and make files and shell scripts
* checking for empty or unneeded directories
* building 'BiocStyle_2.17.0.tar.gz'