Back to Multiple platform build/check report for BioC 3.12
[A]BCDEFGHIJKLMNOPQRSTUVWXYZ

BUILD report for affyQCReport on merida1

This page was generated on 2020-08-07 12:22:20 -0400 (Fri, 07 Aug 2020).

TO THE DEVELOPERS/MAINTAINERS OF THE affyQCReport PACKAGE: Please make sure to use the following settings in order to reproduce any error or warning you see on this page.
Package 34/1882HostnameOS / ArchINSTALLBUILDCHECKBUILD BIN
affyQCReport 1.67.0
Craig Parman
Snapshot Date: 2020-08-06 14:50:46 -0400 (Thu, 06 Aug 2020)
URL: https://git.bioconductor.org/packages/affyQCReport
Branch: master
Last Commit: e1927bf
Last Changed Date: 2020-04-27 14:11:46 -0400 (Mon, 27 Apr 2020)
malbec1 Linux (Ubuntu 18.04.4 LTS) / x86_64  OK  OK  OK UNNEEDED, same version exists in internal repository
tokay1 Windows Server 2012 R2 Standard / x64  OK  OK  OK  OK UNNEEDED, same version exists in internal repository
merida1 macOS 10.14.6 Mojave / x86_64  OK [ OK ] OK  OK UNNEEDED, same version exists in internal repository

Summary

Package: affyQCReport
Version: 1.67.0
Command: /Library/Frameworks/R.framework/Versions/Current/Resources/bin/R CMD build --keep-empty-dirs --no-resave-data affyQCReport
StartedAt: 2020-08-06 18:00:59 -0400 (Thu, 06 Aug 2020)
EndedAt: 2020-08-06 18:02:03 -0400 (Thu, 06 Aug 2020)
EllapsedTime: 64.8 seconds
RetCode: 0
Status:  OK 
PackageFile: affyQCReport_1.67.0.tar.gz
PackageFileSize: 206 KiB

Command output

##############################################################################
##############################################################################
###
### Running command:
###
###   /Library/Frameworks/R.framework/Versions/Current/Resources/bin/R CMD build --keep-empty-dirs --no-resave-data affyQCReport
###
##############################################################################
##############################################################################


* checking for file ‘affyQCReport/DESCRIPTION’ ... OK
* preparing ‘affyQCReport’:
* checking DESCRIPTION meta-information ... OK
* installing the package to build vignettes
* creating vignettes ... OK
* checking for LF line-endings in source and make files and shell scripts
* checking for empty or unneeded directories
* building ‘affyQCReport_1.67.0.tar.gz’