Back to Multiple platform build/check report for BioC 3.12
ABCDEFGHIJKLMNOPQ[R]STUVWXYZ

Multiple platform build/check report for BioC 3.12

Results for RBM

This page was generated on 2020-10-21 12:05:25 -0400 (Wed, 21 Oct 2020).

Package 1433/1939HostnameOS / ArchINSTALLBUILDCHECKBUILD BIN
RBM 1.21.0
Dongmei Li
Snapshot Date: 2020-10-20 14:40:34 -0400 (Tue, 20 Oct 2020)
URL: https://git.bioconductor.org/packages/RBM
Branch: master
Last Commit: d9e6d2b
Last Changed Date: 2020-04-27 14:47:50 -0400 (Mon, 27 Apr 2020)
malbec1 Linux (Ubuntu 18.04.4 LTS) / x86_64  OK  OK  OK UNNEEDED, same version exists in internal repository
nebbiolo1 Linux (Ubuntu 20.04.1 LTS) / x86_64  OK  OK  OK 
tokay1 Windows Server 2012 R2 Standard / x64  OK  OK  OK  OK UNNEEDED, same version exists in internal repository
riesling1 Windows Server 2019 Standard / x64  OK  OK  OK  OK 
merida1 macOS 10.14.6 Mojave / x86_64  OK  OK  OK  OK UNNEEDED, same version exists in internal repository