Back to Multiple platform build/check report for BioC 3.12
A[B]CDEFGHIJKLMNOPQRSTUVWXYZ

BUILD report for BiocDockerManager on malbec1

This page was generated on 2020-08-10 11:51:09 -0400 (Mon, 10 Aug 2020).

TO THE DEVELOPERS/MAINTAINERS OF THE BiocDockerManager PACKAGE: Please make sure to use the following settings in order to reproduce any error or warning you see on this page.
Package 150/1882HostnameOS / ArchINSTALLBUILDCHECKBUILD BIN
BiocDockerManager 1.1.2
Maintainer
Snapshot Date: 2020-08-09 14:51:29 -0400 (Sun, 09 Aug 2020)
URL: https://git.bioconductor.org/packages/BiocDockerManager
Branch: master
Last Commit: c1c99f1
Last Changed Date: 2020-07-01 11:30:36 -0400 (Wed, 01 Jul 2020)
malbec1 Linux (Ubuntu 18.04.4 LTS) / x86_64  OK [ OK ] OK UNNEEDED, same version exists in internal repository
nebbiolo1 Linux (Ubuntu 20.04.1 LTS) / x86_64  OK  OK  OK 
tokay1 Windows Server 2012 R2 Standard / x64  OK  OK  OK  OK UNNEEDED, same version exists in internal repository
merida1 macOS 10.14.6 Mojave / x86_64  OK  OK  OK  OK UNNEEDED, same version exists in internal repository

Summary

Package: BiocDockerManager
Version: 1.1.2
Command: /home/biocbuild/bbs-3.12-bioc/R/bin/R CMD build --keep-empty-dirs --no-resave-data BiocDockerManager
StartedAt: 2020-08-09 22:18:40 -0400 (Sun, 09 Aug 2020)
EndedAt: 2020-08-09 22:19:15 -0400 (Sun, 09 Aug 2020)
EllapsedTime: 35.5 seconds
RetCode: 0
Status:  OK 
PackageFile: BiocDockerManager_1.1.2.tar.gz
PackageFileSize: 233.9 KiB

Command output

##############################################################################
##############################################################################
###
### Running command:
###
###   /home/biocbuild/bbs-3.12-bioc/R/bin/R CMD build --keep-empty-dirs --no-resave-data BiocDockerManager
###
##############################################################################
##############################################################################


* checking for file ‘BiocDockerManager/DESCRIPTION’ ... OK
* preparing ‘BiocDockerManager’:
* checking DESCRIPTION meta-information ... OK
* installing the package to build vignettes
* creating vignettes ... OK
* checking for LF line-endings in source and make files and shell scripts
* checking for empty or unneeded directories
* building ‘BiocDockerManager_1.1.2.tar.gz’