Back to Multiple platform build/check report for BioC 3.12
AB[C]DEFGHIJKLMNOPQRSTUVWXYZ

BUILD report for celda on malbec1

This page was generated on 2020-10-27 11:50:15 -0400 (Tue, 27 Oct 2020).

TO THE DEVELOPERS/MAINTAINERS OF THE celda PACKAGE: Please make sure to use the following settings in order to reproduce any error or warning you see on this page.
Package 248/1974HostnameOS / ArchINSTALLBUILDCHECKBUILD BIN
celda 1.5.12
Joshua Campbell
Snapshot Date: 2020-10-26 14:42:55 -0400 (Mon, 26 Oct 2020)
URL: https://git.bioconductor.org/packages/celda
Branch: master
Last Commit: bec50d4
Last Changed Date: 2020-10-21 16:20:32 -0400 (Wed, 21 Oct 2020)
malbec1 Linux (Ubuntu 18.04.4 LTS) / x86_64  OK [ OK ] OK UNNEEDED, same version exists in internal repository
nebbiolo1 Linux (Ubuntu 20.04.1 LTS) / x86_64  OK  OK  OK 
tokay1 Windows Server 2012 R2 Standard / x64  OK  OK  OK  OK UNNEEDED, same version exists in internal repository
riesling1 Windows Server 2019 Standard / x64  OK  OK  OK  OK 
merida1 macOS 10.14.6 Mojave / x86_64  OK  OK  OK  OK UNNEEDED, same version exists in internal repository

Summary

Package: celda
Version: 1.5.12
Command: /home/biocbuild/bbs-3.12-bioc/R/bin/R CMD build --keep-empty-dirs --no-resave-data celda
StartedAt: 2020-10-26 18:36:10 -0400 (Mon, 26 Oct 2020)
EndedAt: 2020-10-26 18:47:42 -0400 (Mon, 26 Oct 2020)
EllapsedTime: 691.6 seconds
RetCode: 0
Status:  OK 
PackageFile: celda_1.5.12.tar.gz
PackageFileSize: 1.193 MiB

Command output

##############################################################################
##############################################################################
###
### Running command:
###
###   /home/biocbuild/bbs-3.12-bioc/R/bin/R CMD build --keep-empty-dirs --no-resave-data celda
###
##############################################################################
##############################################################################


* checking for file ‘celda/DESCRIPTION’ ... OK
* preparing ‘celda’:
* checking DESCRIPTION meta-information ... OK
* cleaning src
* installing the package to build vignettes
* creating vignettes ... OK
* cleaning src
* checking for LF line-endings in source and make files and shell scripts
* checking for empty or unneeded directories
* building ‘celda_1.5.12.tar.gz’