Back to Multiple platform build/check report for BioC 3.12
AB[C]DEFGHIJKLMNOPQRSTUVWXYZ

INSTALL report for chipseq on malbec1

This page was generated on 2021-04-18 12:03:43 -0400 (Sun, 18 Apr 2021).

To the developers/maintainers of the chipseq package:
Please make sure to use the following settings in order to reproduce any error or warning you see on this page.
Package 289/1974HostnameOS / ArchINSTALLBUILDCHECKBUILD BIN
chipseq 1.40.0  (landing page)
Bioconductor Package Maintainer
Snapshot Date: 2021-04-17 14:51:09 -0400 (Sat, 17 Apr 2021)
URL: https://git.bioconductor.org/packages/chipseq
Branch: RELEASE_3_12
Last Commit: 84bcbc0
Last Changed Date: 2020-10-27 10:35:54 -0400 (Tue, 27 Oct 2020)
malbec1Linux (Ubuntu 18.04.5 LTS) / x86_64  OK    OK    WARNINGS  UNNEEDED, same version exists in internal repository
tokay1Windows Server 2012 R2 Standard / x64  OK    OK    WARNINGS    OK  UNNEEDED, same version exists in internal repository
merida1macOS 10.14.6 Mojave / x86_64  OK    OK    WARNINGS    OK  UNNEEDED, same version exists in internal repository

Summary

Package: chipseq
Version: 1.40.0
Command: /home/biocbuild/bbs-3.12-bioc/R/bin/R CMD INSTALL chipseq
StartedAt: 2021-04-17 16:25:22 -0400 (Sat, 17 Apr 2021)
EndedAt: 2021-04-17 16:25:52 -0400 (Sat, 17 Apr 2021)
EllapsedTime: 30.5 seconds
RetCode: 0
Status:   OK  

Command output

##############################################################################
##############################################################################
###
### Running command:
###
###   /home/biocbuild/bbs-3.12-bioc/R/bin/R CMD INSTALL chipseq
###
##############################################################################
##############################################################################


* installing to library ‘/home/biocbuild/bbs-3.12-bioc/R/library’
* installing *source* package ‘chipseq’ ...
** using staged installation
** libs
gcc -I"/home/biocbuild/bbs-3.12-bioc/R/include" -DNDEBUG   -I/usr/local/include   -fpic  -g -O2  -Wall -c rlesumprod.c -o rlesumprod.o
gcc -shared -L/home/biocbuild/bbs-3.12-bioc/R/lib -L/usr/local/lib -o chipseq.so rlesumprod.o -L/home/biocbuild/bbs-3.12-bioc/R/lib -lR
installing to /home/biocbuild/bbs-3.12-bioc/R/library/00LOCK-chipseq/00new/chipseq/libs
** R
** data
** inst
** byte-compile and prepare package for lazy loading
** help
*** installing help indices
** building package indices
** installing vignettes
** testing if installed package can be loaded from temporary location
** checking absolute paths in shared objects and dynamic libraries
** testing if installed package can be loaded from final location
** testing if installed package keeps a record of temporary installation path
* DONE (chipseq)