Back to Multiple platform build/check report for BioC 3.12
A[B]CDEFGHIJKLMNOPQRSTUVWXYZ

BUILD report for BaalChIP on tokay1

This page was generated on 2020-08-13 11:41:26 -0400 (Thu, 13 Aug 2020).

TO THE DEVELOPERS/MAINTAINERS OF THE BaalChIP PACKAGE: Please make sure to use the following settings in order to reproduce any error or warning you see on this page.
Package 99/1885HostnameOS / ArchINSTALLBUILDCHECKBUILD BIN
BaalChIP 1.15.0
Ines de Santiago
Snapshot Date: 2020-08-12 14:52:00 -0400 (Wed, 12 Aug 2020)
URL: https://git.bioconductor.org/packages/BaalChIP
Branch: master
Last Commit: 53476ef
Last Changed Date: 2020-04-27 15:01:46 -0400 (Mon, 27 Apr 2020)
malbec1 Linux (Ubuntu 18.04.4 LTS) / x86_64  OK  OK  WARNINGS UNNEEDED, same version exists in internal repository
nebbiolo1 Linux (Ubuntu 20.04.1 LTS) / x86_64  OK  OK  WARNINGS 
tokay1 Windows Server 2012 R2 Standard / x64  OK [ OK ] WARNINGS  OK UNNEEDED, same version exists in internal repository
merida1 macOS 10.14.6 Mojave / x86_64  OK  OK  WARNINGS  OK UNNEEDED, same version exists in internal repository

Summary

Package: BaalChIP
Version: 1.15.0
Command: chmod a+r BaalChIP -R && C:\Users\biocbuild\bbs-3.12-bioc\R\bin\R.exe CMD build --keep-empty-dirs --no-resave-data BaalChIP
StartedAt: 2020-08-12 21:26:48 -0400 (Wed, 12 Aug 2020)
EndedAt: 2020-08-12 21:30:07 -0400 (Wed, 12 Aug 2020)
EllapsedTime: 199.0 seconds
RetCode: 0
Status:  OK  
PackageFile: BaalChIP_1.15.0.tar.gz
PackageFileSize: 44.73 MiB

Command output

##############################################################################
##############################################################################
###
### Running command:
###
###   chmod a+r BaalChIP -R && C:\Users\biocbuild\bbs-3.12-bioc\R\bin\R.exe CMD build --keep-empty-dirs --no-resave-data BaalChIP
###
##############################################################################
##############################################################################


* checking for file 'BaalChIP/DESCRIPTION' ... OK
* preparing 'BaalChIP':
* checking DESCRIPTION meta-information ... OK
* installing the package to build vignettes
* creating vignettes ... OK
* checking for LF line-endings in source and make files and shell scripts
* checking for empty or unneeded directories
* building 'BaalChIP_1.15.0.tar.gz'