Back to Multiple platform build/check report for BioC 3.12
A[B]CDEFGHIJKLMNOPQRSTUVWXYZ

INSTALL report for BGmix on merida1

This page was generated on 2020-08-11 11:52:20 -0400 (Tue, 11 Aug 2020).

TO THE DEVELOPERS/MAINTAINERS OF THE BGmix PACKAGE: Please make sure to use the following settings in order to reproduce any error or warning you see on this page.
Package 134/1885HostnameOS / ArchINSTALLBUILDCHECKBUILD BIN
BGmix 1.49.0
Alex Lewin
Snapshot Date: 2020-08-10 14:50:56 -0400 (Mon, 10 Aug 2020)
URL: https://git.bioconductor.org/packages/BGmix
Branch: master
Last Commit: cd858ec
Last Changed Date: 2020-04-27 14:16:11 -0400 (Mon, 27 Apr 2020)
malbec1 Linux (Ubuntu 18.04.4 LTS) / x86_64  OK  OK  WARNINGS UNNEEDED, same version exists in internal repository
nebbiolo1 Linux (Ubuntu 20.04.1 LTS) / x86_64  OK  OK  NA 
tokay1 Windows Server 2012 R2 Standard / x64 ...NOT SUPPORTED...
merida1 macOS 10.14.6 Mojave / x86_64 [ OK ] OK  OK  OK UNNEEDED, same version exists in internal repository

Summary

Package: BGmix
Version: 1.49.0
Command: /Library/Frameworks/R.framework/Versions/Current/Resources/bin/R CMD INSTALL BGmix
StartedAt: 2020-08-10 16:12:43 -0400 (Mon, 10 Aug 2020)
EndedAt: 2020-08-10 16:13:20 -0400 (Mon, 10 Aug 2020)
EllapsedTime: 36.5 seconds
RetCode: 0
Status:  OK 

Command output

##############################################################################
##############################################################################
###
### Running command:
###
###   /Library/Frameworks/R.framework/Versions/Current/Resources/bin/R CMD INSTALL BGmix
###
##############################################################################
##############################################################################


* installing to library ‘/Library/Frameworks/R.framework/Versions/4.0/Resources/library’
* installing *source* package ‘BGmix’ ...
** using staged installation
checking for gcc... clang -mmacosx-version-min=10.13
checking for C compiler default output file name... a.out
checking whether the C compiler works... yes
checking whether we are cross compiling... no
checking for suffix of executables... 
checking for suffix of object files... o
checking whether we are using the GNU C compiler... yes
checking whether clang -mmacosx-version-min=10.13 accepts -g... yes
checking for clang -mmacosx-version-min=10.13 option to accept ISO C89... none needed
checking for clang -mmacosx-version-min=10.13 option to accept ISO C99... none needed
checking for cos in -lm... yes
Untarring Boost header files...
checking for an ANSI C-conforming const... yes
checking for inline... inline
configure: creating ./config.status
config.status: creating src/Makevars
** libs
clang++ -mmacosx-version-min=10.13 -std=gnu++11 -I"/Library/Frameworks/R.framework/Resources/include" -DNDEBUG -I ../boostIncl  -I/usr/local/include   -fPIC  -Wall -g -O2  -DUSING_R -c BGmix_main.cpp -o BGmix_main.o
In file included from BGmix_main.cpp:25:
In file included from ./updates_BGmix.h:1:
In file included from ./rand.hh:32:
In file included from ../boostIncl/boost/random.hpp:36:
In file included from ../boostIncl/boost/random/linear_congruential.hpp:25:
../boostIncl/boost/random/detail/const_mod.hpp:152:5: warning: unused typedef 'boost_static_assert_typedef_152' [-Wunused-local-typedef]
    BOOST_STATIC_ASSERT(boost::integer_traits<IntType>::is_signed);
    ^
../boostIncl/boost/static_assert.hpp:105:10: note: expanded from macro 'BOOST_STATIC_ASSERT'
         BOOST_JOIN(boost_static_assert_typedef_, __LINE__)
         ^
../boostIncl/boost/config/suffix.hpp:521:28: note: expanded from macro 'BOOST_JOIN'
#define BOOST_JOIN( X, Y ) BOOST_DO_JOIN( X, Y )
                           ^
../boostIncl/boost/config/suffix.hpp:522:31: note: expanded from macro 'BOOST_DO_JOIN'
#define BOOST_DO_JOIN( X, Y ) BOOST_DO_JOIN2(X,Y)
                              ^
../boostIncl/boost/config/suffix.hpp:523:32: note: expanded from macro 'BOOST_DO_JOIN2'
#define BOOST_DO_JOIN2( X, Y ) X##Y
                               ^
<scratch space>:32:1: note: expanded from here
boost_static_assert_typedef_152
^
In file included from BGmix_main.cpp:25:
In file included from ./updates_BGmix.h:1:
In file included from ./rand.hh:32:
In file included from ../boostIncl/boost/random.hpp:36:
In file included from ../boostIncl/boost/random/linear_congruential.hpp:25:
../boostIncl/boost/random/detail/const_mod.hpp:148:5: warning: unused typedef 'boost_static_assert_typedef_148' [-Wunused-local-typedef]
    BOOST_STATIC_ASSERT(m > 0);
    ^
../boostIncl/boost/static_assert.hpp:105:10: note: expanded from macro 'BOOST_STATIC_ASSERT'
         BOOST_JOIN(boost_static_assert_typedef_, __LINE__)
         ^
../boostIncl/boost/config/suffix.hpp:521:28: note: expanded from macro 'BOOST_JOIN'
#define BOOST_JOIN( X, Y ) BOOST_DO_JOIN( X, Y )
                           ^
../boostIncl/boost/config/suffix.hpp:522:31: note: expanded from macro 'BOOST_DO_JOIN'
#define BOOST_DO_JOIN( X, Y ) BOOST_DO_JOIN2(X,Y)
                              ^
../boostIncl/boost/config/suffix.hpp:523:32: note: expanded from macro 'BOOST_DO_JOIN2'
#define BOOST_DO_JOIN2( X, Y ) X##Y
                               ^
<scratch space>:30:1: note: expanded from here
boost_static_assert_typedef_148
^
In file included from BGmix_main.cpp:25:
In file included from ./updates_BGmix.h:1:
In file included from ./rand.hh:32:
In file included from ../boostIncl/boost/random.hpp:36:
../boostIncl/boost/random/linear_congruential.hpp:63:5: warning: unused typedef 'boost_static_assert_typedef_63' [-Wunused-local-typedef]
    BOOST_STATIC_ASSERT(std::numeric_limits<IntType>::is_integer);
    ^
../boostIncl/boost/static_assert.hpp:105:10: note: expanded from macro 'BOOST_STATIC_ASSERT'
         BOOST_JOIN(boost_static_assert_typedef_, __LINE__)
         ^
../boostIncl/boost/config/suffix.hpp:521:28: note: expanded from macro 'BOOST_JOIN'
#define BOOST_JOIN( X, Y ) BOOST_DO_JOIN( X, Y )
                           ^
../boostIncl/boost/config/suffix.hpp:522:31: note: expanded from macro 'BOOST_DO_JOIN'
#define BOOST_DO_JOIN( X, Y ) BOOST_DO_JOIN2(X,Y)
                              ^
../boostIncl/boost/config/suffix.hpp:523:32: note: expanded from macro 'BOOST_DO_JOIN2'
#define BOOST_DO_JOIN2( X, Y ) X##Y
                               ^
<scratch space>:34:1: note: expanded from here
boost_static_assert_typedef_63
^
In file included from BGmix_main.cpp:25:
In file included from ./updates_BGmix.h:1:
In file included from ./rand.hh:32:
In file included from ../boostIncl/boost/random.hpp:38:
../boostIncl/boost/random/inversive_congruential.hpp:52:5: warning: unused typedef 'boost_static_assert_typedef_52' [-Wunused-local-typedef]
    BOOST_STATIC_ASSERT(a >= 1);
    ^
../boostIncl/boost/static_assert.hpp:105:10: note: expanded from macro 'BOOST_STATIC_ASSERT'
         BOOST_JOIN(boost_static_assert_typedef_, __LINE__)
         ^
../boostIncl/boost/config/suffix.hpp:521:28: note: expanded from macro 'BOOST_JOIN'
#define BOOST_JOIN( X, Y ) BOOST_DO_JOIN( X, Y )
                           ^
../boostIncl/boost/config/suffix.hpp:522:31: note: expanded from macro 'BOOST_DO_JOIN'
#define BOOST_DO_JOIN( X, Y ) BOOST_DO_JOIN2(X,Y)
                              ^
../boostIncl/boost/config/suffix.hpp:523:32: note: expanded from macro 'BOOST_DO_JOIN2'
#define BOOST_DO_JOIN2( X, Y ) X##Y
                               ^
<scratch space>:40:1: note: expanded from here
boost_static_assert_typedef_52
^
In file included from BGmix_main.cpp:25:
In file included from ./updates_BGmix.h:1:
In file included from ./rand.hh:32:
In file included from ../boostIncl/boost/random.hpp:38:
../boostIncl/boost/random/inversive_congruential.hpp:51:5: warning: unused typedef 'boost_static_assert_typedef_51' [-Wunused-local-typedef]
    BOOST_STATIC_ASSERT(p > 1);
    ^
../boostIncl/boost/static_assert.hpp:105:10: note: expanded from macro 'BOOST_STATIC_ASSERT'
         BOOST_JOIN(boost_static_assert_typedef_, __LINE__)
         ^
../boostIncl/boost/config/suffix.hpp:521:28: note: expanded from macro 'BOOST_JOIN'
#define BOOST_JOIN( X, Y ) BOOST_DO_JOIN( X, Y )
                           ^
../boostIncl/boost/config/suffix.hpp:522:31: note: expanded from macro 'BOOST_DO_JOIN'
#define BOOST_DO_JOIN( X, Y ) BOOST_DO_JOIN2(X,Y)
                              ^
../boostIncl/boost/config/suffix.hpp:523:32: note: expanded from macro 'BOOST_DO_JOIN2'
#define BOOST_DO_JOIN2( X, Y ) X##Y
                               ^
<scratch space>:38:1: note: expanded from here
boost_static_assert_typedef_51
^
In file included from BGmix_main.cpp:25:
In file included from ./updates_BGmix.h:1:
In file included from ./rand.hh:32:
In file included from ../boostIncl/boost/random.hpp:38:
../boostIncl/boost/random/inversive_congruential.hpp:50:5: warning: unused typedef 'boost_static_assert_typedef_50' [-Wunused-local-typedef]
    BOOST_STATIC_ASSERT(b >= 0);
    ^
../boostIncl/boost/static_assert.hpp:105:10: note: expanded from macro 'BOOST_STATIC_ASSERT'
         BOOST_JOIN(boost_static_assert_typedef_, __LINE__)
         ^
../boostIncl/boost/config/suffix.hpp:521:28: note: expanded from macro 'BOOST_JOIN'
#define BOOST_JOIN( X, Y ) BOOST_DO_JOIN( X, Y )
                           ^
../boostIncl/boost/config/suffix.hpp:522:31: note: expanded from macro 'BOOST_DO_JOIN'
#define BOOST_DO_JOIN( X, Y ) BOOST_DO_JOIN2(X,Y)
                              ^
../boostIncl/boost/config/suffix.hpp:523:32: note: expanded from macro 'BOOST_DO_JOIN2'
#define BOOST_DO_JOIN2( X, Y ) X##Y
                               ^
<scratch space>:36:1: note: expanded from here
boost_static_assert_typedef_50
^
In file included from BGmix_main.cpp:25:
In file included from ./updates_BGmix.h:1:
In file included from ./rand.hh:32:
In file included from ../boostIncl/boost/random.hpp:39:
../boostIncl/boost/random/shuffle_output.hpp:124:5: warning: unused typedef 'boost_static_assert_typedef_124' [-Wunused-local-typedef]
    BOOST_STATIC_ASSERT(std::numeric_limits<result_type>::is_integer);
    ^
../boostIncl/boost/static_assert.hpp:105:10: note: expanded from macro 'BOOST_STATIC_ASSERT'
         BOOST_JOIN(boost_static_assert_typedef_, __LINE__)
         ^
../boostIncl/boost/config/suffix.hpp:521:28: note: expanded from macro 'BOOST_JOIN'
#define BOOST_JOIN( X, Y ) BOOST_DO_JOIN( X, Y )
                           ^
../boostIncl/boost/config/suffix.hpp:522:31: note: expanded from macro 'BOOST_DO_JOIN'
#define BOOST_DO_JOIN( X, Y ) BOOST_DO_JOIN2(X,Y)
                              ^
../boostIncl/boost/config/suffix.hpp:523:32: note: expanded from macro 'BOOST_DO_JOIN2'
#define BOOST_DO_JOIN2( X, Y ) X##Y
                               ^
<scratch space>:42:1: note: expanded from here
boost_static_assert_typedef_124
^
In file included from BGmix_main.cpp:25:
In file included from ./updates_BGmix.h:1:
In file included from ./rand.hh:32:
In file included from ../boostIncl/boost/random.hpp:40:
../boostIncl/boost/random/mersenne_twister.hpp:99:5: warning: unused typedef 'boost_static_assert_typedef_99' [-Wunused-local-typedef]
    BOOST_STATIC_ASSERT(!std::numeric_limits<result_type>::is_signed);
    ^
../boostIncl/boost/static_assert.hpp:105:10: note: expanded from macro 'BOOST_STATIC_ASSERT'
         BOOST_JOIN(boost_static_assert_typedef_, __LINE__)
         ^
../boostIncl/boost/config/suffix.hpp:521:28: note: expanded from macro 'BOOST_JOIN'
#define BOOST_JOIN( X, Y ) BOOST_DO_JOIN( X, Y )
                           ^
../boostIncl/boost/config/suffix.hpp:522:31: note: expanded from macro 'BOOST_DO_JOIN'
#define BOOST_DO_JOIN( X, Y ) BOOST_DO_JOIN2(X,Y)
                              ^
../boostIncl/boost/config/suffix.hpp:523:32: note: expanded from macro 'BOOST_DO_JOIN2'
#define BOOST_DO_JOIN2( X, Y ) X##Y
                               ^
<scratch space>:44:1: note: expanded from here
boost_static_assert_typedef_99
^
In file included from BGmix_main.cpp:25:
In file included from ./updates_BGmix.h:1:
In file included from ./rand.hh:32:
In file included from ../boostIncl/boost/random.hpp:42:
In file included from ../boostIncl/boost/random/ranlux.hpp:20:
../boostIncl/boost/random/subtract_with_carry.hpp:83:5: warning: unused typedef 'boost_static_assert_typedef_83' [-Wunused-local-typedef]
    BOOST_STATIC_ASSERT(std::numeric_limits<result_type>::is_signed);
    ^
../boostIncl/boost/static_assert.hpp:105:10: note: expanded from macro 'BOOST_STATIC_ASSERT'
         BOOST_JOIN(boost_static_assert_typedef_, __LINE__)
         ^
../boostIncl/boost/config/suffix.hpp:521:28: note: expanded from macro 'BOOST_JOIN'
#define BOOST_JOIN( X, Y ) BOOST_DO_JOIN( X, Y )
                           ^
../boostIncl/boost/config/suffix.hpp:522:31: note: expanded from macro 'BOOST_DO_JOIN'
#define BOOST_DO_JOIN( X, Y ) BOOST_DO_JOIN2(X,Y)
                              ^
../boostIncl/boost/config/suffix.hpp:523:32: note: expanded from macro 'BOOST_DO_JOIN2'
#define BOOST_DO_JOIN2( X, Y ) X##Y
                               ^
<scratch space>:48:1: note: expanded from here
boost_static_assert_typedef_83
^
In file included from BGmix_main.cpp:25:
In file included from ./updates_BGmix.h:1:
In file included from ./rand.hh:32:
In file included from ../boostIncl/boost/random.hpp:42:
In file included from ../boostIncl/boost/random/ranlux.hpp:20:
../boostIncl/boost/random/subtract_with_carry.hpp:84:5: warning: unused typedef 'boost_static_assert_typedef_84' [-Wunused-local-typedef]
    BOOST_STATIC_ASSERT(std::numeric_limits<result_type>::is_integer);
    ^
../boostIncl/boost/static_assert.hpp:105:10: note: expanded from macro 'BOOST_STATIC_ASSERT'
         BOOST_JOIN(boost_static_assert_typedef_, __LINE__)
         ^
../boostIncl/boost/config/suffix.hpp:521:28: note: expanded from macro 'BOOST_JOIN'
#define BOOST_JOIN( X, Y ) BOOST_DO_JOIN( X, Y )
                           ^
../boostIncl/boost/config/suffix.hpp:522:31: note: expanded from macro 'BOOST_DO_JOIN'
#define BOOST_DO_JOIN( X, Y ) BOOST_DO_JOIN2(X,Y)
                              ^
../boostIncl/boost/config/suffix.hpp:523:32: note: expanded from macro 'BOOST_DO_JOIN2'
#define BOOST_DO_JOIN2( X, Y ) X##Y
                               ^
<scratch space>:50:1: note: expanded from here
boost_static_assert_typedef_84
^
In file included from BGmix_main.cpp:25:
In file included from ./updates_BGmix.h:1:
In file included from ./rand.hh:32:
In file included from ../boostIncl/boost/random.hpp:43:
../boostIncl/boost/random/linear_feedback_shift.hpp:56:5: warning: unused typedef 'boost_static_assert_typedef_56' [-Wunused-local-typedef]
    BOOST_STATIC_ASSERT(!std::numeric_limits<UIntType>::is_signed);
    ^
../boostIncl/boost/static_assert.hpp:105:10: note: expanded from macro 'BOOST_STATIC_ASSERT'
         BOOST_JOIN(boost_static_assert_typedef_, __LINE__)
         ^
../boostIncl/boost/config/suffix.hpp:521:28: note: expanded from macro 'BOOST_JOIN'
#define BOOST_JOIN( X, Y ) BOOST_DO_JOIN( X, Y )
                           ^
../boostIncl/boost/config/suffix.hpp:522:31: note: expanded from macro 'BOOST_DO_JOIN'
#define BOOST_DO_JOIN( X, Y ) BOOST_DO_JOIN2(X,Y)
                              ^
../boostIncl/boost/config/suffix.hpp:523:32: note: expanded from macro 'BOOST_DO_JOIN2'
#define BOOST_DO_JOIN2( X, Y ) X##Y
                               ^
<scratch space>:58:1: note: expanded from here
boost_static_assert_typedef_56
^
In file included from BGmix_main.cpp:25:
In file included from ./updates_BGmix.h:1:
In file included from ./rand.hh:32:
In file included from ../boostIncl/boost/random.hpp:43:
../boostIncl/boost/random/linear_feedback_shift.hpp:55:5: warning: unused typedef 'boost_static_assert_typedef_55' [-Wunused-local-typedef]
    BOOST_STATIC_ASSERT(std::numeric_limits<UIntType>::is_integer);
    ^
../boostIncl/boost/static_assert.hpp:105:10: note: expanded from macro 'BOOST_STATIC_ASSERT'
         BOOST_JOIN(boost_static_assert_typedef_, __LINE__)
         ^
../boostIncl/boost/config/suffix.hpp:521:28: note: expanded from macro 'BOOST_JOIN'
#define BOOST_JOIN( X, Y ) BOOST_DO_JOIN( X, Y )
                           ^
../boostIncl/boost/config/suffix.hpp:522:31: note: expanded from macro 'BOOST_DO_JOIN'
#define BOOST_DO_JOIN( X, Y ) BOOST_DO_JOIN2(X,Y)
                              ^
../boostIncl/boost/config/suffix.hpp:523:32: note: expanded from macro 'BOOST_DO_JOIN2'
#define BOOST_DO_JOIN2( X, Y ) X##Y
                               ^
<scratch space>:56:1: note: expanded from here
boost_static_assert_typedef_55
^
In file included from BGmix_main.cpp:25:
In file included from ./updates_BGmix.h:1:
In file included from ./rand.hh:32:
In file included from ../boostIncl/boost/random.hpp:43:
../boostIncl/boost/random/linear_feedback_shift.hpp:69:5: warning: unused typedef 'boost_static_assert_typedef_69' [-Wunused-local-typedef]
    BOOST_STATIC_ASSERT(std::numeric_limits<UIntType>::is_integer);
    ^
../boostIncl/boost/static_assert.hpp:105:10: note: expanded from macro 'BOOST_STATIC_ASSERT'
         BOOST_JOIN(boost_static_assert_typedef_, __LINE__)
         ^
../boostIncl/boost/config/suffix.hpp:521:28: note: expanded from macro 'BOOST_JOIN'
#define BOOST_JOIN( X, Y ) BOOST_DO_JOIN( X, Y )
                           ^
../boostIncl/boost/config/suffix.hpp:522:31: note: expanded from macro 'BOOST_DO_JOIN'
#define BOOST_DO_JOIN( X, Y ) BOOST_DO_JOIN2(X,Y)
                              ^
../boostIncl/boost/config/suffix.hpp:523:32: note: expanded from macro 'BOOST_DO_JOIN2'
#define BOOST_DO_JOIN2( X, Y ) X##Y
                               ^
<scratch space>:60:1: note: expanded from here
boost_static_assert_typedef_69
^
In file included from BGmix_main.cpp:25:
In file included from ./updates_BGmix.h:1:
In file included from ./rand.hh:32:
In file included from ../boostIncl/boost/random.hpp:43:
../boostIncl/boost/random/linear_feedback_shift.hpp:70:5: warning: unused typedef 'boost_static_assert_typedef_70' [-Wunused-local-typedef]
    BOOST_STATIC_ASSERT(!std::numeric_limits<UIntType>::is_signed);
    ^
../boostIncl/boost/static_assert.hpp:105:10: note: expanded from macro 'BOOST_STATIC_ASSERT'
         BOOST_JOIN(boost_static_assert_typedef_, __LINE__)
         ^
../boostIncl/boost/config/suffix.hpp:521:28: note: expanded from macro 'BOOST_JOIN'
#define BOOST_JOIN( X, Y ) BOOST_DO_JOIN( X, Y )
                           ^
../boostIncl/boost/config/suffix.hpp:522:31: note: expanded from macro 'BOOST_DO_JOIN'
#define BOOST_DO_JOIN( X, Y ) BOOST_DO_JOIN2(X,Y)
                              ^
../boostIncl/boost/config/suffix.hpp:523:32: note: expanded from macro 'BOOST_DO_JOIN2'
#define BOOST_DO_JOIN2( X, Y ) X##Y
                               ^
<scratch space>:62:1: note: expanded from here
boost_static_assert_typedef_70
^
In file included from BGmix_main.cpp:25:
In file included from ./updates_BGmix.h:1:
In file included from ./rand.hh:32:
In file included from ../boostIncl/boost/random.hpp:44:
../boostIncl/boost/random/xor_combine.hpp:69:5: warning: unused typedef 'boost_static_assert_typedef_69' [-Wunused-local-typedef]
    BOOST_STATIC_ASSERT(std::numeric_limits<typename base1_type::result_type>::digits >= std::numeric_limits<typename base2_type::result_type>::digits);
    ^
../boostIncl/boost/static_assert.hpp:105:10: note: expanded from macro 'BOOST_STATIC_ASSERT'
         BOOST_JOIN(boost_static_assert_typedef_, __LINE__)
         ^
../boostIncl/boost/config/suffix.hpp:521:28: note: expanded from macro 'BOOST_JOIN'
#define BOOST_JOIN( X, Y ) BOOST_DO_JOIN( X, Y )
                           ^
../boostIncl/boost/config/suffix.hpp:522:31: note: expanded from macro 'BOOST_DO_JOIN'
#define BOOST_DO_JOIN( X, Y ) BOOST_DO_JOIN2(X,Y)
                              ^
../boostIncl/boost/config/suffix.hpp:523:32: note: expanded from macro 'BOOST_DO_JOIN2'
#define BOOST_DO_JOIN2( X, Y ) X##Y
                               ^
<scratch space>:68:1: note: expanded from here
boost_static_assert_typedef_69
^
In file included from BGmix_main.cpp:25:
In file included from ./updates_BGmix.h:1:
In file included from ./rand.hh:32:
In file included from ../boostIncl/boost/random.hpp:44:
../boostIncl/boost/random/xor_combine.hpp:67:5: warning: unused typedef 'boost_static_assert_typedef_67' [-Wunused-local-typedef]
    BOOST_STATIC_ASSERT(std::numeric_limits<typename base1_type::result_type>::is_integer);
    ^
../boostIncl/boost/static_assert.hpp:105:10: note: expanded from macro 'BOOST_STATIC_ASSERT'
         BOOST_JOIN(boost_static_assert_typedef_, __LINE__)
         ^
../boostIncl/boost/config/suffix.hpp:521:28: note: expanded from macro 'BOOST_JOIN'
#define BOOST_JOIN( X, Y ) BOOST_DO_JOIN( X, Y )
                           ^
../boostIncl/boost/config/suffix.hpp:522:31: note: expanded from macro 'BOOST_DO_JOIN'
#define BOOST_DO_JOIN( X, Y ) BOOST_DO_JOIN2(X,Y)
                              ^
../boostIncl/boost/config/suffix.hpp:523:32: note: expanded from macro 'BOOST_DO_JOIN2'
#define BOOST_DO_JOIN2( X, Y ) X##Y
                               ^
<scratch space>:64:1: note: expanded from here
boost_static_assert_typedef_67
^
In file included from BGmix_main.cpp:25:
In file included from ./updates_BGmix.h:1:
In file included from ./rand.hh:32:
In file included from ../boostIncl/boost/random.hpp:44:
../boostIncl/boost/random/xor_combine.hpp:68:5: warning: unused typedef 'boost_static_assert_typedef_68' [-Wunused-local-typedef]
    BOOST_STATIC_ASSERT(std::numeric_limits<typename base2_type::result_type>::is_integer);
    ^
../boostIncl/boost/static_assert.hpp:105:10: note: expanded from macro 'BOOST_STATIC_ASSERT'
         BOOST_JOIN(boost_static_assert_typedef_, __LINE__)
         ^
../boostIncl/boost/config/suffix.hpp:521:28: note: expanded from macro 'BOOST_JOIN'
#define BOOST_JOIN( X, Y ) BOOST_DO_JOIN( X, Y )
                           ^
../boostIncl/boost/config/suffix.hpp:522:31: note: expanded from macro 'BOOST_DO_JOIN'
#define BOOST_DO_JOIN( X, Y ) BOOST_DO_JOIN2(X,Y)
                              ^
../boostIncl/boost/config/suffix.hpp:523:32: note: expanded from macro 'BOOST_DO_JOIN2'
#define BOOST_DO_JOIN2( X, Y ) X##Y
                               ^
<scratch space>:66:1: note: expanded from here
boost_static_assert_typedef_68
^
In file included from BGmix_main.cpp:25:
In file included from ./updates_BGmix.h:1:
In file included from ./rand.hh:32:
In file included from ../boostIncl/boost/random.hpp:53:
In file included from ../boostIncl/boost/random/random_number_generator.hpp:22:
In file included from ../boostIncl/boost/random/uniform_int.hpp:26:
../boostIncl/boost/random/uniform_smallint.hpp:121:5: warning: unused typedef 'boost_static_assert_typedef_121' [-Wunused-local-typedef]
    BOOST_STATIC_ASSERT(std::numeric_limits<IntType>::is_integer);
    ^
../boostIncl/boost/static_assert.hpp:105:10: note: expanded from macro 'BOOST_STATIC_ASSERT'
         BOOST_JOIN(boost_static_assert_typedef_, __LINE__)
         ^
../boostIncl/boost/config/suffix.hpp:521:28: note: expanded from macro 'BOOST_JOIN'
#define BOOST_JOIN( X, Y ) BOOST_DO_JOIN( X, Y )
                           ^
../boostIncl/boost/config/suffix.hpp:522:31: note: expanded from macro 'BOOST_DO_JOIN'
#define BOOST_DO_JOIN( X, Y ) BOOST_DO_JOIN2(X,Y)
                              ^
../boostIncl/boost/config/suffix.hpp:523:32: note: expanded from macro 'BOOST_DO_JOIN2'
#define BOOST_DO_JOIN2( X, Y ) X##Y
                               ^
<scratch space>:70:1: note: expanded from here
boost_static_assert_typedef_121
^
In file included from BGmix_main.cpp:25:
In file included from ./updates_BGmix.h:1:
In file included from ./rand.hh:32:
In file included from ../boostIncl/boost/random.hpp:53:
In file included from ../boostIncl/boost/random/random_number_generator.hpp:22:
In file included from ../boostIncl/boost/random/uniform_int.hpp:26:
../boostIncl/boost/random/uniform_smallint.hpp:122:5: warning: unused typedef 'boost_static_assert_typedef_122' [-Wunused-local-typedef]
    BOOST_STATIC_ASSERT(!std::numeric_limits<typename base_type::result_type>::is_integer);
    ^
../boostIncl/boost/static_assert.hpp:105:10: note: expanded from macro 'BOOST_STATIC_ASSERT'
         BOOST_JOIN(boost_static_assert_typedef_, __LINE__)
         ^
../boostIncl/boost/config/suffix.hpp:521:28: note: expanded from macro 'BOOST_JOIN'
#define BOOST_JOIN( X, Y ) BOOST_DO_JOIN( X, Y )
                           ^
../boostIncl/boost/config/suffix.hpp:522:31: note: expanded from macro 'BOOST_DO_JOIN'
#define BOOST_DO_JOIN( X, Y ) BOOST_DO_JOIN2(X,Y)
                              ^
../boostIncl/boost/config/suffix.hpp:523:32: note: expanded from macro 'BOOST_DO_JOIN2'
#define BOOST_DO_JOIN2( X, Y ) X##Y
                               ^
<scratch space>:72:1: note: expanded from here
boost_static_assert_typedef_122
^
In file included from BGmix_main.cpp:25:
In file included from ./updates_BGmix.h:1:
In file included from ./rand.hh:32:
In file included from ../boostIncl/boost/random.hpp:53:
In file included from ../boostIncl/boost/random/random_number_generator.hpp:22:
In file included from ../boostIncl/boost/random/uniform_int.hpp:26:
../boostIncl/boost/random/uniform_smallint.hpp:170:5: warning: unused typedef 'boost_static_assert_typedef_170' [-Wunused-local-typedef]
    BOOST_STATIC_ASSERT(std::numeric_limits<IntType>::is_integer);
    ^
../boostIncl/boost/static_assert.hpp:105:10: note: expanded from macro 'BOOST_STATIC_ASSERT'
         BOOST_JOIN(boost_static_assert_typedef_, __LINE__)
         ^
../boostIncl/boost/config/suffix.hpp:521:28: note: expanded from macro 'BOOST_JOIN'
#define BOOST_JOIN( X, Y ) BOOST_DO_JOIN( X, Y )
                           ^
../boostIncl/boost/config/suffix.hpp:522:31: note: expanded from macro 'BOOST_DO_JOIN'
#define BOOST_DO_JOIN( X, Y ) BOOST_DO_JOIN2(X,Y)
                              ^
../boostIncl/boost/config/suffix.hpp:523:32: note: expanded from macro 'BOOST_DO_JOIN2'
#define BOOST_DO_JOIN2( X, Y ) X##Y
                               ^
<scratch space>:74:1: note: expanded from here
boost_static_assert_typedef_170
^
In file included from BGmix_main.cpp:25:
In file included from ./updates_BGmix.h:1:
In file included from ./rand.hh:32:
In file included from ../boostIncl/boost/random.hpp:53:
In file included from ../boostIncl/boost/random/random_number_generator.hpp:22:
../boostIncl/boost/random/uniform_int.hpp:47:5: warning: unused typedef 'boost_static_assert_typedef_47' [-Wunused-local-typedef]
    BOOST_STATIC_ASSERT(std::numeric_limits<IntType>::is_integer);
    ^
../boostIncl/boost/static_assert.hpp:105:10: note: expanded from macro 'BOOST_STATIC_ASSERT'
         BOOST_JOIN(boost_static_assert_typedef_, __LINE__)
         ^
../boostIncl/boost/config/suffix.hpp:521:28: note: expanded from macro 'BOOST_JOIN'
#define BOOST_JOIN( X, Y ) BOOST_DO_JOIN( X, Y )
                           ^
../boostIncl/boost/config/suffix.hpp:522:31: note: expanded from macro 'BOOST_DO_JOIN'
#define BOOST_DO_JOIN( X, Y ) BOOST_DO_JOIN2(X,Y)
                              ^
../boostIncl/boost/config/suffix.hpp:523:32: note: expanded from macro 'BOOST_DO_JOIN2'
#define BOOST_DO_JOIN2( X, Y ) X##Y
                               ^
<scratch space>:76:1: note: expanded from here
boost_static_assert_typedef_47
^
In file included from BGmix_main.cpp:25:
In file included from ./updates_BGmix.h:1:
In file included from ./rand.hh:32:
In file included from ../boostIncl/boost/random.hpp:53:
../boostIncl/boost/random/random_number_generator.hpp:38:5: warning: unused typedef 'boost_static_assert_typedef_38' [-Wunused-local-typedef]
    BOOST_STATIC_ASSERT(std::numeric_limits<result_type>::is_integer);
    ^
../boostIncl/boost/static_assert.hpp:105:10: note: expanded from macro 'BOOST_STATIC_ASSERT'
         BOOST_JOIN(boost_static_assert_typedef_, __LINE__)
         ^
../boostIncl/boost/config/suffix.hpp:521:28: note: expanded from macro 'BOOST_JOIN'
#define BOOST_JOIN( X, Y ) BOOST_DO_JOIN( X, Y )
                           ^
../boostIncl/boost/config/suffix.hpp:522:31: note: expanded from macro 'BOOST_DO_JOIN'
#define BOOST_DO_JOIN( X, Y ) BOOST_DO_JOIN2(X,Y)
                              ^
../boostIncl/boost/config/suffix.hpp:523:32: note: expanded from macro 'BOOST_DO_JOIN2'
#define BOOST_DO_JOIN2( X, Y ) X##Y
                               ^
<scratch space>:78:1: note: expanded from here
boost_static_assert_typedef_38
^
In file included from BGmix_main.cpp:25:
In file included from ./updates_BGmix.h:1:
In file included from ./rand.hh:32:
In file included from ../boostIncl/boost/random.hpp:59:
../boostIncl/boost/random/uniform_real.hpp:41:5: warning: unused typedef 'boost_static_assert_typedef_41' [-Wunused-local-typedef]
    BOOST_STATIC_ASSERT(!std::numeric_limits<RealType>::is_integer);
    ^
../boostIncl/boost/static_assert.hpp:105:10: note: expanded from macro 'BOOST_STATIC_ASSERT'
         BOOST_JOIN(boost_static_assert_typedef_, __LINE__)
         ^
../boostIncl/boost/config/suffix.hpp:521:28: note: expanded from macro 'BOOST_JOIN'
#define BOOST_JOIN( X, Y ) BOOST_DO_JOIN( X, Y )
                           ^
../boostIncl/boost/config/suffix.hpp:522:31: note: expanded from macro 'BOOST_DO_JOIN'
#define BOOST_DO_JOIN( X, Y ) BOOST_DO_JOIN2(X,Y)
                              ^
../boostIncl/boost/config/suffix.hpp:523:32: note: expanded from macro 'BOOST_DO_JOIN2'
#define BOOST_DO_JOIN2( X, Y ) X##Y
                               ^
<scratch space>:80:1: note: expanded from here
boost_static_assert_typedef_41
^
In file included from BGmix_main.cpp:25:
In file included from ./updates_BGmix.h:1:
In file included from ./rand.hh:32:
In file included from ../boostIncl/boost/random.hpp:67:
../boostIncl/boost/random/poisson_distribution.hpp:39:5: warning: unused typedef 'boost_static_assert_typedef_39' [-Wunused-local-typedef]
    BOOST_STATIC_ASSERT(!std::numeric_limits<RealType>::is_integer);
    ^
../boostIncl/boost/static_assert.hpp:105:10: note: expanded from macro 'BOOST_STATIC_ASSERT'
         BOOST_JOIN(boost_static_assert_typedef_, __LINE__)
         ^
../boostIncl/boost/config/suffix.hpp:521:28: note: expanded from macro 'BOOST_JOIN'
#define BOOST_JOIN( X, Y ) BOOST_DO_JOIN( X, Y )
                           ^
../boostIncl/boost/config/suffix.hpp:522:31: note: expanded from macro 'BOOST_DO_JOIN'
#define BOOST_DO_JOIN( X, Y ) BOOST_DO_JOIN2(X,Y)
                              ^
../boostIncl/boost/config/suffix.hpp:523:32: note: expanded from macro 'BOOST_DO_JOIN2'
#define BOOST_DO_JOIN2( X, Y ) X##Y
                               ^
<scratch space>:92:1: note: expanded from here
boost_static_assert_typedef_39
^
In file included from BGmix_main.cpp:25:
In file included from ./updates_BGmix.h:1:
In file included from ./rand.hh:32:
In file included from ../boostIncl/boost/random.hpp:67:
../boostIncl/boost/random/poisson_distribution.hpp:38:5: warning: unused typedef 'boost_static_assert_typedef_38' [-Wunused-local-typedef]
    BOOST_STATIC_ASSERT(std::numeric_limits<IntType>::is_integer);
    ^
../boostIncl/boost/static_assert.hpp:105:10: note: expanded from macro 'BOOST_STATIC_ASSERT'
         BOOST_JOIN(boost_static_assert_typedef_, __LINE__)
         ^
../boostIncl/boost/config/suffix.hpp:521:28: note: expanded from macro 'BOOST_JOIN'
#define BOOST_JOIN( X, Y ) BOOST_DO_JOIN( X, Y )
                           ^
../boostIncl/boost/config/suffix.hpp:522:31: note: expanded from macro 'BOOST_DO_JOIN'
#define BOOST_DO_JOIN( X, Y ) BOOST_DO_JOIN2(X,Y)
                              ^
../boostIncl/boost/config/suffix.hpp:523:32: note: expanded from macro 'BOOST_DO_JOIN2'
#define BOOST_DO_JOIN2( X, Y ) X##Y
                               ^
<scratch space>:90:1: note: expanded from here
boost_static_assert_typedef_38
^
25 warnings generated.
clang++ -mmacosx-version-min=10.13 -std=gnu++11 -I"/Library/Frameworks/R.framework/Resources/include" -DNDEBUG -I ../boostIncl  -I/usr/local/include   -fPIC  -Wall -g -O2  -DUSING_R -c rundir.cpp -o rundir.o
clang++ -mmacosx-version-min=10.13 -std=gnu++11 -I"/Library/Frameworks/R.framework/Resources/include" -DNDEBUG -I ../boostIncl  -I/usr/local/include   -fPIC  -Wall -g -O2  -DUSING_R -c updates_BGmix.cpp -o updates_BGmix.o
In file included from updates_BGmix.cpp:3:
In file included from ./updates_BGmix.h:1:
In file included from ./rand.hh:32:
In file included from ../boostIncl/boost/random.hpp:36:
In file included from ../boostIncl/boost/random/linear_congruential.hpp:25:
../boostIncl/boost/random/detail/const_mod.hpp:148:5: warning: unused typedef 'boost_static_assert_typedef_148' [-Wunused-local-typedef]
    BOOST_STATIC_ASSERT(m > 0);
    ^
../boostIncl/boost/static_assert.hpp:105:10: note: expanded from macro 'BOOST_STATIC_ASSERT'
         BOOST_JOIN(boost_static_assert_typedef_, __LINE__)
         ^
../boostIncl/boost/config/suffix.hpp:521:28: note: expanded from macro 'BOOST_JOIN'
#define BOOST_JOIN( X, Y ) BOOST_DO_JOIN( X, Y )
                           ^
../boostIncl/boost/config/suffix.hpp:522:31: note: expanded from macro 'BOOST_DO_JOIN'
#define BOOST_DO_JOIN( X, Y ) BOOST_DO_JOIN2(X,Y)
                              ^
../boostIncl/boost/config/suffix.hpp:523:32: note: expanded from macro 'BOOST_DO_JOIN2'
#define BOOST_DO_JOIN2( X, Y ) X##Y
                               ^
<scratch space>:105:1: note: expanded from here
boost_static_assert_typedef_148
^
In file included from updates_BGmix.cpp:3:
In file included from ./updates_BGmix.h:1:
In file included from ./rand.hh:32:
In file included from ../boostIncl/boost/random.hpp:36:
In file included from ../boostIncl/boost/random/linear_congruential.hpp:25:
../boostIncl/boost/random/detail/const_mod.hpp:152:5: warning: unused typedef 'boost_static_assert_typedef_152' [-Wunused-local-typedef]
    BOOST_STATIC_ASSERT(boost::integer_traits<IntType>::is_signed);
    ^
../boostIncl/boost/static_assert.hpp:105:10: note: expanded from macro 'BOOST_STATIC_ASSERT'
         BOOST_JOIN(boost_static_assert_typedef_, __LINE__)
         ^
../boostIncl/boost/config/suffix.hpp:521:28: note: expanded from macro 'BOOST_JOIN'
#define BOOST_JOIN( X, Y ) BOOST_DO_JOIN( X, Y )
                           ^
../boostIncl/boost/config/suffix.hpp:522:31: note: expanded from macro 'BOOST_DO_JOIN'
#define BOOST_DO_JOIN( X, Y ) BOOST_DO_JOIN2(X,Y)
                              ^
../boostIncl/boost/config/suffix.hpp:523:32: note: expanded from macro 'BOOST_DO_JOIN2'
#define BOOST_DO_JOIN2( X, Y ) X##Y
                               ^
<scratch space>:107:1: note: expanded from here
boost_static_assert_typedef_152
^
In file included from updates_BGmix.cpp:3:
In file included from ./updates_BGmix.h:1:
In file included from ./rand.hh:32:
In file included from ../boostIncl/boost/random.hpp:36:
../boostIncl/boost/random/linear_congruential.hpp:63:5: warning: unused typedef 'boost_static_assert_typedef_63' [-Wunused-local-typedef]
    BOOST_STATIC_ASSERT(std::numeric_limits<IntType>::is_integer);
    ^
../boostIncl/boost/static_assert.hpp:105:10: note: expanded from macro 'BOOST_STATIC_ASSERT'
         BOOST_JOIN(boost_static_assert_typedef_, __LINE__)
         ^
../boostIncl/boost/config/suffix.hpp:521:28: note: expanded from macro 'BOOST_JOIN'
#define BOOST_JOIN( X, Y ) BOOST_DO_JOIN( X, Y )
                           ^
../boostIncl/boost/config/suffix.hpp:522:31: note: expanded from macro 'BOOST_DO_JOIN'
#define BOOST_DO_JOIN( X, Y ) BOOST_DO_JOIN2(X,Y)
                              ^
../boostIncl/boost/config/suffix.hpp:523:32: note: expanded from macro 'BOOST_DO_JOIN2'
#define BOOST_DO_JOIN2( X, Y ) X##Y
                               ^
<scratch space>:109:1: note: expanded from here
boost_static_assert_typedef_63
^
In file included from updates_BGmix.cpp:3:
In file included from ./updates_BGmix.h:1:
In file included from ./rand.hh:32:
In file included from ../boostIncl/boost/random.hpp:38:
../boostIncl/boost/random/inversive_congruential.hpp:50:5: warning: unused typedef 'boost_static_assert_typedef_50' [-Wunused-local-typedef]
    BOOST_STATIC_ASSERT(b >= 0);
    ^
../boostIncl/boost/static_assert.hpp:105:10: note: expanded from macro 'BOOST_STATIC_ASSERT'
         BOOST_JOIN(boost_static_assert_typedef_, __LINE__)
         ^
../boostIncl/boost/config/suffix.hpp:521:28: note: expanded from macro 'BOOST_JOIN'
#define BOOST_JOIN( X, Y ) BOOST_DO_JOIN( X, Y )
                           ^
../boostIncl/boost/config/suffix.hpp:522:31: note: expanded from macro 'BOOST_DO_JOIN'
#define BOOST_DO_JOIN( X, Y ) BOOST_DO_JOIN2(X,Y)
                              ^
../boostIncl/boost/config/suffix.hpp:523:32: note: expanded from macro 'BOOST_DO_JOIN2'
#define BOOST_DO_JOIN2( X, Y ) X##Y
                               ^
<scratch space>:111:1: note: expanded from here
boost_static_assert_typedef_50
^
In file included from updates_BGmix.cpp:3:
In file included from ./updates_BGmix.h:1:
In file included from ./rand.hh:32:
In file included from ../boostIncl/boost/random.hpp:38:
../boostIncl/boost/random/inversive_congruential.hpp:51:5: warning: unused typedef 'boost_static_assert_typedef_51' [-Wunused-local-typedef]
    BOOST_STATIC_ASSERT(p > 1);
    ^
../boostIncl/boost/static_assert.hpp:105:10: note: expanded from macro 'BOOST_STATIC_ASSERT'
         BOOST_JOIN(boost_static_assert_typedef_, __LINE__)
         ^
../boostIncl/boost/config/suffix.hpp:521:28: note: expanded from macro 'BOOST_JOIN'
#define BOOST_JOIN( X, Y ) BOOST_DO_JOIN( X, Y )
                           ^
../boostIncl/boost/config/suffix.hpp:522:31: note: expanded from macro 'BOOST_DO_JOIN'
#define BOOST_DO_JOIN( X, Y ) BOOST_DO_JOIN2(X,Y)
                              ^
../boostIncl/boost/config/suffix.hpp:523:32: note: expanded from macro 'BOOST_DO_JOIN2'
#define BOOST_DO_JOIN2( X, Y ) X##Y
                               ^
<scratch space>:113:1: note: expanded from here
boost_static_assert_typedef_51
^
In file included from updates_BGmix.cpp:3:
In file included from ./updates_BGmix.h:1:
In file included from ./rand.hh:32:
In file included from ../boostIncl/boost/random.hpp:38:
../boostIncl/boost/random/inversive_congruential.hpp:52:5: warning: unused typedef 'boost_static_assert_typedef_52' [-Wunused-local-typedef]
    BOOST_STATIC_ASSERT(a >= 1);
    ^
../boostIncl/boost/static_assert.hpp:105:10: note: expanded from macro 'BOOST_STATIC_ASSERT'
         BOOST_JOIN(boost_static_assert_typedef_, __LINE__)
         ^
../boostIncl/boost/config/suffix.hpp:521:28: note: expanded from macro 'BOOST_JOIN'
#define BOOST_JOIN( X, Y ) BOOST_DO_JOIN( X, Y )
                           ^
../boostIncl/boost/config/suffix.hpp:522:31: note: expanded from macro 'BOOST_DO_JOIN'
#define BOOST_DO_JOIN( X, Y ) BOOST_DO_JOIN2(X,Y)
                              ^
../boostIncl/boost/config/suffix.hpp:523:32: note: expanded from macro 'BOOST_DO_JOIN2'
#define BOOST_DO_JOIN2( X, Y ) X##Y
                               ^
<scratch space>:115:1: note: expanded from here
boost_static_assert_typedef_52
^
In file included from updates_BGmix.cpp:3:
In file included from ./updates_BGmix.h:1:
In file included from ./rand.hh:32:
In file included from ../boostIncl/boost/random.hpp:39:
../boostIncl/boost/random/shuffle_output.hpp:124:5: warning: unused typedef 'boost_static_assert_typedef_124' [-Wunused-local-typedef]
    BOOST_STATIC_ASSERT(std::numeric_limits<result_type>::is_integer);
    ^
../boostIncl/boost/static_assert.hpp:105:10: note: expanded from macro 'BOOST_STATIC_ASSERT'
         BOOST_JOIN(boost_static_assert_typedef_, __LINE__)
         ^
../boostIncl/boost/config/suffix.hpp:521:28: note: expanded from macro 'BOOST_JOIN'
#define BOOST_JOIN( X, Y ) BOOST_DO_JOIN( X, Y )
                           ^
../boostIncl/boost/config/suffix.hpp:522:31: note: expanded from macro 'BOOST_DO_JOIN'
#define BOOST_DO_JOIN( X, Y ) BOOST_DO_JOIN2(X,Y)
                              ^
../boostIncl/boost/config/suffix.hpp:523:32: note: expanded from macro 'BOOST_DO_JOIN2'
#define BOOST_DO_JOIN2( X, Y ) X##Y
                               ^
<scratch space>:117:1: note: expanded from here
boost_static_assert_typedef_124
^
In file included from updates_BGmix.cpp:3:
In file included from ./updates_BGmix.h:1:
In file included from ./rand.hh:32:
In file included from ../boostIncl/boost/random.hpp:40:
../boostIncl/boost/random/mersenne_twister.hpp:99:5: warning: unused typedef 'boost_static_assert_typedef_99' [-Wunused-local-typedef]
    BOOST_STATIC_ASSERT(!std::numeric_limits<result_type>::is_signed);
    ^
../boostIncl/boost/static_assert.hpp:105:10: note: expanded from macro 'BOOST_STATIC_ASSERT'
         BOOST_JOIN(boost_static_assert_typedef_, __LINE__)
         ^
../boostIncl/boost/config/suffix.hpp:521:28: note: expanded from macro 'BOOST_JOIN'
#define BOOST_JOIN( X, Y ) BOOST_DO_JOIN( X, Y )
                           ^
../boostIncl/boost/config/suffix.hpp:522:31: note: expanded from macro 'BOOST_DO_JOIN'
#define BOOST_DO_JOIN( X, Y ) BOOST_DO_JOIN2(X,Y)
                              ^
../boostIncl/boost/config/suffix.hpp:523:32: note: expanded from macro 'BOOST_DO_JOIN2'
#define BOOST_DO_JOIN2( X, Y ) X##Y
                               ^
<scratch space>:119:1: note: expanded from here
boost_static_assert_typedef_99
^
In file included from updates_BGmix.cpp:3:
In file included from ./updates_BGmix.h:1:
In file included from ./rand.hh:32:
In file included from ../boostIncl/boost/random.hpp:42:
In file included from ../boostIncl/boost/random/ranlux.hpp:20:
../boostIncl/boost/random/subtract_with_carry.hpp:83:5: warning: unused typedef 'boost_static_assert_typedef_83' [-Wunused-local-typedef]
    BOOST_STATIC_ASSERT(std::numeric_limits<result_type>::is_signed);
    ^
../boostIncl/boost/static_assert.hpp:105:10: note: expanded from macro 'BOOST_STATIC_ASSERT'
         BOOST_JOIN(boost_static_assert_typedef_, __LINE__)
         ^
../boostIncl/boost/config/suffix.hpp:521:28: note: expanded from macro 'BOOST_JOIN'
#define BOOST_JOIN( X, Y ) BOOST_DO_JOIN( X, Y )
                           ^
../boostIncl/boost/config/suffix.hpp:522:31: note: expanded from macro 'BOOST_DO_JOIN'
#define BOOST_DO_JOIN( X, Y ) BOOST_DO_JOIN2(X,Y)
                              ^
../boostIncl/boost/config/suffix.hpp:523:32: note: expanded from macro 'BOOST_DO_JOIN2'
#define BOOST_DO_JOIN2( X, Y ) X##Y
                               ^
<scratch space>:123:1: note: expanded from here
boost_static_assert_typedef_83
^
In file included from updates_BGmix.cpp:3:
In file included from ./updates_BGmix.h:1:
In file included from ./rand.hh:32:
In file included from ../boostIncl/boost/random.hpp:42:
In file included from ../boostIncl/boost/random/ranlux.hpp:20:
../boostIncl/boost/random/subtract_with_carry.hpp:84:5: warning: unused typedef 'boost_static_assert_typedef_84' [-Wunused-local-typedef]
    BOOST_STATIC_ASSERT(std::numeric_limits<result_type>::is_integer);
    ^
../boostIncl/boost/static_assert.hpp:105:10: note: expanded from macro 'BOOST_STATIC_ASSERT'
         BOOST_JOIN(boost_static_assert_typedef_, __LINE__)
         ^
../boostIncl/boost/config/suffix.hpp:521:28: note: expanded from macro 'BOOST_JOIN'
#define BOOST_JOIN( X, Y ) BOOST_DO_JOIN( X, Y )
                           ^
../boostIncl/boost/config/suffix.hpp:522:31: note: expanded from macro 'BOOST_DO_JOIN'
#define BOOST_DO_JOIN( X, Y ) BOOST_DO_JOIN2(X,Y)
                              ^
../boostIncl/boost/config/suffix.hpp:523:32: note: expanded from macro 'BOOST_DO_JOIN2'
#define BOOST_DO_JOIN2( X, Y ) X##Y
                               ^
<scratch space>:125:1: note: expanded from here
boost_static_assert_typedef_84
^
In file included from updates_BGmix.cpp:3:
In file included from ./updates_BGmix.h:1:
In file included from ./rand.hh:32:
In file included from ../boostIncl/boost/random.hpp:43:
../boostIncl/boost/random/linear_feedback_shift.hpp:55:5: warning: unused typedef 'boost_static_assert_typedef_55' [-Wunused-local-typedef]
    BOOST_STATIC_ASSERT(std::numeric_limits<UIntType>::is_integer);
    ^
../boostIncl/boost/static_assert.hpp:105:10: note: expanded from macro 'BOOST_STATIC_ASSERT'
         BOOST_JOIN(boost_static_assert_typedef_, __LINE__)
         ^
../boostIncl/boost/config/suffix.hpp:521:28: note: expanded from macro 'BOOST_JOIN'
#define BOOST_JOIN( X, Y ) BOOST_DO_JOIN( X, Y )
                           ^
../boostIncl/boost/config/suffix.hpp:522:31: note: expanded from macro 'BOOST_DO_JOIN'
#define BOOST_DO_JOIN( X, Y ) BOOST_DO_JOIN2(X,Y)
                              ^
../boostIncl/boost/config/suffix.hpp:523:32: note: expanded from macro 'BOOST_DO_JOIN2'
#define BOOST_DO_JOIN2( X, Y ) X##Y
                               ^
<scratch space>:131:1: note: expanded from here
boost_static_assert_typedef_55
^
In file included from updates_BGmix.cpp:3:
In file included from ./updates_BGmix.h:1:
In file included from ./rand.hh:32:
In file included from ../boostIncl/boost/random.hpp:43:
../boostIncl/boost/random/linear_feedback_shift.hpp:56:5: warning: unused typedef 'boost_static_assert_typedef_56' [-Wunused-local-typedef]
    BOOST_STATIC_ASSERT(!std::numeric_limits<UIntType>::is_signed);
    ^
../boostIncl/boost/static_assert.hpp:105:10: note: expanded from macro 'BOOST_STATIC_ASSERT'
         BOOST_JOIN(boost_static_assert_typedef_, __LINE__)
         ^
../boostIncl/boost/config/suffix.hpp:521:28: note: expanded from macro 'BOOST_JOIN'
#define BOOST_JOIN( X, Y ) BOOST_DO_JOIN( X, Y )
                           ^
../boostIncl/boost/config/suffix.hpp:522:31: note: expanded from macro 'BOOST_DO_JOIN'
#define BOOST_DO_JOIN( X, Y ) BOOST_DO_JOIN2(X,Y)
                              ^
../boostIncl/boost/config/suffix.hpp:523:32: note: expanded from macro 'BOOST_DO_JOIN2'
#define BOOST_DO_JOIN2( X, Y ) X##Y
                               ^
<scratch space>:133:1: note: expanded from here
boost_static_assert_typedef_56
^
In file included from updates_BGmix.cpp:3:
In file included from ./updates_BGmix.h:1:
In file included from ./rand.hh:32:
In file included from ../boostIncl/boost/random.hpp:43:
../boostIncl/boost/random/linear_feedback_shift.hpp:69:5: warning: unused typedef 'boost_static_assert_typedef_69' [-Wunused-local-typedef]
    BOOST_STATIC_ASSERT(std::numeric_limits<UIntType>::is_integer);
    ^
../boostIncl/boost/static_assert.hpp:105:10: note: expanded from macro 'BOOST_STATIC_ASSERT'
         BOOST_JOIN(boost_static_assert_typedef_, __LINE__)
         ^
../boostIncl/boost/config/suffix.hpp:521:28: note: expanded from macro 'BOOST_JOIN'
#define BOOST_JOIN( X, Y ) BOOST_DO_JOIN( X, Y )
                           ^
../boostIncl/boost/config/suffix.hpp:522:31: note: expanded from macro 'BOOST_DO_JOIN'
#define BOOST_DO_JOIN( X, Y ) BOOST_DO_JOIN2(X,Y)
                              ^
../boostIncl/boost/config/suffix.hpp:523:32: note: expanded from macro 'BOOST_DO_JOIN2'
#define BOOST_DO_JOIN2( X, Y ) X##Y
                               ^
<scratch space>:135:1: note: expanded from here
boost_static_assert_typedef_69
^
In file included from updates_BGmix.cpp:3:
In file included from ./updates_BGmix.h:1:
In file included from ./rand.hh:32:
In file included from ../boostIncl/boost/random.hpp:43:
../boostIncl/boost/random/linear_feedback_shift.hpp:70:5: warning: unused typedef 'boost_static_assert_typedef_70' [-Wunused-local-typedef]
    BOOST_STATIC_ASSERT(!std::numeric_limits<UIntType>::is_signed);
    ^
../boostIncl/boost/static_assert.hpp:105:10: note: expanded from macro 'BOOST_STATIC_ASSERT'
         BOOST_JOIN(boost_static_assert_typedef_, __LINE__)
         ^
../boostIncl/boost/config/suffix.hpp:521:28: note: expanded from macro 'BOOST_JOIN'
#define BOOST_JOIN( X, Y ) BOOST_DO_JOIN( X, Y )
                           ^
../boostIncl/boost/config/suffix.hpp:522:31: note: expanded from macro 'BOOST_DO_JOIN'
#define BOOST_DO_JOIN( X, Y ) BOOST_DO_JOIN2(X,Y)
                              ^
../boostIncl/boost/config/suffix.hpp:523:32: note: expanded from macro 'BOOST_DO_JOIN2'
#define BOOST_DO_JOIN2( X, Y ) X##Y
                               ^
<scratch space>:137:1: note: expanded from here
boost_static_assert_typedef_70
^
In file included from updates_BGmix.cpp:3:
In file included from ./updates_BGmix.h:1:
In file included from ./rand.hh:32:
In file included from ../boostIncl/boost/random.hpp:44:
../boostIncl/boost/random/xor_combine.hpp:67:5: warning: unused typedef 'boost_static_assert_typedef_67' [-Wunused-local-typedef]
    BOOST_STATIC_ASSERT(std::numeric_limits<typename base1_type::result_type>::is_integer);
    ^
../boostIncl/boost/static_assert.hpp:105:10: note: expanded from macro 'BOOST_STATIC_ASSERT'
         BOOST_JOIN(boost_static_assert_typedef_, __LINE__)
         ^
../boostIncl/boost/config/suffix.hpp:521:28: note: expanded from macro 'BOOST_JOIN'
#define BOOST_JOIN( X, Y ) BOOST_DO_JOIN( X, Y )
                           ^
../boostIncl/boost/config/suffix.hpp:522:31: note: expanded from macro 'BOOST_DO_JOIN'
#define BOOST_DO_JOIN( X, Y ) BOOST_DO_JOIN2(X,Y)
                              ^
../boostIncl/boost/config/suffix.hpp:523:32: note: expanded from macro 'BOOST_DO_JOIN2'
#define BOOST_DO_JOIN2( X, Y ) X##Y
                               ^
<scratch space>:139:1: note: expanded from here
boost_static_assert_typedef_67
^
In file included from updates_BGmix.cpp:3:
In file included from ./updates_BGmix.h:1:
In file included from ./rand.hh:32:
In file included from ../boostIncl/boost/random.hpp:44:
../boostIncl/boost/random/xor_combine.hpp:68:5: warning: unused typedef 'boost_static_assert_typedef_68' [-Wunused-local-typedef]
    BOOST_STATIC_ASSERT(std::numeric_limits<typename base2_type::result_type>::is_integer);
    ^
../boostIncl/boost/static_assert.hpp:105:10: note: expanded from macro 'BOOST_STATIC_ASSERT'
         BOOST_JOIN(boost_static_assert_typedef_, __LINE__)
         ^
../boostIncl/boost/config/suffix.hpp:521:28: note: expanded from macro 'BOOST_JOIN'
#define BOOST_JOIN( X, Y ) BOOST_DO_JOIN( X, Y )
                           ^
../boostIncl/boost/config/suffix.hpp:522:31: note: expanded from macro 'BOOST_DO_JOIN'
#define BOOST_DO_JOIN( X, Y ) BOOST_DO_JOIN2(X,Y)
                              ^
../boostIncl/boost/config/suffix.hpp:523:32: note: expanded from macro 'BOOST_DO_JOIN2'
#define BOOST_DO_JOIN2( X, Y ) X##Y
                               ^
<scratch space>:141:1: note: expanded from here
boost_static_assert_typedef_68
^
In file included from updates_BGmix.cpp:3:
In file included from ./updates_BGmix.h:1:
In file included from ./rand.hh:32:
In file included from ../boostIncl/boost/random.hpp:44:
../boostIncl/boost/random/xor_combine.hpp:69:5: warning: unused typedef 'boost_static_assert_typedef_69' [-Wunused-local-typedef]
    BOOST_STATIC_ASSERT(std::numeric_limits<typename base1_type::result_type>::digits >= std::numeric_limits<typename base2_type::result_type>::digits);
    ^
../boostIncl/boost/static_assert.hpp:105:10: note: expanded from macro 'BOOST_STATIC_ASSERT'
         BOOST_JOIN(boost_static_assert_typedef_, __LINE__)
         ^
../boostIncl/boost/config/suffix.hpp:521:28: note: expanded from macro 'BOOST_JOIN'
#define BOOST_JOIN( X, Y ) BOOST_DO_JOIN( X, Y )
                           ^
../boostIncl/boost/config/suffix.hpp:522:31: note: expanded from macro 'BOOST_DO_JOIN'
#define BOOST_DO_JOIN( X, Y ) BOOST_DO_JOIN2(X,Y)
                              ^
../boostIncl/boost/config/suffix.hpp:523:32: note: expanded from macro 'BOOST_DO_JOIN2'
#define BOOST_DO_JOIN2( X, Y ) X##Y
                               ^
<scratch space>:143:1: note: expanded from here
boost_static_assert_typedef_69
^
In file included from updates_BGmix.cpp:3:
In file included from ./updates_BGmix.h:1:
In file included from ./rand.hh:32:
In file included from ../boostIncl/boost/random.hpp:53:
In file included from ../boostIncl/boost/random/random_number_generator.hpp:22:
In file included from ../boostIncl/boost/random/uniform_int.hpp:26:
../boostIncl/boost/random/uniform_smallint.hpp:121:5: warning: unused typedef 'boost_static_assert_typedef_121' [-Wunused-local-typedef]
    BOOST_STATIC_ASSERT(std::numeric_limits<IntType>::is_integer);
    ^
../boostIncl/boost/static_assert.hpp:105:10: note: expanded from macro 'BOOST_STATIC_ASSERT'
         BOOST_JOIN(boost_static_assert_typedef_, __LINE__)
         ^
../boostIncl/boost/config/suffix.hpp:521:28: note: expanded from macro 'BOOST_JOIN'
#define BOOST_JOIN( X, Y ) BOOST_DO_JOIN( X, Y )
                           ^
../boostIncl/boost/config/suffix.hpp:522:31: note: expanded from macro 'BOOST_DO_JOIN'
#define BOOST_DO_JOIN( X, Y ) BOOST_DO_JOIN2(X,Y)
                              ^
../boostIncl/boost/config/suffix.hpp:523:32: note: expanded from macro 'BOOST_DO_JOIN2'
#define BOOST_DO_JOIN2( X, Y ) X##Y
                               ^
<scratch space>:145:1: note: expanded from here
boost_static_assert_typedef_121
^
In file included from updates_BGmix.cpp:3:
In file included from ./updates_BGmix.h:1:
In file included from ./rand.hh:32:
In file included from ../boostIncl/boost/random.hpp:53:
In file included from ../boostIncl/boost/random/random_number_generator.hpp:22:
In file included from ../boostIncl/boost/random/uniform_int.hpp:26:
../boostIncl/boost/random/uniform_smallint.hpp:122:5: warning: unused typedef 'boost_static_assert_typedef_122' [-Wunused-local-typedef]
    BOOST_STATIC_ASSERT(!std::numeric_limits<typename base_type::result_type>::is_integer);
    ^
../boostIncl/boost/static_assert.hpp:105:10: note: expanded from macro 'BOOST_STATIC_ASSERT'
         BOOST_JOIN(boost_static_assert_typedef_, __LINE__)
         ^
../boostIncl/boost/config/suffix.hpp:521:28: note: expanded from macro 'BOOST_JOIN'
#define BOOST_JOIN( X, Y ) BOOST_DO_JOIN( X, Y )
                           ^
../boostIncl/boost/config/suffix.hpp:522:31: note: expanded from macro 'BOOST_DO_JOIN'
#define BOOST_DO_JOIN( X, Y ) BOOST_DO_JOIN2(X,Y)
                              ^
../boostIncl/boost/config/suffix.hpp:523:32: note: expanded from macro 'BOOST_DO_JOIN2'
#define BOOST_DO_JOIN2( X, Y ) X##Y
                               ^
<scratch space>:147:1: note: expanded from here
boost_static_assert_typedef_122
^
In file included from updates_BGmix.cpp:3:
In file included from ./updates_BGmix.h:1:
In file included from ./rand.hh:32:
In file included from ../boostIncl/boost/random.hpp:53:
In file included from ../boostIncl/boost/random/random_number_generator.hpp:22:
In file included from ../boostIncl/boost/random/uniform_int.hpp:26:
../boostIncl/boost/random/uniform_smallint.hpp:170:5: warning: unused typedef 'boost_static_assert_typedef_170' [-Wunused-local-typedef]
    BOOST_STATIC_ASSERT(std::numeric_limits<IntType>::is_integer);
    ^
../boostIncl/boost/static_assert.hpp:105:10: note: expanded from macro 'BOOST_STATIC_ASSERT'
         BOOST_JOIN(boost_static_assert_typedef_, __LINE__)
         ^
../boostIncl/boost/config/suffix.hpp:521:28: note: expanded from macro 'BOOST_JOIN'
#define BOOST_JOIN( X, Y ) BOOST_DO_JOIN( X, Y )
                           ^
../boostIncl/boost/config/suffix.hpp:522:31: note: expanded from macro 'BOOST_DO_JOIN'
#define BOOST_DO_JOIN( X, Y ) BOOST_DO_JOIN2(X,Y)
                              ^
../boostIncl/boost/config/suffix.hpp:523:32: note: expanded from macro 'BOOST_DO_JOIN2'
#define BOOST_DO_JOIN2( X, Y ) X##Y
                               ^
<scratch space>:149:1: note: expanded from here
boost_static_assert_typedef_170
^
In file included from updates_BGmix.cpp:3:
In file included from ./updates_BGmix.h:1:
In file included from ./rand.hh:32:
In file included from ../boostIncl/boost/random.hpp:53:
In file included from ../boostIncl/boost/random/random_number_generator.hpp:22:
../boostIncl/boost/random/uniform_int.hpp:47:5: warning: unused typedef 'boost_static_assert_typedef_47' [-Wunused-local-typedef]
    BOOST_STATIC_ASSERT(std::numeric_limits<IntType>::is_integer);
    ^
../boostIncl/boost/static_assert.hpp:105:10: note: expanded from macro 'BOOST_STATIC_ASSERT'
         BOOST_JOIN(boost_static_assert_typedef_, __LINE__)
         ^
../boostIncl/boost/config/suffix.hpp:521:28: note: expanded from macro 'BOOST_JOIN'
#define BOOST_JOIN( X, Y ) BOOST_DO_JOIN( X, Y )
                           ^
../boostIncl/boost/config/suffix.hpp:522:31: note: expanded from macro 'BOOST_DO_JOIN'
#define BOOST_DO_JOIN( X, Y ) BOOST_DO_JOIN2(X,Y)
                              ^
../boostIncl/boost/config/suffix.hpp:523:32: note: expanded from macro 'BOOST_DO_JOIN2'
#define BOOST_DO_JOIN2( X, Y ) X##Y
                               ^
<scratch space>:151:1: note: expanded from here
boost_static_assert_typedef_47
^
In file included from updates_BGmix.cpp:3:
In file included from ./updates_BGmix.h:1:
In file included from ./rand.hh:32:
In file included from ../boostIncl/boost/random.hpp:53:
../boostIncl/boost/random/random_number_generator.hpp:38:5: warning: unused typedef 'boost_static_assert_typedef_38' [-Wunused-local-typedef]
    BOOST_STATIC_ASSERT(std::numeric_limits<result_type>::is_integer);
    ^
../boostIncl/boost/static_assert.hpp:105:10: note: expanded from macro 'BOOST_STATIC_ASSERT'
         BOOST_JOIN(boost_static_assert_typedef_, __LINE__)
         ^
../boostIncl/boost/config/suffix.hpp:521:28: note: expanded from macro 'BOOST_JOIN'
#define BOOST_JOIN( X, Y ) BOOST_DO_JOIN( X, Y )
                           ^
../boostIncl/boost/config/suffix.hpp:522:31: note: expanded from macro 'BOOST_DO_JOIN'
#define BOOST_DO_JOIN( X, Y ) BOOST_DO_JOIN2(X,Y)
                              ^
../boostIncl/boost/config/suffix.hpp:523:32: note: expanded from macro 'BOOST_DO_JOIN2'
#define BOOST_DO_JOIN2( X, Y ) X##Y
                               ^
<scratch space>:153:1: note: expanded from here
boost_static_assert_typedef_38
^
In file included from updates_BGmix.cpp:3:
In file included from ./updates_BGmix.h:1:
In file included from ./rand.hh:32:
In file included from ../boostIncl/boost/random.hpp:59:
../boostIncl/boost/random/uniform_real.hpp:41:5: warning: unused typedef 'boost_static_assert_typedef_41' [-Wunused-local-typedef]
    BOOST_STATIC_ASSERT(!std::numeric_limits<RealType>::is_integer);
    ^
../boostIncl/boost/static_assert.hpp:105:10: note: expanded from macro 'BOOST_STATIC_ASSERT'
         BOOST_JOIN(boost_static_assert_typedef_, __LINE__)
         ^
../boostIncl/boost/config/suffix.hpp:521:28: note: expanded from macro 'BOOST_JOIN'
#define BOOST_JOIN( X, Y ) BOOST_DO_JOIN( X, Y )
                           ^
../boostIncl/boost/config/suffix.hpp:522:31: note: expanded from macro 'BOOST_DO_JOIN'
#define BOOST_DO_JOIN( X, Y ) BOOST_DO_JOIN2(X,Y)
                              ^
../boostIncl/boost/config/suffix.hpp:523:32: note: expanded from macro 'BOOST_DO_JOIN2'
#define BOOST_DO_JOIN2( X, Y ) X##Y
                               ^
<scratch space>:155:1: note: expanded from here
boost_static_assert_typedef_41
^
In file included from updates_BGmix.cpp:3:
In file included from ./updates_BGmix.h:1:
In file included from ./rand.hh:32:
In file included from ../boostIncl/boost/random.hpp:67:
../boostIncl/boost/random/poisson_distribution.hpp:38:5: warning: unused typedef 'boost_static_assert_typedef_38' [-Wunused-local-typedef]
    BOOST_STATIC_ASSERT(std::numeric_limits<IntType>::is_integer);
    ^
../boostIncl/boost/static_assert.hpp:105:10: note: expanded from macro 'BOOST_STATIC_ASSERT'
         BOOST_JOIN(boost_static_assert_typedef_, __LINE__)
         ^
../boostIncl/boost/config/suffix.hpp:521:28: note: expanded from macro 'BOOST_JOIN'
#define BOOST_JOIN( X, Y ) BOOST_DO_JOIN( X, Y )
                           ^
../boostIncl/boost/config/suffix.hpp:522:31: note: expanded from macro 'BOOST_DO_JOIN'
#define BOOST_DO_JOIN( X, Y ) BOOST_DO_JOIN2(X,Y)
                              ^
../boostIncl/boost/config/suffix.hpp:523:32: note: expanded from macro 'BOOST_DO_JOIN2'
#define BOOST_DO_JOIN2( X, Y ) X##Y
                               ^
<scratch space>:165:1: note: expanded from here
boost_static_assert_typedef_38
^
In file included from updates_BGmix.cpp:3:
In file included from ./updates_BGmix.h:1:
In file included from ./rand.hh:32:
In file included from ../boostIncl/boost/random.hpp:67:
../boostIncl/boost/random/poisson_distribution.hpp:39:5: warning: unused typedef 'boost_static_assert_typedef_39' [-Wunused-local-typedef]
    BOOST_STATIC_ASSERT(!std::numeric_limits<RealType>::is_integer);
    ^
../boostIncl/boost/static_assert.hpp:105:10: note: expanded from macro 'BOOST_STATIC_ASSERT'
         BOOST_JOIN(boost_static_assert_typedef_, __LINE__)
         ^
../boostIncl/boost/config/suffix.hpp:521:28: note: expanded from macro 'BOOST_JOIN'
#define BOOST_JOIN( X, Y ) BOOST_DO_JOIN( X, Y )
                           ^
../boostIncl/boost/config/suffix.hpp:522:31: note: expanded from macro 'BOOST_DO_JOIN'
#define BOOST_DO_JOIN( X, Y ) BOOST_DO_JOIN2(X,Y)
                              ^
../boostIncl/boost/config/suffix.hpp:523:32: note: expanded from macro 'BOOST_DO_JOIN2'
#define BOOST_DO_JOIN2( X, Y ) X##Y
                               ^
<scratch space>:167:1: note: expanded from here
boost_static_assert_typedef_39
^
25 warnings generated.
clang++ -mmacosx-version-min=10.13 -std=gnu++11 -dynamiclib -Wl,-headerpad_max_install_names -undefined dynamic_lookup -single_module -multiply_defined suppress -L/Library/Frameworks/R.framework/Resources/lib -L/usr/local/lib -o BGmix.so BGmix_main.o rundir.o updates_BGmix.o -lm -F/Library/Frameworks/R.framework/.. -framework R -Wl,-framework -Wl,CoreFoundation
rm -r ../boostIncl 
installing to /Library/Frameworks/R.framework/Versions/4.0/Resources/library/00LOCK-BGmix/00new/BGmix/libs
** R
** data
** byte-compile and prepare package for lazy loading
** help
*** installing help indices
** building package indices
** installing vignettes
** testing if installed package can be loaded from temporary location
** checking absolute paths in shared objects and dynamic libraries
** testing if installed package can be loaded from final location
** testing if installed package keeps a record of temporary installation path
* DONE (BGmix)