Back to Multiple platform build/check report for BioC 3.12
A[B]CDEFGHIJKLMNOPQRSTUVWXYZ

BUILD report for BiFET on tokay1

This page was generated on 2020-08-06 12:06:36 -0400 (Thu, 06 Aug 2020).

TO THE DEVELOPERS/MAINTAINERS OF THE BiFET PACKAGE: Please make sure to use the following settings in order to reproduce any error or warning you see on this page.
Package 138/1882HostnameOS / ArchINSTALLBUILDCHECKBUILD BIN
BiFET 1.9.0
Ahrim Youn
Snapshot Date: 2020-08-05 14:50:59 -0400 (Wed, 05 Aug 2020)
URL: https://git.bioconductor.org/packages/BiFET
Branch: master
Last Commit: a8b7789
Last Changed Date: 2020-04-27 15:13:03 -0400 (Mon, 27 Apr 2020)
malbec1 Linux (Ubuntu 18.04.4 LTS) / x86_64  OK  OK  OK UNNEEDED, same version exists in internal repository
tokay1 Windows Server 2012 R2 Standard / x64  OK [ OK ] OK  OK UNNEEDED, same version exists in internal repository
merida1 macOS 10.14.6 Mojave / x86_64  OK  OK  OK  OK UNNEEDED, same version exists in internal repository

Summary

Package: BiFET
Version: 1.9.0
Command: chmod a+r BiFET -R && C:\Users\biocbuild\bbs-3.12-bioc\R\bin\R.exe CMD build --keep-empty-dirs --no-resave-data BiFET
StartedAt: 2020-08-05 21:59:08 -0400 (Wed, 05 Aug 2020)
EndedAt: 2020-08-05 22:01:16 -0400 (Wed, 05 Aug 2020)
EllapsedTime: 128.4 seconds
RetCode: 0
Status:  OK  
PackageFile: BiFET_1.9.0.tar.gz
PackageFileSize: 733.5 KiB

Command output

##############################################################################
##############################################################################
###
### Running command:
###
###   chmod a+r BiFET -R && C:\Users\biocbuild\bbs-3.12-bioc\R\bin\R.exe CMD build --keep-empty-dirs --no-resave-data BiFET
###
##############################################################################
##############################################################################


* checking for file 'BiFET/DESCRIPTION' ... OK
* preparing 'BiFET':
* checking DESCRIPTION meta-information ... OK
* installing the package to build vignettes
* creating vignettes ... OK
* checking for LF line-endings in source and make files and shell scripts
* checking for empty or unneeded directories
* building 'BiFET_1.9.0.tar.gz'