Back to Multiple platform build/check report for BioC 3.12
A[B]CDEFGHIJKLMNOPQRSTUVWXYZ

BUILD report for biotmle on tokay1

This page was generated on 2020-08-06 12:04:53 -0400 (Thu, 06 Aug 2020).

TO THE DEVELOPERS/MAINTAINERS OF THE biotmle PACKAGE: Please make sure to use the following settings in order to reproduce any error or warning you see on this page.
Package 179/1882HostnameOS / ArchINSTALLBUILDCHECKBUILD BIN
biotmle 1.13.0
Nima Hejazi
Snapshot Date: 2020-08-05 14:50:59 -0400 (Wed, 05 Aug 2020)
URL: https://git.bioconductor.org/packages/biotmle
Branch: master
Last Commit: 971f15b
Last Changed Date: 2020-04-27 15:07:19 -0400 (Mon, 27 Apr 2020)
malbec1 Linux (Ubuntu 18.04.4 LTS) / x86_64  OK  OK  OK UNNEEDED, same version exists in internal repository
tokay1 Windows Server 2012 R2 Standard / x64  OK [ OK ] WARNINGS  OK UNNEEDED, same version exists in internal repository
merida1 macOS 10.14.6 Mojave / x86_64  OK  OK  OK  OK UNNEEDED, same version exists in internal repository

Summary

Package: biotmle
Version: 1.13.0
Command: chmod a+r biotmle -R && C:\Users\biocbuild\bbs-3.12-bioc\R\bin\R.exe CMD build --keep-empty-dirs --no-resave-data biotmle
StartedAt: 2020-08-05 21:42:54 -0400 (Wed, 05 Aug 2020)
EndedAt: 2020-08-05 21:50:21 -0400 (Wed, 05 Aug 2020)
EllapsedTime: 447.1 seconds
RetCode: 0
Status:  OK  
PackageFile: biotmle_1.13.0.tar.gz
PackageFileSize: 275.8 KiB

Command output

##############################################################################
##############################################################################
###
### Running command:
###
###   chmod a+r biotmle -R && C:\Users\biocbuild\bbs-3.12-bioc\R\bin\R.exe CMD build --keep-empty-dirs --no-resave-data biotmle
###
##############################################################################
##############################################################################


* checking for file 'biotmle/DESCRIPTION' ... OK
* preparing 'biotmle':
* checking DESCRIPTION meta-information ... OK
* installing the package to build vignettes
* creating vignettes ... OK
* checking for LF line-endings in source and make files and shell scripts
* checking for empty or unneeded directories
* building 'biotmle_1.13.0.tar.gz'