Back to Multiple platform build/check report for BioC 3.12
A[B]CDEFGHIJKLMNOPQRSTUVWXYZ

BUILD BIN report for BiocGenerics on merida1

This page was generated on 2020-08-13 11:50:21 -0400 (Thu, 13 Aug 2020).

TO THE DEVELOPERS/MAINTAINERS OF THE BiocGenerics PACKAGE: Please make sure to use the following settings in order to reproduce any error or warning you see on this page.
Package 152/1885HostnameOS / ArchINSTALLBUILDCHECKBUILD BIN
BiocGenerics 0.35.4
Bioconductor Package Maintainer
Snapshot Date: 2020-08-12 14:52:00 -0400 (Wed, 12 Aug 2020)
URL: https://git.bioconductor.org/packages/BiocGenerics
Branch: master
Last Commit: 59d6941
Last Changed Date: 2020-06-04 12:59:02 -0400 (Thu, 04 Jun 2020)
malbec1 Linux (Ubuntu 18.04.4 LTS) / x86_64  OK  OK  WARNINGS UNNEEDED, same version exists in internal repository
nebbiolo1 Linux (Ubuntu 20.04.1 LTS) / x86_64  OK  OK  WARNINGS 
tokay1 Windows Server 2012 R2 Standard / x64  OK  OK  WARNINGS  OK UNNEEDED, same version exists in internal repository
merida1 macOS 10.14.6 Mojave / x86_64  OK  OK  WARNINGS [ OK ]UNNEEDED, same version exists in internal repository

Summary

Package: BiocGenerics
Version: 0.35.4
Command: rm -rf BiocGenerics.buildbin-libdir && mkdir BiocGenerics.buildbin-libdir && /Users/biocbuild/BBS/utils/build-universal.sh BiocGenerics_0.35.4.tar.gz /Library/Frameworks/R.framework/Versions/Current/Resources/bin/R BiocGenerics.buildbin-libdir
StartedAt: 2020-08-13 06:48:05 -0400 (Thu, 13 Aug 2020)
EndedAt: 2020-08-13 06:49:13 -0400 (Thu, 13 Aug 2020)
EllapsedTime: 67.5 seconds
RetCode: 0
Status:  OK 
PackageFile: BiocGenerics_0.35.4.tgz
PackageFileSize: 638.3 KiB

Command output

##############################################################################
##############################################################################
###
### Running command:
###
###   rm -rf BiocGenerics.buildbin-libdir && mkdir BiocGenerics.buildbin-libdir && /Users/biocbuild/BBS/utils/build-universal.sh BiocGenerics_0.35.4.tar.gz /Library/Frameworks/R.framework/Versions/Current/Resources/bin/R BiocGenerics.buildbin-libdir
###
##############################################################################
##############################################################################


>>>>>>> 
>>>>>>> INSTALLATION WITH 'R CMD INSTALL --preclean --no-multiarch --library=BiocGenerics.buildbin-libdir BiocGenerics_0.35.4.tar.gz'
>>>>>>> 

* installing *source* package ‘BiocGenerics’ ...
** using staged installation
** R
** inst
** byte-compile and prepare package for lazy loading
Creating a new generic function for ‘append’ in package ‘BiocGenerics’
Creating a new generic function for ‘as.data.frame’ in package ‘BiocGenerics’
Creating a new generic function for ‘cbind’ in package ‘BiocGenerics’
Creating a new generic function for ‘rbind’ in package ‘BiocGenerics’
Creating a new generic function for ‘do.call’ in package ‘BiocGenerics’
Creating a new generic function for ‘duplicated’ in package ‘BiocGenerics’
Creating a new generic function for ‘anyDuplicated’ in package ‘BiocGenerics’
Creating a new generic function for ‘eval’ in package ‘BiocGenerics’
Creating a new generic function for ‘pmax’ in package ‘BiocGenerics’
Creating a new generic function for ‘pmin’ in package ‘BiocGenerics’
Creating a new generic function for ‘pmax.int’ in package ‘BiocGenerics’
Creating a new generic function for ‘pmin.int’ in package ‘BiocGenerics’
Creating a new generic function for ‘Reduce’ in package ‘BiocGenerics’
Creating a new generic function for ‘Filter’ in package ‘BiocGenerics’
Creating a new generic function for ‘Find’ in package ‘BiocGenerics’
Creating a new generic function for ‘Map’ in package ‘BiocGenerics’
Creating a new generic function for ‘Position’ in package ‘BiocGenerics’
Creating a new generic function for ‘get’ in package ‘BiocGenerics’
Creating a new generic function for ‘mget’ in package ‘BiocGenerics’
Creating a new generic function for ‘grep’ in package ‘BiocGenerics’
Creating a new generic function for ‘grepl’ in package ‘BiocGenerics’
Creating a new generic function for ‘is.unsorted’ in package ‘BiocGenerics’
Creating a new generic function for ‘lapply’ in package ‘BiocGenerics’
Creating a new generic function for ‘sapply’ in package ‘BiocGenerics’
Creating a new generic function for ‘mapply’ in package ‘BiocGenerics’
Creating a new generic function for ‘match’ in package ‘BiocGenerics’
Creating a new generic function for ‘order’ in package ‘BiocGenerics’
Creating a new generic function for ‘paste’ in package ‘BiocGenerics’
Creating a new generic function for ‘rank’ in package ‘BiocGenerics’
Creating a new generic function for ‘rownames’ in package ‘BiocGenerics’
Creating a new generic function for ‘colnames’ in package ‘BiocGenerics’
Creating a new generic function for ‘union’ in package ‘BiocGenerics’
Creating a new generic function for ‘intersect’ in package ‘BiocGenerics’
Creating a new generic function for ‘setdiff’ in package ‘BiocGenerics’
Creating a new generic function for ‘sort’ in package ‘BiocGenerics’
Creating a new generic function for ‘table’ in package ‘BiocGenerics’
Creating a new generic function for ‘tapply’ in package ‘BiocGenerics’
Creating a new generic function for ‘unique’ in package ‘BiocGenerics’
Creating a new generic function for ‘unsplit’ in package ‘BiocGenerics’
Creating a new generic function for ‘var’ in package ‘BiocGenerics’
Creating a new generic function for ‘sd’ in package ‘BiocGenerics’
Creating a new generic function for ‘which.min’ in package ‘BiocGenerics’
Creating a new generic function for ‘which.max’ in package ‘BiocGenerics’
Creating a new generic function for ‘IQR’ in package ‘BiocGenerics’
Creating a new generic function for ‘mad’ in package ‘BiocGenerics’
Creating a new generic function for ‘xtabs’ in package ‘BiocGenerics’
Creating a new generic function for ‘clusterCall’ in package ‘BiocGenerics’
Creating a new generic function for ‘clusterApply’ in package ‘BiocGenerics’
Creating a new generic function for ‘clusterApplyLB’ in package ‘BiocGenerics’
Creating a new generic function for ‘clusterEvalQ’ in package ‘BiocGenerics’
Creating a new generic function for ‘clusterExport’ in package ‘BiocGenerics’
Creating a new generic function for ‘clusterMap’ in package ‘BiocGenerics’
Creating a new generic function for ‘parLapply’ in package ‘BiocGenerics’
Creating a new generic function for ‘parSapply’ in package ‘BiocGenerics’
Creating a new generic function for ‘parApply’ in package ‘BiocGenerics’
Creating a new generic function for ‘parRapply’ in package ‘BiocGenerics’
Creating a new generic function for ‘parCapply’ in package ‘BiocGenerics’
Creating a new generic function for ‘parLapplyLB’ in package ‘BiocGenerics’
Creating a new generic function for ‘parSapplyLB’ in package ‘BiocGenerics’
Creating a new generic function for ‘basename’ in package ‘BiocGenerics’
Creating a new generic function for ‘dirname’ in package ‘BiocGenerics’
** help
*** installing help indices
** building package indices
** testing if installed package can be loaded from temporary location
** testing if installed package can be loaded from final location
** testing if installed package keeps a record of temporary installation path
* DONE (BiocGenerics)