Back to Multiple platform build/check report for BioC 3.12
A[B]CDEFGHIJKLMNOPQRSTUVWXYZ

CHECK report for BLMA on tokay1

This page was generated on 2020-08-12 11:46:08 -0400 (Wed, 12 Aug 2020).

TO THE DEVELOPERS/MAINTAINERS OF THE BLMA PACKAGE: Please make sure to use the following settings in order to reproduce any error or warning you see on this page.
Package 187/1885HostnameOS / ArchINSTALLBUILDCHECKBUILD BIN
BLMA 1.13.3
Hung Nguyen
Snapshot Date: 2020-08-11 14:50:16 -0400 (Tue, 11 Aug 2020)
URL: https://git.bioconductor.org/packages/BLMA
Branch: master
Last Commit: 959eb20
Last Changed Date: 2020-06-24 13:42:38 -0400 (Wed, 24 Jun 2020)
malbec1 Linux (Ubuntu 18.04.4 LTS) / x86_64  OK  OK  OK UNNEEDED, same version exists in internal repository
nebbiolo1 Linux (Ubuntu 20.04.1 LTS) / x86_64  OK  OK  OK 
tokay1 Windows Server 2012 R2 Standard / x64  OK  OK [ OK ] OK UNNEEDED, same version exists in internal repository
merida1 macOS 10.14.6 Mojave / x86_64  OK  OK  OK  OK UNNEEDED, same version exists in internal repository

Summary

Package: BLMA
Version: 1.13.3
Command: C:\Users\biocbuild\bbs-3.12-bioc\R\bin\R.exe CMD check --force-multiarch --install=check:BLMA.install-out.txt --library=C:\Users\biocbuild\bbs-3.12-bioc\R\library --no-vignettes --timings BLMA_1.13.3.tar.gz
StartedAt: 2020-08-12 04:01:08 -0400 (Wed, 12 Aug 2020)
EndedAt: 2020-08-12 04:16:01 -0400 (Wed, 12 Aug 2020)
EllapsedTime: 892.8 seconds
RetCode: 0
Status:  OK  
CheckDir: BLMA.Rcheck
Warnings: 0

Command output

##############################################################################
##############################################################################
###
### Running command:
###
###   C:\Users\biocbuild\bbs-3.12-bioc\R\bin\R.exe CMD check --force-multiarch --install=check:BLMA.install-out.txt --library=C:\Users\biocbuild\bbs-3.12-bioc\R\library --no-vignettes --timings BLMA_1.13.3.tar.gz
###
##############################################################################
##############################################################################


* using log directory 'C:/Users/biocbuild/bbs-3.12-bioc/meat/BLMA.Rcheck'
* using R version 4.0.2 (2020-06-22)
* using platform: x86_64-w64-mingw32 (64-bit)
* using session charset: ISO8859-1
* using option '--no-vignettes'
* checking for file 'BLMA/DESCRIPTION' ... OK
* checking extension type ... Package
* this is package 'BLMA' version '1.13.3'
* checking package namespace information ... OK
* checking package dependencies ... NOTE
Depends: includes the non-default packages:
  'ROntoTools', 'GSA', 'PADOG', 'limma', 'graph', 'parallel',
  'Biobase', 'metafor'
Adding so many packages to the search path is excessive and importing
selectively is preferable.
* checking if this is a source package ... OK
* checking if there is a namespace ... OK
* checking for hidden files and directories ... OK
* checking for portable file names ... OK
* checking whether package 'BLMA' can be installed ... OK
* checking installed package size ... OK
* checking package directory ... OK
* checking 'build' directory ... OK
* checking DESCRIPTION meta-information ... OK
* checking top-level files ... OK
* checking for left-over files ... OK
* checking index information ... OK
* checking package subdirectories ... OK
* checking R files for non-ASCII characters ... OK
* checking R files for syntax errors ... OK
* loading checks for arch 'i386'
** checking whether the package can be loaded ... OK
** checking whether the package can be loaded with stated dependencies ... OK
** checking whether the package can be unloaded cleanly ... OK
** checking whether the namespace can be loaded with stated dependencies ... OK
** checking whether the namespace can be unloaded cleanly ... OK
* loading checks for arch 'x64'
** checking whether the package can be loaded ... OK
** checking whether the package can be loaded with stated dependencies ... OK
** checking whether the package can be unloaded cleanly ... OK
** checking whether the namespace can be loaded with stated dependencies ... OK
** checking whether the namespace can be unloaded cleanly ... OK
* checking dependencies in R code ... OK
* checking S3 generic/method consistency ... OK
* checking replacement functions ... OK
* checking foreign function calls ... OK
* checking R code for possible problems ... NOTE
addCLT: warning in pnorm(mean(x), 1/2, sqrt(1/(12 * n)), lower = TRUE):
  partial argument match of 'lower' to 'lower.tail'
additiveMethod: warning in pnorm(sum(x), n/2, sqrt(n/12), lower =
  TRUE): partial argument match of 'lower' to 'lower.tail'
bilevelAnalysisGeneset : <anonymous>: warning in topTable(fit2, adjust
  = "none", sort.by = "logFC", number = nrow(d) * percent, p.value =
  pCutoff): partial argument match of 'adjust' to 'adjust.method'
bilevelAnalysisPathway : <anonymous>: warning in topTable(fit2, adjust
  = "none", sort.by = "logFC", number = nrow(d) * percent, p.value =
  pCutoff): partial argument match of 'adjust' to 'adjust.method'
fisherMethod: warning in pchisq(-2 * sum(log(x)), df = 2 * length(x),
  lower = FALSE): partial argument match of 'lower' to 'lower.tail'
getStatistics: warning in topTable(fit2, adjust = "fdr", sort.by = "B",
  number = Inf): partial argument match of 'adjust' to 'adjust.method'
intraAnalysisGene : <anonymous>: warning in topTable(fit2, adjust =
  "none", sort.by = "none", number = Inf): partial argument match of
  'adjust' to 'adjust.method'
intraAnalysisGene: warning in topTable(fit2, adjust = "none", sort.by =
  "none", number = Inf): partial argument match of 'adjust' to
  'adjust.method'
calculateFC: no visible binding for global variable 'm1i'
calculateFC: no visible binding for global variable 'sd1i'
calculateFC: no visible binding for global variable 'n1i'
calculateFC: no visible binding for global variable 'm2i'
calculateFC: no visible binding for global variable 'sd2i'
calculateFC: no visible binding for global variable 'n2i'
calculateFC: no visible binding for global variable 'yi'
getStatistics: no visible binding for global variable 'd'
hierClustering: no visible binding for global variable 'km'
hierClustering: no visible global function definition for 'clusGap'
hierClustering: no visible global function definition for 'maxSE'
intraAnalysisGene: no visible binding for global variable 'd'
Undefined global functions or variables:
  clusGap d km m1i m2i maxSE n1i n2i sd1i sd2i yi
* checking Rd files ... OK
* checking Rd metadata ... OK
* checking Rd cross-references ... OK
* checking for missing documentation entries ... OK
* checking for code/documentation mismatches ... OK
* checking Rd \usage sections ... OK
* checking Rd contents ... OK
* checking for unstated dependencies in examples ... OK
* checking contents of 'data' directory ... OK
* checking data for non-ASCII characters ... OK
* checking data for ASCII and uncompressed saves ... OK
* checking files in 'vignettes' ... OK
* checking examples ...
** running examples for arch 'i386' ... OK
Examples with CPU (user + system) or elapsed time > 5s
                         user system elapsed
bilevelAnalysisGeneset 108.19   1.06  109.25
getStatistics           76.00   1.11   77.18
bilevelAnalysisPathway  71.54   0.18   71.74
** running examples for arch 'x64' ... OK
Examples with CPU (user + system) or elapsed time > 5s
                         user system elapsed
bilevelAnalysisGeneset 111.02   0.10  111.12
getStatistics           99.97   0.86  100.83
bilevelAnalysisPathway  81.19   0.19   81.37
* checking for unstated dependencies in 'tests' ... OK
* checking tests ...
** running tests for arch 'i386' ...
  Running 'runTests.R'
 OK
** running tests for arch 'x64' ...
  Running 'runTests.R'
 OK
* checking for unstated dependencies in vignettes ... OK
* checking package vignettes in 'inst/doc' ... OK
* checking running R code from vignettes ... SKIPPED
* checking re-building of vignette outputs ... SKIPPED
* checking PDF version of manual ... OK
* DONE

Status: 2 NOTEs
See
  'C:/Users/biocbuild/bbs-3.12-bioc/meat/BLMA.Rcheck/00check.log'
for details.



Installation output

BLMA.Rcheck/00install.out

##############################################################################
##############################################################################
###
### Running command:
###
###   C:\cygwin\bin\curl.exe -O https://malbec1.bioconductor.org/BBS/3.12/bioc/src/contrib/BLMA_1.13.3.tar.gz && rm -rf BLMA.buildbin-libdir && mkdir BLMA.buildbin-libdir && C:\Users\biocbuild\bbs-3.12-bioc\R\bin\R.exe CMD INSTALL --merge-multiarch --build --library=BLMA.buildbin-libdir BLMA_1.13.3.tar.gz && C:\Users\biocbuild\bbs-3.12-bioc\R\bin\R.exe CMD INSTALL BLMA_1.13.3.zip && rm BLMA_1.13.3.tar.gz BLMA_1.13.3.zip
###
##############################################################################
##############################################################################


  % Total    % Received % Xferd  Average Speed   Time    Time     Time  Current
                                 Dload  Upload   Total   Spent    Left  Speed

  0     0    0     0    0     0      0      0 --:--:-- --:--:-- --:--:--     0
100 2574k  100 2574k    0     0  36.0M      0 --:--:-- --:--:-- --:--:-- 38.0M

install for i386

* installing *source* package 'BLMA' ...
** using staged installation
** R
** data
** inst
** byte-compile and prepare package for lazy loading
** help
*** installing help indices
  converting help for package 'BLMA'
    finding HTML links ... done
    GSE17054                                html  
    GSE33223                                html  
    GSE42140                                html  
    GSE57194                                html  
    addCLT                                  html  
    bilevelAnalysisClassic                  html  
    bilevelAnalysisGene                     html  
    bilevelAnalysisGeneset                  html  
    finding level-2 HTML links ... done

    bilevelAnalysisPathway                  html  
    fisherMethod                            html  
    getStatistics                           html  
    intraAnalysisClassic                    html  
    intraAnalysisGene                       html  
    loadKEGGPathways                        html  
    pORACalc                                html  
    stoufferMethod                          html  
** building package indices
** installing vignettes
** testing if installed package can be loaded from temporary location
** testing if installed package can be loaded from final location
** testing if installed package keeps a record of temporary installation path

install for x64

* installing *source* package 'BLMA' ...
** testing if installed package can be loaded
* MD5 sums
packaged installation of 'BLMA' as BLMA_1.13.3.zip
* DONE (BLMA)
* installing to library 'C:/Users/biocbuild/bbs-3.12-bioc/R/library'
package 'BLMA' successfully unpacked and MD5 sums checked

Tests output

BLMA.Rcheck/tests_i386/runTests.Rout


R version 4.0.2 (2020-06-22) -- "Taking Off Again"
Copyright (C) 2020 The R Foundation for Statistical Computing
Platform: i386-w64-mingw32/i386 (32-bit)

R is free software and comes with ABSOLUTELY NO WARRANTY.
You are welcome to redistribute it under certain conditions.
Type 'license()' or 'licence()' for distribution details.

R is a collaborative project with many contributors.
Type 'contributors()' for more information and
'citation()' on how to cite R or R packages in publications.

Type 'demo()' for some demos, 'help()' for on-line help, or
'help.start()' for an HTML browser interface to help.
Type 'q()' to quit R.

> BiocGenerics:::testPackage("BLMA")

Attaching package: 'BiocGenerics'

The following objects are masked from 'package:parallel':

    clusterApply, clusterApplyLB, clusterCall, clusterEvalQ,
    clusterExport, clusterMap, parApply, parCapply, parLapply,
    parLapplyLB, parRapply, parSapply, parSapplyLB

The following objects are masked from 'package:stats':

    IQR, mad, sd, var, xtabs

The following objects are masked from 'package:base':

    Filter, Find, Map, Position, Reduce, anyDuplicated, append,
    as.data.frame, basename, cbind, colnames, dirname, do.call,
    duplicated, eval, evalq, get, grep, grepl, intersect, is.unsorted,
    lapply, mapply, match, mget, order, paste, pmax, pmax.int, pmin,
    pmin.int, rank, rbind, rownames, sapply, setdiff, sort, table,
    tapply, union, unique, unsplit, which.max, which.min


Attaching package: 'KEGGgraph'

The following object is masked from 'package:graphics':

    plot

The following object is masked from 'package:base':

    plot

Welcome to Bioconductor

    Vignettes contain introductory material; view with
    'browseVignettes()'. To cite Bioconductor, see
    'citation("Biobase")', and for packages 'citation("pkgname")'.




Attaching package: 'limma'

The following object is masked from 'package:BiocGenerics':

    plotMA

Loading 'metafor' package (version 2.4-0). For an overview 
and introduction to the package please type: help(metafor).
Working on dataset GSE17054, 9 samples 
Using cached pathway data. Database info:
pathway          KEGG Pathway Database
path             Release 73.0+/01-03, Jan 15
                 Kanehisa Laboratories
                 343,170 entries
Default parameters detected. Using pre-parsed data.
Working on dataset GSE17054, 9 samples 
GSM426404, GSM426405, GSM426406, GSM426407, GSM426412
Working on dataset GSE17054, 9 samples 
GSM426404, GSM426405, GSM426406, GSM426407, GSM426412
Working on dataset GSE17054, 9 samples 
GSM426404, GSM426405, GSM426406, GSM426407, GSM426412
Using cached pathway data. Database info:
pathway          KEGG Pathway Database
path             Release 73.0+/01-03, Jan 15
                 Kanehisa Laboratories
                 343,170 entries
Default parameters detected. Using pre-parsed data.
Working on dataset GSE17054, 9 samples 
GSM426404, GSM426405, GSM426406, GSM426407, GSM426412
Using cached pathway data. Database info:
pathway          KEGG Pathway Database
path             Release 73.0+/01-03, Jan 15
                 Kanehisa Laboratories
                 343,170 entries
Default parameters detected. Using pre-parsed data.


RUNIT TEST PROTOCOL -- Wed Aug 12 04:15:15 2020 
*********************************************** 
Number of test functions: 10 
Number of errors: 0 
Number of failures: 0 

 
1 Test Suite : 
BLMA RUnit Tests - 10 test functions, 0 errors, 0 failures
Number of test functions: 10 
Number of errors: 0 
Number of failures: 0 
> 
> proc.time()
   user  system elapsed 
  35.85    1.14   37.00 

BLMA.Rcheck/tests_x64/runTests.Rout


R version 4.0.2 (2020-06-22) -- "Taking Off Again"
Copyright (C) 2020 The R Foundation for Statistical Computing
Platform: x86_64-w64-mingw32/x64 (64-bit)

R is free software and comes with ABSOLUTELY NO WARRANTY.
You are welcome to redistribute it under certain conditions.
Type 'license()' or 'licence()' for distribution details.

R is a collaborative project with many contributors.
Type 'contributors()' for more information and
'citation()' on how to cite R or R packages in publications.

Type 'demo()' for some demos, 'help()' for on-line help, or
'help.start()' for an HTML browser interface to help.
Type 'q()' to quit R.

> BiocGenerics:::testPackage("BLMA")

Attaching package: 'BiocGenerics'

The following objects are masked from 'package:parallel':

    clusterApply, clusterApplyLB, clusterCall, clusterEvalQ,
    clusterExport, clusterMap, parApply, parCapply, parLapply,
    parLapplyLB, parRapply, parSapply, parSapplyLB

The following objects are masked from 'package:stats':

    IQR, mad, sd, var, xtabs

The following objects are masked from 'package:base':

    Filter, Find, Map, Position, Reduce, anyDuplicated, append,
    as.data.frame, basename, cbind, colnames, dirname, do.call,
    duplicated, eval, evalq, get, grep, grepl, intersect, is.unsorted,
    lapply, mapply, match, mget, order, paste, pmax, pmax.int, pmin,
    pmin.int, rank, rbind, rownames, sapply, setdiff, sort, table,
    tapply, union, unique, unsplit, which.max, which.min


Attaching package: 'KEGGgraph'

The following object is masked from 'package:graphics':

    plot

The following object is masked from 'package:base':

    plot

Welcome to Bioconductor

    Vignettes contain introductory material; view with
    'browseVignettes()'. To cite Bioconductor, see
    'citation("Biobase")', and for packages 'citation("pkgname")'.




Attaching package: 'limma'

The following object is masked from 'package:BiocGenerics':

    plotMA

Loading 'metafor' package (version 2.4-0). For an overview 
and introduction to the package please type: help(metafor).
Working on dataset GSE17054, 9 samples 
Using cached pathway data. Database info:
pathway          KEGG Pathway Database
path             Release 73.0+/01-03, Jan 15
                 Kanehisa Laboratories
                 343,170 entries
Default parameters detected. Using pre-parsed data.
Working on dataset GSE17054, 9 samples 
GSM426404, GSM426405, GSM426406, GSM426407, GSM426412
Working on dataset GSE17054, 9 samples 
GSM426404, GSM426405, GSM426406, GSM426407, GSM426412
Working on dataset GSE17054, 9 samples 
GSM426404, GSM426405, GSM426406, GSM426407, GSM426412
Using cached pathway data. Database info:
pathway          KEGG Pathway Database
path             Release 73.0+/01-03, Jan 15
                 Kanehisa Laboratories
                 343,170 entries
Default parameters detected. Using pre-parsed data.
Working on dataset GSE17054, 9 samples 
GSM426404, GSM426405, GSM426406, GSM426407, GSM426412
Using cached pathway data. Database info:
pathway          KEGG Pathway Database
path             Release 73.0+/01-03, Jan 15
                 Kanehisa Laboratories
                 343,170 entries
Default parameters detected. Using pre-parsed data.


RUNIT TEST PROTOCOL -- Wed Aug 12 04:15:54 2020 
*********************************************** 
Number of test functions: 10 
Number of errors: 0 
Number of failures: 0 

 
1 Test Suite : 
BLMA RUnit Tests - 10 test functions, 0 errors, 0 failures
Number of test functions: 10 
Number of errors: 0 
Number of failures: 0 
> 
> proc.time()
   user  system elapsed 
  38.10    0.53   38.82 

Example timings

BLMA.Rcheck/examples_i386/BLMA-Ex.timings

nameusersystemelapsed
addCLT0.020.000.01
bilevelAnalysisClassic000
bilevelAnalysisGene2.450.252.70
bilevelAnalysisGeneset108.19 1.06109.25
bilevelAnalysisPathway71.54 0.1871.74
fisherMethod000
getStatistics76.00 1.1177.18
intraAnalysisClassic0.020.000.02
intraAnalysisGene0.580.010.59
loadKEGGPathways2.180.002.19
stoufferMethod000

BLMA.Rcheck/examples_x64/BLMA-Ex.timings

nameusersystemelapsed
addCLT000
bilevelAnalysisClassic0.010.000.02
bilevelAnalysisGene4.760.074.83
bilevelAnalysisGeneset111.02 0.10111.12
bilevelAnalysisPathway81.19 0.1981.37
fisherMethod000
getStatistics 99.97 0.86100.83
intraAnalysisClassic0.010.000.02
intraAnalysisGene1.080.011.09
loadKEGGPathways4.30.04.3
stoufferMethod000