Back to Multiple platform build/check report for BioC 3.12 |
|
This page was generated on 2021-01-19 11:51:51 -0500 (Tue, 19 Jan 2021).
TO THE DEVELOPERS/MAINTAINERS OF THE geneClassifiers PACKAGE: Please make sure to use the following settings in order to reproduce any error or warning you see on this page. |
Package 685/1974 | Hostname | OS / Arch | INSTALL | BUILD | CHECK | BUILD BIN | ||||||
geneClassifiers 1.14.0 R Kuiper
| malbec1 | Linux (Ubuntu 18.04.5 LTS) / x86_64 | OK | [ OK ] | OK | ![]() | ||||||
nebbiolo1 | Linux (Ubuntu 20.04.1 LTS) / x86_64 | OK | OK | OK | ||||||||
tokay1 | Windows Server 2012 R2 Standard / x64 | OK | OK | OK | OK | ![]() | ||||||
merida1 | macOS 10.14.6 Mojave / x86_64 | OK | OK | OK | OK | ![]() |
Package: geneClassifiers |
Version: 1.14.0 |
Command: /home/biocbuild/bbs-3.12-bioc/R/bin/R CMD build --keep-empty-dirs --no-resave-data geneClassifiers |
StartedAt: 2021-01-18 19:37:53 -0500 (Mon, 18 Jan 2021) |
EndedAt: 2021-01-18 19:38:05 -0500 (Mon, 18 Jan 2021) |
EllapsedTime: 12.0 seconds |
RetCode: 0 |
Status: OK |
PackageFile: geneClassifiers_1.14.0.tar.gz |
PackageFileSize: 1.763 MiB |
############################################################################## ############################################################################## ### ### Running command: ### ### /home/biocbuild/bbs-3.12-bioc/R/bin/R CMD build --keep-empty-dirs --no-resave-data geneClassifiers ### ############################################################################## ############################################################################## * checking for file ‘geneClassifiers/DESCRIPTION’ ... OK * preparing ‘geneClassifiers’: * checking DESCRIPTION meta-information ... OK * installing the package to build vignettes * creating vignettes ... OK * checking for LF line-endings in source and make files and shell scripts * checking for empty or unneeded directories * building ‘geneClassifiers_1.14.0.tar.gz’