Back to Multiple platform build/check report for BioC 3.12
A[B]CDEFGHIJKLMNOPQRSTUVWXYZ

BUILD BIN report for BiocSingular on merida1

This page was generated on 2020-08-13 11:58:53 -0400 (Thu, 13 Aug 2020).

TO THE DEVELOPERS/MAINTAINERS OF THE BiocSingular PACKAGE: Please make sure to use the following settings in order to reproduce any error or warning you see on this page.
Package 160/1885HostnameOS / ArchINSTALLBUILDCHECKBUILD BIN
BiocSingular 1.5.0
Aaron Lun
Snapshot Date: 2020-08-12 14:52:00 -0400 (Wed, 12 Aug 2020)
URL: https://git.bioconductor.org/packages/BiocSingular
Branch: master
Last Commit: 8e5c260
Last Changed Date: 2020-04-27 15:23:30 -0400 (Mon, 27 Apr 2020)
malbec1 Linux (Ubuntu 18.04.4 LTS) / x86_64  OK  OK  OK UNNEEDED, same version exists in internal repository
nebbiolo1 Linux (Ubuntu 20.04.1 LTS) / x86_64  OK  OK  OK 
tokay1 Windows Server 2012 R2 Standard / x64  OK  OK  OK  OK UNNEEDED, same version exists in internal repository
merida1 macOS 10.14.6 Mojave / x86_64  OK  OK  OK [ OK ]UNNEEDED, same version exists in internal repository

Summary

Package: BiocSingular
Version: 1.5.0
Command: rm -rf BiocSingular.buildbin-libdir && mkdir BiocSingular.buildbin-libdir && /Users/biocbuild/BBS/utils/build-universal.sh BiocSingular_1.5.0.tar.gz /Library/Frameworks/R.framework/Versions/Current/Resources/bin/R BiocSingular.buildbin-libdir
StartedAt: 2020-08-13 08:21:18 -0400 (Thu, 13 Aug 2020)
EndedAt: 2020-08-13 08:22:23 -0400 (Thu, 13 Aug 2020)
EllapsedTime: 65.2 seconds
RetCode: 0
Status:  OK 
PackageFile: BiocSingular_1.5.0.tgz
PackageFileSize: 1.039 MiB

Command output

##############################################################################
##############################################################################
###
### Running command:
###
###   rm -rf BiocSingular.buildbin-libdir && mkdir BiocSingular.buildbin-libdir && /Users/biocbuild/BBS/utils/build-universal.sh BiocSingular_1.5.0.tar.gz /Library/Frameworks/R.framework/Versions/Current/Resources/bin/R BiocSingular.buildbin-libdir
###
##############################################################################
##############################################################################


>>>>>>> 
>>>>>>> INSTALLATION WITH 'R CMD INSTALL --preclean --no-multiarch --library=BiocSingular.buildbin-libdir BiocSingular_1.5.0.tar.gz'
>>>>>>> 

* installing *source* package ‘BiocSingular’ ...
** using staged installation
** libs
clang++ -mmacosx-version-min=10.13 -std=gnu++11 -I"/Library/Frameworks/R.framework/Resources/include" -DNDEBUG  -I'/Library/Frameworks/R.framework/Versions/4.0/Resources/library/Rcpp/include' -I'/Library/Frameworks/R.framework/Versions/4.0/Resources/library/beachmat/include' -I/usr/local/include   -fPIC  -Wall -g -O2  -c RcppExports.cpp -o RcppExports.o
clang++ -mmacosx-version-min=10.13 -std=gnu++11 -I"/Library/Frameworks/R.framework/Resources/include" -DNDEBUG  -I'/Library/Frameworks/R.framework/Versions/4.0/Resources/library/Rcpp/include' -I'/Library/Frameworks/R.framework/Versions/4.0/Resources/library/beachmat/include' -I/usr/local/include   -fPIC  -Wall -g -O2  -c compute_scale.cpp -o compute_scale.o
clang++ -mmacosx-version-min=10.13 -std=gnu++11 -dynamiclib -Wl,-headerpad_max_install_names -undefined dynamic_lookup -single_module -multiply_defined suppress -L/Library/Frameworks/R.framework/Resources/lib -L/usr/local/lib -o BiocSingular.so RcppExports.o compute_scale.o -F/Library/Frameworks/R.framework/.. -framework R -Wl,-framework -Wl,CoreFoundation
installing to /Users/biocbuild/bbs-3.12-bioc/meat/BiocSingular.buildbin-libdir/00LOCK-BiocSingular/00new/BiocSingular/libs
** R
** inst
** byte-compile and prepare package for lazy loading
** help
*** installing help indices
** building package indices
** installing vignettes
** testing if installed package can be loaded from temporary location
** checking absolute paths in shared objects and dynamic libraries
** testing if installed package can be loaded from final location
** testing if installed package keeps a record of temporary installation path
* DONE (BiocSingular)


>>>>>>> 
>>>>>>> FIXING LINKS FOR BiocSingular.buildbin-libdir/BiocSingular/libs/BiocSingular.so
>>>>>>> 

install_name_tool -change "/usr/local/lib/libgcc_s.1.dylib" "/Library/Frameworks/R.framework/Versions/4.0/Resources/lib/libgcc_s.1.dylib" "BiocSingular.buildbin-libdir/BiocSingular/libs/BiocSingular.so"
install_name_tool -change "/usr/local/lib/libgfortran.5.dylib" "/Library/Frameworks/R.framework/Versions/4.0/Resources/lib/libgfortran.5.dylib" "BiocSingular.buildbin-libdir/BiocSingular/libs/BiocSingular.so"
install_name_tool -change "/usr/local/lib/libquadmath.0.dylib" "/Library/Frameworks/R.framework/Versions/4.0/Resources/lib/libquadmath.0.dylib" "BiocSingular.buildbin-libdir/BiocSingular/libs/BiocSingular.so"