Back to Multiple platform build/check report for BioC 3.12 |
|
This page was generated on 2021-05-06 12:32:11 -0400 (Thu, 06 May 2021).
To the developers/maintainers of the metagene package: Please make sure to use the following settings in order to reproduce any error or warning you see on this page. |
Package 1051/1974 | Hostname | OS / Arch | INSTALL | BUILD | CHECK | BUILD BIN | ||||||||
metagene 2.22.0 (landing page) Charles Joly Beauparlant
| malbec1 | Linux (Ubuntu 18.04.5 LTS) / x86_64 | OK | OK | OK | |||||||||
tokay1 | Windows Server 2012 R2 Standard / x64 | OK | OK | OK | OK | |||||||||
merida1 | macOS 10.14.6 Mojave / x86_64 | OK | OK | OK | OK | |||||||||
Package: metagene |
Version: 2.22.0 |
Command: rm -rf metagene.buildbin-libdir && mkdir metagene.buildbin-libdir && C:\Users\biocbuild\bbs-3.12-bioc\R\bin\R.exe CMD INSTALL --merge-multiarch --build --library=metagene.buildbin-libdir metagene_2.22.0.tar.gz |
StartedAt: 2021-05-06 09:29:13 -0400 (Thu, 06 May 2021) |
EndedAt: 2021-05-06 09:30:44 -0400 (Thu, 06 May 2021) |
EllapsedTime: 91.0 seconds |
RetCode: 0 |
Status: OK |
PackageFile: metagene_2.22.0.zip |
PackageFileSize: 6.413 MiB |
############################################################################## ############################################################################## ### ### Running command: ### ### rm -rf metagene.buildbin-libdir && mkdir metagene.buildbin-libdir && C:\Users\biocbuild\bbs-3.12-bioc\R\bin\R.exe CMD INSTALL --merge-multiarch --build --library=metagene.buildbin-libdir metagene_2.22.0.tar.gz ### ############################################################################## ############################################################################## install for i386 * installing *source* package 'metagene' ... ** using staged installation ** R ** data *** moving datasets to lazyload DB ** inst ** byte-compile and prepare package for lazy loading ** help *** installing help indices converting help for package 'metagene' finding HTML links ... done Bam_Handler html avoid_gaps_update html bed_file_filter html exon_by_gene_with_observed_transcripts html get_demo_bam_files html get_demo_design html get_demo_metagene html get_demo_regions html get_promoters_txdb html metagene html permutation_test html plot_metagene html promoters_hg18 html promoters_hg19 html promoters_mm10 html promoters_mm9 html write_bed_file_filter_result html ** building package indices ** installing vignettes ** testing if installed package can be loaded from temporary location ** testing if installed package can be loaded from final location ** testing if installed package keeps a record of temporary installation path install for x64 * installing *source* package 'metagene' ... ** testing if installed package can be loaded * MD5 sums packaged installation of 'metagene' as metagene_2.22.0.zip * DONE (metagene)