Back to Multiple platform build/check report for BioC 3.12
A[B]CDEFGHIJKLMNOPQRSTUVWXYZ

BUILD report for Basic4Cseq on malbec1

This page was generated on 2020-10-24 10:56:23 -0400 (Sat, 24 Oct 2020).

TO THE DEVELOPERS/MAINTAINERS OF THE Basic4Cseq PACKAGE: Please make sure to use the following settings in order to reproduce any error or warning you see on this page.
Package 118/1974HostnameOS / ArchINSTALLBUILDCHECKBUILD BIN
Basic4Cseq 1.25.0
Carolin Walter
Snapshot Date: 2020-10-23 14:40:36 -0400 (Fri, 23 Oct 2020)
URL: https://git.bioconductor.org/packages/Basic4Cseq
Branch: master
Last Commit: e3986b9
Last Changed Date: 2020-04-27 14:38:54 -0400 (Mon, 27 Apr 2020)
malbec1 Linux (Ubuntu 18.04.4 LTS) / x86_64  OK [ OK ] OK UNNEEDED, same version exists in internal repository
nebbiolo1 Linux (Ubuntu 20.04.1 LTS) / x86_64  OK  OK  OK 
tokay1 Windows Server 2012 R2 Standard / x64  OK  OK  OK  OK UNNEEDED, same version exists in internal repository
riesling1 Windows Server 2019 Standard / x64  OK  OK  OK  OK 
merida1 macOS 10.14.6 Mojave / x86_64  OK  OK  OK  OK UNNEEDED, same version exists in internal repository

Summary

Package: Basic4Cseq
Version: 1.25.0
Command: /home/biocbuild/bbs-3.12-bioc/R/bin/R CMD build --keep-empty-dirs --no-resave-data Basic4Cseq
StartedAt: 2020-10-23 18:02:11 -0400 (Fri, 23 Oct 2020)
EndedAt: 2020-10-23 18:03:11 -0400 (Fri, 23 Oct 2020)
EllapsedTime: 60.1 seconds
RetCode: 0
Status:  OK 
PackageFile: Basic4Cseq_1.25.0.tar.gz
PackageFileSize: 438.1 KiB

Command output

##############################################################################
##############################################################################
###
### Running command:
###
###   /home/biocbuild/bbs-3.12-bioc/R/bin/R CMD build --keep-empty-dirs --no-resave-data Basic4Cseq
###
##############################################################################
##############################################################################


* checking for file ‘Basic4Cseq/DESCRIPTION’ ... OK
* preparing ‘Basic4Cseq’:
* checking DESCRIPTION meta-information ... OK
* installing the package to build vignettes
* creating vignettes ... OK
* checking for LF line-endings in source and make files and shell scripts
* checking for empty or unneeded directories
* looking to see if a ‘data/datalist’ file should be added
* building ‘Basic4Cseq_1.25.0.tar.gz’