Back to Multiple platform build/check report for BioC 3.12
[A]BCDEFGHIJKLMNOPQRSTUVWXYZ

BUILD report for anota2seq on merida1

This page was generated on 2020-08-13 11:56:52 -0400 (Thu, 13 Aug 2020).

TO THE DEVELOPERS/MAINTAINERS OF THE anota2seq PACKAGE: Please make sure to use the following settings in order to reproduce any error or warning you see on this page.
Package 67/1885HostnameOS / ArchINSTALLBUILDCHECKBUILD BIN
anota2seq 1.11.0
Christian Oertlin , Julie Lorent
Snapshot Date: 2020-08-12 14:52:00 -0400 (Wed, 12 Aug 2020)
URL: https://git.bioconductor.org/packages/anota2seq
Branch: master
Last Commit: 0e34b88
Last Changed Date: 2020-04-27 15:11:14 -0400 (Mon, 27 Apr 2020)
malbec1 Linux (Ubuntu 18.04.4 LTS) / x86_64  OK  OK  OK UNNEEDED, same version exists in internal repository
nebbiolo1 Linux (Ubuntu 20.04.1 LTS) / x86_64  OK  OK  OK 
tokay1 Windows Server 2012 R2 Standard / x64  OK  OK  OK  OK UNNEEDED, same version exists in internal repository
merida1 macOS 10.14.6 Mojave / x86_64  OK [ OK ] OK  OK UNNEEDED, same version exists in internal repository

Summary

Package: anota2seq
Version: 1.11.0
Command: /Library/Frameworks/R.framework/Versions/Current/Resources/bin/R CMD build --keep-empty-dirs --no-resave-data anota2seq
StartedAt: 2020-08-12 20:43:43 -0400 (Wed, 12 Aug 2020)
EndedAt: 2020-08-12 20:47:49 -0400 (Wed, 12 Aug 2020)
EllapsedTime: 246.6 seconds
RetCode: 0
Status:  OK 
PackageFile: anota2seq_1.11.0.tar.gz
PackageFileSize: 1005 KiB

Command output

##############################################################################
##############################################################################
###
### Running command:
###
###   /Library/Frameworks/R.framework/Versions/Current/Resources/bin/R CMD build --keep-empty-dirs --no-resave-data anota2seq
###
##############################################################################
##############################################################################


* checking for file ‘anota2seq/DESCRIPTION’ ... OK
* preparing ‘anota2seq’:
* checking DESCRIPTION meta-information ... OK
* installing the package to build vignettes
* creating vignettes ... OK
* checking for LF line-endings in source and make files and shell scripts
* checking for empty or unneeded directories
* building ‘anota2seq_1.11.0.tar.gz’