Back to Multiple platform build/check report for BioC 3.12
A[B]CDEFGHIJKLMNOPQRSTUVWXYZ

CHECK report for BANDITS on malbec1

This page was generated on 2021-02-22 12:28:38 -0500 (Mon, 22 Feb 2021).

To the developers/maintainers of the BANDITS package:
Please make sure to use the following settings in order to reproduce any error or warning you see on this page.
Package 114/1974HostnameOS / ArchINSTALLBUILDCHECKBUILD BIN
BANDITS 1.6.0
Simone Tiberi
Snapshot Date: 2021-02-21 14:52:07 -0500 (Sun, 21 Feb 2021)
URL: https://git.bioconductor.org/packages/BANDITS
Branch: RELEASE_3_12
Last Commit: 5446a54
Last Changed Date: 2020-10-27 11:44:55 -0500 (Tue, 27 Oct 2020)
malbec1Linux (Ubuntu 18.04.5 LTS) / x86_64  OK    OK    OK  UNNEEDED, same version exists in internal repository
nebbiolo1Linux (Ubuntu 20.04.2 LTS) / x86_64  OK    OK    OK  
tokay1Windows Server 2012 R2 Standard / x64  OK    OK    OK    OK  UNNEEDED, same version exists in internal repository
merida1macOS 10.14.6 Mojave / x86_64  OK    OK    OK    OK  UNNEEDED, same version exists in internal repository

Summary

Package: BANDITS
Version: 1.6.0
Command: /home/biocbuild/bbs-3.12-bioc/R/bin/R CMD check --install=check:BANDITS.install-out.txt --library=/home/biocbuild/bbs-3.12-bioc/R/library --no-vignettes --timings BANDITS_1.6.0.tar.gz
StartedAt: 2021-02-21 23:40:38 -0500 (Sun, 21 Feb 2021)
EndedAt: 2021-02-21 23:44:27 -0500 (Sun, 21 Feb 2021)
EllapsedTime: 228.7 seconds
RetCode: 0
Status:   OK  
CheckDir: BANDITS.Rcheck
Warnings: 0

Command output

##############################################################################
##############################################################################
###
### Running command:
###
###   /home/biocbuild/bbs-3.12-bioc/R/bin/R CMD check --install=check:BANDITS.install-out.txt --library=/home/biocbuild/bbs-3.12-bioc/R/library --no-vignettes --timings BANDITS_1.6.0.tar.gz
###
##############################################################################
##############################################################################


* using log directory ‘/home/biocbuild/bbs-3.12-bioc/meat/BANDITS.Rcheck’
* using R version 4.0.3 (2020-10-10)
* using platform: x86_64-pc-linux-gnu (64-bit)
* using session charset: UTF-8
* using option ‘--no-vignettes’
* checking for file ‘BANDITS/DESCRIPTION’ ... OK
* checking extension type ... Package
* this is package ‘BANDITS’ version ‘1.6.0’
* checking package namespace information ... OK
* checking package dependencies ... OK
* checking if this is a source package ... OK
* checking if there is a namespace ... OK
* checking for hidden files and directories ... OK
* checking for portable file names ... OK
* checking for sufficient/correct file permissions ... OK
* checking whether package ‘BANDITS’ can be installed ... OK
* checking installed package size ... NOTE
  installed size is  7.1Mb
  sub-directories of 1Mb or more:
    extdata   1.4Mb
    libs      5.2Mb
* checking package directory ... OK
* checking ‘build’ directory ... OK
* checking DESCRIPTION meta-information ... OK
* checking top-level files ... OK
* checking for left-over files ... OK
* checking index information ... OK
* checking package subdirectories ... OK
* checking R files for non-ASCII characters ... OK
* checking R files for syntax errors ... OK
* checking whether the package can be loaded ... OK
* checking whether the package can be loaded with stated dependencies ... OK
* checking whether the package can be unloaded cleanly ... OK
* checking whether the namespace can be loaded with stated dependencies ... OK
* checking whether the namespace can be unloaded cleanly ... OK
* checking dependencies in R code ... NOTE
Namespace in Imports field not imported from: ‘R.utils’
  All declared Imports should be used.
* checking S3 generic/method consistency ... OK
* checking replacement functions ... OK
* checking foreign function calls ... OK
* checking R code for possible problems ... NOTE
infer_one_group: no visible binding for global variable ‘p’
plot_precision: no visible binding for global variable ‘x’
test_DTU: no visible binding for global variable ‘p’
test_DTU_multi_group: no visible binding for global variable ‘p’
Undefined global functions or variables:
  p x
* checking Rd files ... OK
* checking Rd metadata ... OK
* checking Rd cross-references ... OK
* checking for missing documentation entries ... OK
* checking for code/documentation mismatches ... OK
* checking Rd \usage sections ... OK
* checking Rd contents ... OK
* checking for unstated dependencies in examples ... OK
* checking contents of ‘data’ directory ... OK
* checking data for non-ASCII characters ... OK
* checking data for ASCII and uncompressed saves ... OK
* checking line endings in C/C++/Fortran sources/headers ... OK
* checking line endings in Makefiles ... OK
* checking compilation flags in Makevars ... OK
* checking for GNU extensions in Makefiles ... OK
* checking for portable use of $(BLAS_LIBS) and $(LAPACK_LIBS) ... OK
* checking use of PKG_*FLAGS in Makefiles ... OK
* checking compiled code ... NOTE
Note: information on .o files is not available
* checking files in ‘vignettes’ ... OK
* checking examples ... OK
Examples with CPU (user + system) or elapsed time > 5s
                  user system elapsed
prior_precision 72.284 26.024  50.833
create_data      1.024  0.164  15.270
test_DTU         0.172  0.084  14.636
* checking for unstated dependencies in ‘tests’ ... OK
* checking tests ...
  Running ‘testthat.R’
 OK
* checking for unstated dependencies in vignettes ... OK
* checking package vignettes in ‘inst/doc’ ... OK
* checking running R code from vignettes ... SKIPPED
* checking re-building of vignette outputs ... SKIPPED
* checking PDF version of manual ... OK
* DONE

Status: 4 NOTEs
See
  ‘/home/biocbuild/bbs-3.12-bioc/meat/BANDITS.Rcheck/00check.log’
for details.



Installation output

BANDITS.Rcheck/00install.out

##############################################################################
##############################################################################
###
### Running command:
###
###   /home/biocbuild/bbs-3.12-bioc/R/bin/R CMD INSTALL BANDITS
###
##############################################################################
##############################################################################


* installing to library ‘/home/biocbuild/bbs-3.12-bioc/R/library’
* installing *source* package ‘BANDITS’ ...
** using staged installation
** libs
g++ -std=gnu++11 -I"/home/biocbuild/bbs-3.12-bioc/R/include" -DNDEBUG  -I'/home/biocbuild/bbs-3.12-bioc/R/library/Rcpp/include' -I'/home/biocbuild/bbs-3.12-bioc/R/library/RcppArmadillo/include' -I/usr/local/include   -fpic  -g -O2  -Wall -c RcppExports.cpp -o RcppExports.o
g++ -std=gnu++11 -I"/home/biocbuild/bbs-3.12-bioc/R/include" -DNDEBUG  -I'/home/biocbuild/bbs-3.12-bioc/R/library/Rcpp/include' -I'/home/biocbuild/bbs-3.12-bioc/R/library/RcppArmadillo/include' -I/usr/local/include   -fpic  -g -O2  -Wall -c Rcpp_Together.cpp -o Rcpp_Together.o
g++ -std=gnu++11 -I"/home/biocbuild/bbs-3.12-bioc/R/include" -DNDEBUG  -I'/home/biocbuild/bbs-3.12-bioc/R/library/Rcpp/include' -I'/home/biocbuild/bbs-3.12-bioc/R/library/RcppArmadillo/include' -I/usr/local/include   -fpic  -g -O2  -Wall -c Rcpp_Together_MultiGroup.cpp -o Rcpp_Together_MultiGroup.o
g++ -std=gnu++11 -I"/home/biocbuild/bbs-3.12-bioc/R/include" -DNDEBUG  -I'/home/biocbuild/bbs-3.12-bioc/R/library/Rcpp/include' -I'/home/biocbuild/bbs-3.12-bioc/R/library/RcppArmadillo/include' -I/usr/local/include   -fpic  -g -O2  -Wall -c Rcpp_Unique.cpp -o Rcpp_Unique.o
g++ -std=gnu++11 -I"/home/biocbuild/bbs-3.12-bioc/R/include" -DNDEBUG  -I'/home/biocbuild/bbs-3.12-bioc/R/library/Rcpp/include' -I'/home/biocbuild/bbs-3.12-bioc/R/library/RcppArmadillo/include' -I/usr/local/include   -fpic  -g -O2  -Wall -c Rcpp_Unique_MultiGroup.cpp -o Rcpp_Unique_MultiGroup.o
g++ -std=gnu++11 -shared -L/home/biocbuild/bbs-3.12-bioc/R/lib -L/usr/local/lib -o BANDITS.so RcppExports.o Rcpp_Together.o Rcpp_Together_MultiGroup.o Rcpp_Unique.o Rcpp_Unique_MultiGroup.o -L/home/biocbuild/bbs-3.12-bioc/R/lib -lRlapack -L/home/biocbuild/bbs-3.12-bioc/R/lib -lRblas -lgfortran -lm -lquadmath -L/home/biocbuild/bbs-3.12-bioc/R/lib -lR
installing to /home/biocbuild/bbs-3.12-bioc/R/library/00LOCK-BANDITS/00new/BANDITS/libs
** R
** data
** inst
** byte-compile and prepare package for lazy loading
** help
*** installing help indices
** building package indices
** installing vignettes
** testing if installed package can be loaded from temporary location
** checking absolute paths in shared objects and dynamic libraries
** testing if installed package can be loaded from final location
** testing if installed package keeps a record of temporary installation path
* DONE (BANDITS)

Tests output

BANDITS.Rcheck/tests/testthat.Rout


R version 4.0.3 (2020-10-10) -- "Bunny-Wunnies Freak Out"
Copyright (C) 2020 The R Foundation for Statistical Computing
Platform: x86_64-pc-linux-gnu (64-bit)

R is free software and comes with ABSOLUTELY NO WARRANTY.
You are welcome to redistribute it under certain conditions.
Type 'license()' or 'licence()' for distribution details.

R is a collaborative project with many contributors.
Type 'contributors()' for more information and
'citation()' on how to cite R or R packages in publications.

Type 'demo()' for some demos, 'help()' for on-line help, or
'help.start()' for an HTML browser interface to help.
Type 'q()' to quit R.

> library(testthat)
> library(BANDITS)
> test_check("BANDITS")
[ FAIL 0 | WARN 2 | SKIP 0 | PASS 34 ]
> 
> proc.time()
   user  system elapsed 
 11.768   6.160  20.636 

Example timings

BANDITS.Rcheck/BANDITS-Ex.timings

nameusersystemelapsed
BANDITS_data-class0.0080.0000.007
BANDITS_test-class0.4680.0040.470
create_data 1.024 0.16415.270
eff_len_compute0.1640.0160.183
filter_genes0.0120.0000.011
filter_transcripts0.7280.0240.754
gene_tr_id0.0080.0000.006
input_data0.0040.0000.004
plot_precision0.0040.0040.009
precision0.0000.0000.002
prior_precision72.28426.02450.833
results0.0040.0000.003
test_DTU 0.172 0.08414.636