Back to Multiple platform build/check report for BioC 3.12
[A]BCDEFGHIJKLMNOPQRSTUVWXYZ

BUILD BIN report for ALPS on merida1

This page was generated on 2020-08-06 12:29:12 -0400 (Thu, 06 Aug 2020).

TO THE DEVELOPERS/MAINTAINERS OF THE ALPS PACKAGE: Please make sure to use the following settings in order to reproduce any error or warning you see on this page.
Package 45/1882HostnameOS / ArchINSTALLBUILDCHECKBUILD BIN
ALPS 1.3.0
Venu Thatikonda
Snapshot Date: 2020-08-05 14:50:59 -0400 (Wed, 05 Aug 2020)
URL: https://git.bioconductor.org/packages/ALPS
Branch: master
Last Commit: 10e65ff
Last Changed Date: 2020-04-27 15:31:37 -0400 (Mon, 27 Apr 2020)
malbec1 Linux (Ubuntu 18.04.4 LTS) / x86_64  OK  OK  OK UNNEEDED, same version exists in internal repository
tokay1 Windows Server 2012 R2 Standard / x64  OK  OK  OK  OK UNNEEDED, same version exists in internal repository
merida1 macOS 10.14.6 Mojave / x86_64  OK  OK  OK [ OK ]UNNEEDED, same version exists in internal repository

Summary

Package: ALPS
Version: 1.3.0
Command: rm -rf ALPS.buildbin-libdir && mkdir ALPS.buildbin-libdir && /Users/biocbuild/BBS/utils/build-universal.sh ALPS_1.3.0.tar.gz /Library/Frameworks/R.framework/Versions/Current/Resources/bin/R ALPS.buildbin-libdir
StartedAt: 2020-08-06 07:54:06 -0400 (Thu, 06 Aug 2020)
EndedAt: 2020-08-06 07:55:05 -0400 (Thu, 06 Aug 2020)
EllapsedTime: 58.9 seconds
RetCode: 0
Status:  OK 
PackageFile: ALPS_1.3.0.tgz
PackageFileSize: 2.017 MiB

Command output

##############################################################################
##############################################################################
###
### Running command:
###
###   rm -rf ALPS.buildbin-libdir && mkdir ALPS.buildbin-libdir && /Users/biocbuild/BBS/utils/build-universal.sh ALPS_1.3.0.tar.gz /Library/Frameworks/R.framework/Versions/Current/Resources/bin/R ALPS.buildbin-libdir
###
##############################################################################
##############################################################################


>>>>>>> 
>>>>>>> INSTALLATION WITH 'R CMD INSTALL --preclean --no-multiarch --library=ALPS.buildbin-libdir ALPS_1.3.0.tar.gz'
>>>>>>> 

* installing *source* package ‘ALPS’ ...
** using staged installation
** R
** inst
** byte-compile and prepare package for lazy loading
** help
*** installing help indices
** building package indices
** installing vignettes
** testing if installed package can be loaded from temporary location
** testing if installed package can be loaded from final location
** testing if installed package keeps a record of temporary installation path
* DONE (ALPS)