Back to Multiple platform build/check report for BioC 3.12
AB[C]DEFGHIJKLMNOPQRSTUVWXYZ

BUILD report for chipenrich on malbec1

This page was generated on 2020-08-10 11:37:46 -0400 (Mon, 10 Aug 2020).

TO THE DEVELOPERS/MAINTAINERS OF THE chipenrich PACKAGE: Please make sure to use the following settings in order to reproduce any error or warning you see on this page.
Package 272/1882HostnameOS / ArchINSTALLBUILDCHECKBUILD BIN
chipenrich 2.13.0
Raymond G. Cavalcante
Snapshot Date: 2020-08-09 14:51:29 -0400 (Sun, 09 Aug 2020)
URL: https://git.bioconductor.org/packages/chipenrich
Branch: master
Last Commit: db9c777
Last Changed Date: 2020-04-27 14:36:13 -0400 (Mon, 27 Apr 2020)
malbec1 Linux (Ubuntu 18.04.4 LTS) / x86_64  OK [ OK ] OK UNNEEDED, same version exists in internal repository
nebbiolo1 Linux (Ubuntu 20.04.1 LTS) / x86_64  OK  OK  OK 
tokay1 Windows Server 2012 R2 Standard / x64  OK  OK  OK  OK UNNEEDED, same version exists in internal repository
merida1 macOS 10.14.6 Mojave / x86_64  OK  OK  OK  OK UNNEEDED, same version exists in internal repository

Summary

Package: chipenrich
Version: 2.13.0
Command: /home/biocbuild/bbs-3.12-bioc/R/bin/R CMD build --keep-empty-dirs --no-resave-data chipenrich
StartedAt: 2020-08-09 18:37:20 -0400 (Sun, 09 Aug 2020)
EndedAt: 2020-08-09 18:38:53 -0400 (Sun, 09 Aug 2020)
EllapsedTime: 93.7 seconds
RetCode: 0
Status:  OK 
PackageFile: chipenrich_2.13.0.tar.gz
PackageFileSize: 620.3 KiB

Command output

##############################################################################
##############################################################################
###
### Running command:
###
###   /home/biocbuild/bbs-3.12-bioc/R/bin/R CMD build --keep-empty-dirs --no-resave-data chipenrich
###
##############################################################################
##############################################################################


* checking for file ‘chipenrich/DESCRIPTION’ ... OK
* preparing ‘chipenrich’:
* checking DESCRIPTION meta-information ... OK
* installing the package to build vignettes
* creating vignettes ... OK
* checking for LF line-endings in source and make files and shell scripts
* checking for empty or unneeded directories
* building ‘chipenrich_2.13.0.tar.gz’