Back to Multiple platform build/check report for BioC 3.12
A[B]CDEFGHIJKLMNOPQRSTUVWXYZ

BUILD BIN report for BioTIP on merida1

This page was generated on 2020-07-29 12:02:07 -0400 (Wed, 29 Jul 2020).

TO THE DEVELOPERS/MAINTAINERS OF THE BioTIP PACKAGE: Please make sure to use the following settings in order to reproduce any error or warning you see on this page.
Package 178/1879HostnameOS / ArchINSTALLBUILDCHECKBUILD BIN
BioTIP 1.3.0
Zhezhen Wang , X Holly Yang < xyang2@uchicago> and Yuxi (Jennifer) Sun
Snapshot Date: 2020-07-28 14:50:55 -0400 (Tue, 28 Jul 2020)
URL: https://git.bioconductor.org/packages/BioTIP
Branch: master
Last Commit: b00b2f8
Last Changed Date: 2020-07-20 18:48:03 -0400 (Mon, 20 Jul 2020)
malbec1 Linux (Ubuntu 18.04.4 LTS) / x86_64  OK  OK  WARNINGS UNNEEDED, same version exists in internal repository
tokay1 Windows Server 2012 R2 Standard / x64  OK  OK  WARNINGS  OK UNNEEDED, same version exists in internal repository
merida1 macOS 10.14.6 Mojave / x86_64  OK  OK  WARNINGS [ OK ]UNNEEDED, same version exists in internal repository

Summary

Package: BioTIP
Version: 1.3.0
Command: rm -rf BioTIP.buildbin-libdir && mkdir BioTIP.buildbin-libdir && /Users/biocbuild/BBS/utils/build-universal.sh BioTIP_1.3.0.tar.gz /Library/Frameworks/R.framework/Versions/Current/Resources/bin/R BioTIP.buildbin-libdir
StartedAt: 2020-07-29 07:51:08 -0400 (Wed, 29 Jul 2020)
EndedAt: 2020-07-29 07:52:10 -0400 (Wed, 29 Jul 2020)
EllapsedTime: 62.1 seconds
RetCode: 0
Status:  OK 
PackageFile: BioTIP_1.3.0.tgz
PackageFileSize: 2.375 MiB

Command output

##############################################################################
##############################################################################
###
### Running command:
###
###   rm -rf BioTIP.buildbin-libdir && mkdir BioTIP.buildbin-libdir && /Users/biocbuild/BBS/utils/build-universal.sh BioTIP_1.3.0.tar.gz /Library/Frameworks/R.framework/Versions/Current/Resources/bin/R BioTIP.buildbin-libdir
###
##############################################################################
##############################################################################


>>>>>>> 
>>>>>>> INSTALLATION WITH 'R CMD INSTALL --preclean --no-multiarch --library=BioTIP.buildbin-libdir BioTIP_1.3.0.tar.gz'
>>>>>>> 

* installing *source* package ‘BioTIP’ ...
** using staged installation
** R
** data
*** moving datasets to lazyload DB
** inst
** byte-compile and prepare package for lazy loading
** help
Warning: /private/tmp/RtmpCnuIqD/R.INSTALL2bcb7903d301/BioTIP/man/optimize.sd_selection.Rd:40: unknown macro '\item'
Warning: /private/tmp/RtmpCnuIqD/R.INSTALL2bcb7903d301/BioTIP/man/optimize.sd_selection.Rd:52: unknown macro '\item'
Warning: /private/tmp/RtmpCnuIqD/R.INSTALL2bcb7903d301/BioTIP/man/optimize.sd_selection.Rd:55: unknown macro '\item'
Warning: /private/tmp/RtmpCnuIqD/R.INSTALL2bcb7903d301/BioTIP/man/optimize.sd_selection.Rd:58: unexpected section header '\value'
Warning: /private/tmp/RtmpCnuIqD/R.INSTALL2bcb7903d301/BioTIP/man/optimize.sd_selection.Rd:63: unexpected section header '\description'
Warning: /private/tmp/RtmpCnuIqD/R.INSTALL2bcb7903d301/BioTIP/man/optimize.sd_selection.Rd:68: unexpected section header '\examples'
Warning: /private/tmp/RtmpCnuIqD/R.INSTALL2bcb7903d301/BioTIP/man/optimize.sd_selection.Rd:78: unexpected section header '\seealso'
Warning: /private/tmp/RtmpCnuIqD/R.INSTALL2bcb7903d301/BioTIP/man/optimize.sd_selection.Rd:81: unexpected section header '\author'
Warning: /private/tmp/RtmpCnuIqD/R.INSTALL2bcb7903d301/BioTIP/man/optimize.sd_selection.Rd:84: unexpected END_OF_INPUT '
'
Warning: /private/tmp/RtmpCnuIqD/R.INSTALL2bcb7903d301/BioTIP/man/sd_selection.Rd:29: unknown macro '\item'
Warning: /private/tmp/RtmpCnuIqD/R.INSTALL2bcb7903d301/BioTIP/man/sd_selection.Rd:41: unknown macro '\item'
Warning: /private/tmp/RtmpCnuIqD/R.INSTALL2bcb7903d301/BioTIP/man/sd_selection.Rd:44: unknown macro '\item'
Warning: /private/tmp/RtmpCnuIqD/R.INSTALL2bcb7903d301/BioTIP/man/sd_selection.Rd:47: unexpected section header '\value'
Warning: /private/tmp/RtmpCnuIqD/R.INSTALL2bcb7903d301/BioTIP/man/sd_selection.Rd:54: unexpected section header '\description'
Warning: /private/tmp/RtmpCnuIqD/R.INSTALL2bcb7903d301/BioTIP/man/sd_selection.Rd:61: unexpected section header '\examples'
Warning: /private/tmp/RtmpCnuIqD/R.INSTALL2bcb7903d301/BioTIP/man/sd_selection.Rd:71: unexpected section header '\seealso'
Warning: /private/tmp/RtmpCnuIqD/R.INSTALL2bcb7903d301/BioTIP/man/sd_selection.Rd:74: unexpected section header '\author'
Warning: /private/tmp/RtmpCnuIqD/R.INSTALL2bcb7903d301/BioTIP/man/sd_selection.Rd:77: unexpected END_OF_INPUT '
'
*** installing help indices
** building package indices
** installing vignettes
** testing if installed package can be loaded from temporary location
** testing if installed package can be loaded from final location
** testing if installed package keeps a record of temporary installation path
* DONE (BioTIP)