Back to Multiple platform build/check report for BioC 3.12
[A]BCDEFGHIJKLMNOPQRSTUVWXYZ

INSTALL report for AnnotationForge on malbec1

This page was generated on 2021-04-15 12:17:56 -0400 (Thu, 15 Apr 2021).

To the developers/maintainers of the AnnotationForge package:
Please make sure to use the following settings in order to reproduce any error or warning you see on this page.
Package 64/1974HostnameOS / ArchINSTALLBUILDCHECKBUILD BIN
AnnotationForge 1.32.0  (landing page)
Bioconductor Package Maintainer
Snapshot Date: 2021-04-14 14:50:05 -0400 (Wed, 14 Apr 2021)
URL: https://git.bioconductor.org/packages/AnnotationForge
Branch: RELEASE_3_12
Last Commit: 3d17c2a
Last Changed Date: 2020-10-27 10:46:13 -0400 (Tue, 27 Oct 2020)
malbec1Linux (Ubuntu 18.04.5 LTS) / x86_64  OK    ERROR  skipped
tokay1Windows Server 2012 R2 Standard / x64  OK    ERROR  skippedskipped
merida1macOS 10.14.6 Mojave / x86_64  OK    ERROR  skippedskipped

Summary

Package: AnnotationForge
Version: 1.32.0
Command: /home/biocbuild/bbs-3.12-bioc/R/bin/R CMD INSTALL AnnotationForge
StartedAt: 2021-04-14 16:18:33 -0400 (Wed, 14 Apr 2021)
EndedAt: 2021-04-14 16:18:50 -0400 (Wed, 14 Apr 2021)
EllapsedTime: 17.1 seconds
RetCode: 0
Status:   OK  

Command output

##############################################################################
##############################################################################
###
### Running command:
###
###   /home/biocbuild/bbs-3.12-bioc/R/bin/R CMD INSTALL AnnotationForge
###
##############################################################################
##############################################################################


* installing to library ‘/home/biocbuild/bbs-3.12-bioc/R/library’
* installing *source* package ‘AnnotationForge’ ...
** using staged installation
** R
** inst
** byte-compile and prepare package for lazy loading
** help
*** installing help indices
** building package indices
** installing vignettes
** testing if installed package can be loaded from temporary location
** testing if installed package can be loaded from final location
** testing if installed package keeps a record of temporary installation path
* DONE (AnnotationForge)