Back to Multiple platform build/check report for BioC 3.12
ABCDEFGHIJKL[M]NOPQRSTUVWXYZ

Multiple platform build/check report for BioC 3.12

Results for MEIGOR

This page was generated on 2021-01-23 11:47:27 -0500 (Sat, 23 Jan 2021).

Package 1035/1974HostnameOS / ArchINSTALLBUILDCHECKBUILD BIN
MEIGOR 1.24.0
Jose A. Egea
Snapshot Date: 2021-01-22 14:40:18 -0500 (Fri, 22 Jan 2021)
URL: https://git.bioconductor.org/packages/MEIGOR
Branch: RELEASE_3_12
Last Commit: a8a0bea
Last Changed Date: 2020-10-27 10:57:38 -0500 (Tue, 27 Oct 2020)
malbec1 Linux (Ubuntu 18.04.5 LTS) / x86_64  OK  OK  WARNINGS UNNEEDED, same version exists in internal repository
nebbiolo1 Linux (Ubuntu 20.04.1 LTS) / x86_64  OK  OK  WARNINGS 
tokay1 Windows Server 2012 R2 Standard / x64  OK  OK  WARNINGS  OK UNNEEDED, same version exists in internal repository
merida1 macOS 10.14.6 Mojave / x86_64  OK  OK  WARNINGS  OK UNNEEDED, same version exists in internal repository