Back to Multiple platform build/check report for BioC 3.12
AB[C]DEFGHIJKLMNOPQRSTUVWXYZ

INSTALL report for cbaf on merida1

This page was generated on 2020-08-12 12:01:50 -0400 (Wed, 12 Aug 2020).

TO THE DEVELOPERS/MAINTAINERS OF THE cbaf PACKAGE: Please make sure to use the following settings in order to reproduce any error or warning you see on this page.
Package 231/1885HostnameOS / ArchINSTALLBUILDCHECKBUILD BIN
cbaf 1.11.1
Arman Shahrisa
Snapshot Date: 2020-08-11 14:50:16 -0400 (Tue, 11 Aug 2020)
URL: https://git.bioconductor.org/packages/cbaf
Branch: master
Last Commit: f400891
Last Changed Date: 2020-05-05 12:31:17 -0400 (Tue, 05 May 2020)
malbec1 Linux (Ubuntu 18.04.4 LTS) / x86_64  OK  OK  OK UNNEEDED, same version exists in internal repository
nebbiolo1 Linux (Ubuntu 20.04.1 LTS) / x86_64  OK  OK  OK 
tokay1 Windows Server 2012 R2 Standard / x64  ERROR  OK  ERROR  ERROR 
merida1 macOS 10.14.6 Mojave / x86_64 [ OK ] OK  OK  OK UNNEEDED, same version exists in internal repository

Summary

Package: cbaf
Version: 1.11.1
Command: /Library/Frameworks/R.framework/Versions/Current/Resources/bin/R CMD INSTALL cbaf
StartedAt: 2020-08-11 16:36:54 -0400 (Tue, 11 Aug 2020)
EndedAt: 2020-08-11 16:37:30 -0400 (Tue, 11 Aug 2020)
EllapsedTime: 36.0 seconds
RetCode: 0
Status:  OK 

Command output

##############################################################################
##############################################################################
###
### Running command:
###
###   /Library/Frameworks/R.framework/Versions/Current/Resources/bin/R CMD INSTALL cbaf
###
##############################################################################
##############################################################################


* installing to library ‘/Library/Frameworks/R.framework/Versions/4.0/Resources/library’
* installing *source* package ‘cbaf’ ...
** using staged installation
** R
** inst
** byte-compile and prepare package for lazy loading
** help
*** installing help indices
** building package indices
** installing vignettes
** testing if installed package can be loaded from temporary location
** testing if installed package can be loaded from final location
** testing if installed package keeps a record of temporary installation path
* DONE (cbaf)