Back to Multiple platform build/check report for BioC 3.12
[A]BCDEFGHIJKLMNOPQRSTUVWXYZ

BUILD BIN report for AffiXcan on tokay1

This page was generated on 2020-08-06 12:08:15 -0400 (Thu, 06 Aug 2020).

TO THE DEVELOPERS/MAINTAINERS OF THE AffiXcan PACKAGE: Please make sure to use the following settings in order to reproduce any error or warning you see on this page.
Package 21/1882HostnameOS / ArchINSTALLBUILDCHECKBUILD BIN
AffiXcan 1.7.0
Alessandro Lussana
Snapshot Date: 2020-08-05 14:50:59 -0400 (Wed, 05 Aug 2020)
URL: https://git.bioconductor.org/packages/AffiXcan
Branch: master
Last Commit: b51795e
Last Changed Date: 2020-04-27 15:20:00 -0400 (Mon, 27 Apr 2020)
malbec1 Linux (Ubuntu 18.04.4 LTS) / x86_64  OK  OK  OK UNNEEDED, same version exists in internal repository
tokay1 Windows Server 2012 R2 Standard / x64  OK  OK  OK [ OK ]UNNEEDED, same version exists in internal repository
merida1 macOS 10.14.6 Mojave / x86_64  OK  OK  OK  OK UNNEEDED, same version exists in internal repository

Summary

Package: AffiXcan
Version: 1.7.0
Command: rm -rf AffiXcan.buildbin-libdir && mkdir AffiXcan.buildbin-libdir && C:\Users\biocbuild\bbs-3.12-bioc\R\bin\R.exe CMD INSTALL --merge-multiarch --build --library=AffiXcan.buildbin-libdir AffiXcan_1.7.0.tar.gz
StartedAt: 2020-08-06 08:32:53 -0400 (Thu, 06 Aug 2020)
EndedAt: 2020-08-06 08:33:49 -0400 (Thu, 06 Aug 2020)
EllapsedTime: 56.1 seconds
RetCode: 0
Status:  OK  
PackageFile: AffiXcan_1.7.0.zip
PackageFileSize: 2.053 MiB

Command output

##############################################################################
##############################################################################
###
### Running command:
###
###   rm -rf AffiXcan.buildbin-libdir && mkdir AffiXcan.buildbin-libdir && C:\Users\biocbuild\bbs-3.12-bioc\R\bin\R.exe CMD INSTALL --merge-multiarch --build --library=AffiXcan.buildbin-libdir AffiXcan_1.7.0.tar.gz
###
##############################################################################
##############################################################################



install for i386

* installing *source* package 'AffiXcan' ...
** using staged installation
** R
** data
** inst
** byte-compile and prepare package for lazy loading
** help
*** installing help indices
  converting help for package 'AffiXcan'
    finding HTML links ... done
    AffiXcan-package                        html  
    affiXcanBs                              html  
    affiXcanGReX                            html  
    affiXcanImpute                          html  
    affiXcanPca                             html  
    affiXcanPcs                             html  
    affiXcanTrain                           html  
    assoc2list                              html  
    computeBs                               html  
    computeCorrelation                      html  
    computeExpr                             html  
    computePca                              html  
    computePcs                              html  
    computeRSquared                         html  
    exprMatrix                              html  
    overlookRegions                         html  
    regionAssoc                             html  
    subsetKFold                             html  
    trainingCovariates                      html  
** building package indices
** installing vignettes
** testing if installed package can be loaded from temporary location
** testing if installed package can be loaded from final location
** testing if installed package keeps a record of temporary installation path

install for x64

* installing *source* package 'AffiXcan' ...
** testing if installed package can be loaded
* MD5 sums
packaged installation of 'AffiXcan' as AffiXcan_1.7.0.zip
* DONE (AffiXcan)