Back to Multiple platform build/check report for BioC 3.12
[A]BCDEFGHIJKLMNOPQRSTUVWXYZ

BUILD report for affycomp on malbec1

This page was generated on 2020-08-14 10:30:26 -0400 (Fri, 14 Aug 2020).

TO THE DEVELOPERS/MAINTAINERS OF THE affycomp PACKAGE: Please make sure to use the following settings in order to reproduce any error or warning you see on this page.
Package 24/1889HostnameOS / ArchINSTALLBUILDCHECKBUILD BIN
affycomp 1.65.0
Rafael A. Irizarry
Snapshot Date: 2020-08-13 14:54:37 -0400 (Thu, 13 Aug 2020)
URL: https://git.bioconductor.org/packages/affycomp
Branch: master
Last Commit: 35dee2c
Last Changed Date: 2020-04-27 14:08:24 -0400 (Mon, 27 Apr 2020)
malbec1 Linux (Ubuntu 18.04.4 LTS) / x86_64  OK [ OK ] OK UNNEEDED, same version exists in internal repository
nebbiolo1 Linux (Ubuntu 20.04.1 LTS) / x86_64  OK  OK  OK 
tokay1 Windows Server 2012 R2 Standard / x64  OK  OK  WARNINGS  OK UNNEEDED, same version exists in internal repository
merida1 macOS 10.14.6 Mojave / x86_64  OK  OK  OK  OK UNNEEDED, same version exists in internal repository

Summary

Package: affycomp
Version: 1.65.0
Command: /home/biocbuild/bbs-3.12-bioc/R/bin/R CMD build --keep-empty-dirs --no-resave-data affycomp
StartedAt: 2020-08-13 17:56:50 -0400 (Thu, 13 Aug 2020)
EndedAt: 2020-08-13 17:57:02 -0400 (Thu, 13 Aug 2020)
EllapsedTime: 11.9 seconds
RetCode: 0
Status:  OK 
PackageFile: affycomp_1.65.0.tar.gz
PackageFileSize: 7.867 MiB

Command output

##############################################################################
##############################################################################
###
### Running command:
###
###   /home/biocbuild/bbs-3.12-bioc/R/bin/R CMD build --keep-empty-dirs --no-resave-data affycomp
###
##############################################################################
##############################################################################


* checking for file ‘affycomp/DESCRIPTION’ ... OK
* preparing ‘affycomp’:
* checking DESCRIPTION meta-information ... OK
* installing the package to build vignettes
* creating vignettes ... OK
* checking for LF line-endings in source and make files and shell scripts
* checking for empty or unneeded directories
* looking to see if a ‘data/datalist’ file should be added
* building ‘affycomp_1.65.0.tar.gz’