Back to Multiple platform build/check report for BioC 3.12
A[B]CDEFGHIJKLMNOPQRSTUVWXYZ

INSTALL report for BEclear on tokay1

This page was generated on 2021-01-25 11:52:16 -0500 (Mon, 25 Jan 2021).

TO THE DEVELOPERS/MAINTAINERS OF THE BEclear PACKAGE: Please make sure to use the following settings in order to reproduce any error or warning you see on this page.
Package 139/1974HostnameOS / ArchINSTALLBUILDCHECKBUILD BIN
BEclear 2.6.0
David Rasp
Snapshot Date: 2021-01-24 14:40:16 -0500 (Sun, 24 Jan 2021)
URL: https://git.bioconductor.org/packages/BEclear
Branch: RELEASE_3_12
Last Commit: c0d806a
Last Changed Date: 2020-10-27 11:05:28 -0500 (Tue, 27 Oct 2020)
malbec1 Linux (Ubuntu 18.04.5 LTS) / x86_64  OK  OK  WARNINGS UNNEEDED, same version exists in internal repository
nebbiolo1 Linux (Ubuntu 20.04.1 LTS) / x86_64  OK  OK  WARNINGS 
tokay1 Windows Server 2012 R2 Standard / x64 [ OK ] OK  WARNINGS  OK UNNEEDED, same version exists in internal repository
merida1 macOS 10.14.6 Mojave / x86_64  OK  OK  WARNINGS  OK UNNEEDED, same version exists in internal repository

Summary

Package: BEclear
Version: 2.6.0
Command: C:\cygwin\bin\curl.exe -O https://malbec1.bioconductor.org/BBS/3.12/bioc/src/contrib/BEclear_2.6.0.tar.gz && rm -rf BEclear.buildbin-libdir && mkdir BEclear.buildbin-libdir && C:\Users\biocbuild\bbs-3.12-bioc\R\bin\R.exe CMD INSTALL --merge-multiarch --build --library=BEclear.buildbin-libdir BEclear_2.6.0.tar.gz && C:\Users\biocbuild\bbs-3.12-bioc\R\bin\R.exe CMD INSTALL BEclear_2.6.0.zip && rm BEclear_2.6.0.tar.gz BEclear_2.6.0.zip
StartedAt: 2021-01-24 16:59:33 -0500 (Sun, 24 Jan 2021)
EndedAt: 2021-01-24 17:01:43 -0500 (Sun, 24 Jan 2021)
EllapsedTime: 130.3 seconds
RetCode: 0
Status:  OK  

Command output

##############################################################################
##############################################################################
###
### Running command:
###
###   C:\cygwin\bin\curl.exe -O https://malbec1.bioconductor.org/BBS/3.12/bioc/src/contrib/BEclear_2.6.0.tar.gz && rm -rf BEclear.buildbin-libdir && mkdir BEclear.buildbin-libdir && C:\Users\biocbuild\bbs-3.12-bioc\R\bin\R.exe CMD INSTALL --merge-multiarch --build --library=BEclear.buildbin-libdir BEclear_2.6.0.tar.gz && C:\Users\biocbuild\bbs-3.12-bioc\R\bin\R.exe CMD INSTALL BEclear_2.6.0.zip && rm BEclear_2.6.0.tar.gz BEclear_2.6.0.zip
###
##############################################################################
##############################################################################


  % Total    % Received % Xferd  Average Speed   Time    Time     Time  Current
                                 Dload  Upload   Total   Spent    Left  Speed

  0     0    0     0    0     0      0      0 --:--:-- --:--:-- --:--:--     0
100  209k  100  209k    0     0  4036k      0 --:--:-- --:--:-- --:--:-- 4370k

install for i386

* installing *source* package 'BEclear' ...
** using staged installation
** libs
"C:/rtools40/mingw32/bin/"g++  -std=gnu++11 -I"C:/Users/BIOCBU~1/BBS-3~1.12-/R/include" -DNDEBUG  -I'C:/Users/biocbuild/bbs-3.12-bioc/R/library/Rcpp/include'   -I"C:/extsoft/include"     -O2 -Wall  -mfpmath=sse -msse2 -mstackrealign -c RcppExports.cpp -o RcppExports.o
"C:/rtools40/mingw32/bin/"g++  -std=gnu++11 -I"C:/Users/BIOCBU~1/BBS-3~1.12-/R/include" -DNDEBUG  -I'C:/Users/biocbuild/bbs-3.12-bioc/R/library/Rcpp/include'   -I"C:/extsoft/include"     -O2 -Wall  -mfpmath=sse -msse2 -mstackrealign -c localLoss.cpp -o localLoss.o
C:/rtools40/mingw32/bin/g++ -shared -s -static-libgcc -o BEclear.dll tmp.def RcppExports.o localLoss.o -LC:/extsoft/lib/i386 -LC:/extsoft/lib -LC:/Users/BIOCBU~1/BBS-3~1.12-/R/bin/i386 -lR
installing to C:/Users/biocbuild/bbs-3.12-bioc/meat/BEclear.buildbin-libdir/00LOCK-BEclear/00new/BEclear/libs/i386
** R
** data
** inst
** byte-compile and prepare package for lazy loading
** help
Loading required namespace: BEclear
Warning in tools::parseLatex(x) :
  x:1: unexpected END_OF_INPUT '%} confidence level}'
*** installing help indices
  converting help for package 'BEclear'
    finding HTML links ... done
    BEclear-example-methylation-data        html  
    BEclear-example-sample-data             html  
    BEclear-package                         html  
    calcBatchEffects                        html  
    calcBatchEffectsForBatch                html  
    calcBlockFrame                          html  
    calcPositions                           html  
    calcScore                               html  
    calcSummary                             html  
    clearBEgenes                            html  
    combineBlocks                           html  
    correctBatchEffect                      html  
    countValuesToPredict                    html  
    ex.corrected.data                       html  
    findOutsideValues                       html  
    gdepoch                                 html  
    imputeMissingData                       html  
    imputeMissingDataForBlock               html  
    localLoss                               html  
    loss                                    html  
    makeBoxplot                             html  
    preprocessBEclear                       html  
    replaceOutsideValues                    html  
    runGradientDescent                      html  
** building package indices
** installing vignettes
** testing if installed package can be loaded from temporary location
** testing if installed package can be loaded from final location
** testing if installed package keeps a record of temporary installation path

install for x64

* installing *source* package 'BEclear' ...
** libs
"C:/rtools40/mingw64/bin/"g++  -std=gnu++11 -I"C:/Users/BIOCBU~1/BBS-3~1.12-/R/include" -DNDEBUG  -I'C:/Users/biocbuild/bbs-3.12-bioc/R/library/Rcpp/include'   -I"C:/extsoft/include"     -O2 -Wall  -mfpmath=sse -msse2 -mstackrealign -c RcppExports.cpp -o RcppExports.o
"C:/rtools40/mingw64/bin/"g++  -std=gnu++11 -I"C:/Users/BIOCBU~1/BBS-3~1.12-/R/include" -DNDEBUG  -I'C:/Users/biocbuild/bbs-3.12-bioc/R/library/Rcpp/include'   -I"C:/extsoft/include"     -O2 -Wall  -mfpmath=sse -msse2 -mstackrealign -c localLoss.cpp -o localLoss.o
C:/rtools40/mingw64/bin/g++ -shared -s -static-libgcc -o BEclear.dll tmp.def RcppExports.o localLoss.o -LC:/extsoft/lib/x64 -LC:/extsoft/lib -LC:/Users/BIOCBU~1/BBS-3~1.12-/R/bin/x64 -lR
installing to C:/Users/biocbuild/bbs-3.12-bioc/meat/BEclear.buildbin-libdir/BEclear/libs/x64
** testing if installed package can be loaded
* MD5 sums
packaged installation of 'BEclear' as BEclear_2.6.0.zip
* DONE (BEclear)
* installing to library 'C:/Users/biocbuild/bbs-3.12-bioc/R/library'
package 'BEclear' successfully unpacked and MD5 sums checked