Back to Multiple platform build/check report for BioC 3.12
[A]BCDEFGHIJKLMNOPQRSTUVWXYZ

BUILD report for ACME on malbec1

This page was generated on 2020-08-09 11:16:39 -0400 (Sun, 09 Aug 2020).

TO THE DEVELOPERS/MAINTAINERS OF THE ACME PACKAGE: Please make sure to use the following settings in order to reproduce any error or warning you see on this page.
Package 14/1882HostnameOS / ArchINSTALLBUILDCHECKBUILD BIN
ACME 2.45.0
Sean Davis
Snapshot Date: 2020-08-08 14:51:01 -0400 (Sat, 08 Aug 2020)
URL: https://git.bioconductor.org/packages/ACME
Branch: master
Last Commit: 58f42e2
Last Changed Date: 2020-04-27 14:15:01 -0400 (Mon, 27 Apr 2020)
malbec1 Linux (Ubuntu 18.04.4 LTS) / x86_64  OK [ OK ] WARNINGS UNNEEDED, same version exists in internal repository
nebbiolo1 Linux (Ubuntu 20.04.1 LTS) / x86_64  OK  OK  WARNINGS 
tokay1 Windows Server 2012 R2 Standard / x64  OK  OK  WARNINGS  OK UNNEEDED, same version exists in internal repository
merida1 macOS 10.14.6 Mojave / x86_64  OK  OK  OK  OK UNNEEDED, same version exists in internal repository

Summary

Package: ACME
Version: 2.45.0
Command: /home/biocbuild/bbs-3.12-bioc/R/bin/R CMD build --keep-empty-dirs --no-resave-data ACME
StartedAt: 2020-08-08 17:38:48 -0400 (Sat, 08 Aug 2020)
EndedAt: 2020-08-08 17:39:17 -0400 (Sat, 08 Aug 2020)
EllapsedTime: 28.9 seconds
RetCode: 0
Status:  OK 
PackageFile: ACME_2.45.0.tar.gz
PackageFileSize: 9.813 MiB

Command output

##############################################################################
##############################################################################
###
### Running command:
###
###   /home/biocbuild/bbs-3.12-bioc/R/bin/R CMD build --keep-empty-dirs --no-resave-data ACME
###
##############################################################################
##############################################################################


* checking for file ‘ACME/DESCRIPTION’ ... OK
* preparing ‘ACME’:
* checking DESCRIPTION meta-information ... OK
* cleaning src
* installing the package to build vignettes
* creating vignettes ... OK
* cleaning src
* checking for LF line-endings in source and make files and shell scripts
* checking for empty or unneeded directories
* looking to see if a ‘data/datalist’ file should be added
* building ‘ACME_2.45.0.tar.gz’