Back to Multiple platform build/check report for BioC 3.12
A[B]CDEFGHIJKLMNOPQRSTUVWXYZ

INSTALL report for bioDist on tokay1

This page was generated on 2020-08-10 12:10:32 -0400 (Mon, 10 Aug 2020).

TO THE DEVELOPERS/MAINTAINERS OF THE bioDist PACKAGE: Please make sure to use the following settings in order to reproduce any error or warning you see on this page.
Package 166/1882HostnameOS / ArchINSTALLBUILDCHECKBUILD BIN
bioDist 1.61.0
Bioconductor Package Maintainer
Snapshot Date: 2020-08-09 14:51:29 -0400 (Sun, 09 Aug 2020)
URL: https://git.bioconductor.org/packages/bioDist
Branch: master
Last Commit: cadb04d
Last Changed Date: 2020-04-27 14:10:44 -0400 (Mon, 27 Apr 2020)
malbec1 Linux (Ubuntu 18.04.4 LTS) / x86_64  OK  OK  OK UNNEEDED, same version exists in internal repository
nebbiolo1 Linux (Ubuntu 20.04.1 LTS) / x86_64  OK  OK  OK 
tokay1 Windows Server 2012 R2 Standard / x64 [ OK ] OK  OK  OK UNNEEDED, same version exists in internal repository
merida1 macOS 10.14.6 Mojave / x86_64  OK  OK  OK  OK UNNEEDED, same version exists in internal repository

Summary

Package: bioDist
Version: 1.61.0
Command: C:\cygwin\bin\curl.exe -O https://malbec1.bioconductor.org/BBS/3.12/bioc/src/contrib/bioDist_1.61.0.tar.gz && rm -rf bioDist.buildbin-libdir && mkdir bioDist.buildbin-libdir && C:\Users\biocbuild\bbs-3.12-bioc\R\bin\R.exe CMD INSTALL --merge-multiarch --build --library=bioDist.buildbin-libdir bioDist_1.61.0.tar.gz && C:\Users\biocbuild\bbs-3.12-bioc\R\bin\R.exe CMD INSTALL bioDist_1.61.0.zip && rm bioDist_1.61.0.tar.gz bioDist_1.61.0.zip
StartedAt: 2020-08-09 16:43:33 -0400 (Sun, 09 Aug 2020)
EndedAt: 2020-08-09 16:43:59 -0400 (Sun, 09 Aug 2020)
EllapsedTime: 26.6 seconds
RetCode: 0
Status:  OK  

Command output

##############################################################################
##############################################################################
###
### Running command:
###
###   C:\cygwin\bin\curl.exe -O https://malbec1.bioconductor.org/BBS/3.12/bioc/src/contrib/bioDist_1.61.0.tar.gz && rm -rf bioDist.buildbin-libdir && mkdir bioDist.buildbin-libdir && C:\Users\biocbuild\bbs-3.12-bioc\R\bin\R.exe CMD INSTALL --merge-multiarch --build --library=bioDist.buildbin-libdir bioDist_1.61.0.tar.gz && C:\Users\biocbuild\bbs-3.12-bioc\R\bin\R.exe CMD INSTALL bioDist_1.61.0.zip && rm bioDist_1.61.0.tar.gz bioDist_1.61.0.zip
###
##############################################################################
##############################################################################


  % Total    % Received % Xferd  Average Speed   Time    Time     Time  Current
                                 Dload  Upload   Total   Spent    Left  Speed

  0     0    0     0    0     0      0      0 --:--:-- --:--:-- --:--:--     0
100  9683  100  9683    0     0   291k      0 --:--:-- --:--:-- --:--:--  337k

install for i386

* installing *source* package 'bioDist' ...
** using staged installation
** R
** byte-compile and prepare package for lazy loading
** help
*** installing help indices
  converting help for package 'bioDist'
    finding HTML links ... done
    KLD.matrix                              html  
    KLdist.matrix                           html  
    closest.top                             html  
    cor.dist                                html  
    euc                                     html  
    man                                     html  
    mutualInfo                              html  
    spearman.dist                           html  
    tau.dist                                html  
** building package indices
** installing vignettes
** testing if installed package can be loaded from temporary location
** testing if installed package can be loaded from final location
** testing if installed package keeps a record of temporary installation path

install for x64

* installing *source* package 'bioDist' ...
** testing if installed package can be loaded
* MD5 sums
packaged installation of 'bioDist' as bioDist_1.61.0.zip
* DONE (bioDist)
* installing to library 'C:/Users/biocbuild/bbs-3.12-bioc/R/library'
package 'bioDist' successfully unpacked and MD5 sums checked