Back to Multiple platform build/check report for BioC 3.12
[A]BCDEFGHIJKLMNOPQRSTUVWXYZ

INSTALL report for atSNP on tokay1

This page was generated on 2020-10-14 11:17:18 -0400 (Wed, 14 Oct 2020).

TO THE DEVELOPERS/MAINTAINERS OF THE atSNP PACKAGE: Please make sure to use the following settings in order to reproduce any error or warning you see on this page.
Package 96/1930HostnameOS / ArchINSTALLBUILDCHECKBUILD BIN
atSNP 1.5.0
Sunyoung Shin
Snapshot Date: 2020-10-13 14:40:34 -0400 (Tue, 13 Oct 2020)
URL: https://git.bioconductor.org/packages/atSNP
Branch: master
Last Commit: 47ff98d
Last Changed Date: 2020-04-27 15:23:26 -0400 (Mon, 27 Apr 2020)
malbec1 Linux (Ubuntu 18.04.4 LTS) / x86_64  OK  ERROR  skipped 
nebbiolo1 Linux (Ubuntu 20.04.1 LTS) / x86_64  OK  ERROR  skipped 
tokay1 Windows Server 2012 R2 Standard / x64 [ OK ] OK  OK  NA 
riesling1 Windows Server 2019 Standard / x64  OK  OK  OK  OK 
merida1 macOS 10.14.6 Mojave / x86_64  OK  OK  OK  NA 

Summary

Package: atSNP
Version: 1.5.0
Command: C:\cygwin\bin\curl.exe -O https://malbec1.bioconductor.org/BBS/3.12/bioc/src/contrib/atSNP_1.5.0.tar.gz && rm -rf atSNP.buildbin-libdir && mkdir atSNP.buildbin-libdir && C:\Users\biocbuild\bbs-3.12-bioc\R\bin\R.exe CMD INSTALL --merge-multiarch --build --library=atSNP.buildbin-libdir atSNP_1.5.0.tar.gz && C:\Users\biocbuild\bbs-3.12-bioc\R\bin\R.exe CMD INSTALL atSNP_1.5.0.zip && rm atSNP_1.5.0.tar.gz atSNP_1.5.0.zip
StartedAt: 2020-10-13 20:18:41 -0400 (Tue, 13 Oct 2020)
EndedAt: 2020-10-13 20:23:37 -0400 (Tue, 13 Oct 2020)
EllapsedTime: 296.1 seconds
RetCode: 0
Status:  OK  

Command output

##############################################################################
##############################################################################
###
### Running command:
###
###   C:\cygwin\bin\curl.exe -O https://malbec1.bioconductor.org/BBS/3.12/bioc/src/contrib/atSNP_1.5.0.tar.gz && rm -rf atSNP.buildbin-libdir && mkdir atSNP.buildbin-libdir && C:\Users\biocbuild\bbs-3.12-bioc\R\bin\R.exe CMD INSTALL --merge-multiarch --build --library=atSNP.buildbin-libdir atSNP_1.5.0.tar.gz && C:\Users\biocbuild\bbs-3.12-bioc\R\bin\R.exe CMD INSTALL atSNP_1.5.0.zip && rm atSNP_1.5.0.tar.gz atSNP_1.5.0.zip
###
##############################################################################
##############################################################################


  % Total    % Received % Xferd  Average Speed   Time    Time     Time  Current
                                 Dload  Upload   Total   Spent    Left  Speed

  0     0    0     0    0     0      0      0 --:--:-- --:--:-- --:--:--     0
100  515k  100  515k    0     0  5717k      0 --:--:-- --:--:-- --:--:-- 5992k

install for i386

* installing *source* package 'atSNP' ...
** using staged installation
** libs
"C:/rtools40/mingw32/bin/"g++ -std=gnu++11  -I"C:/Users/BIOCBU~1/BBS-3~1.12-/R/include" -DNDEBUG  -I'C:/Users/biocbuild/bbs-3.12-bioc/R/library/Rcpp/include'   -I"C:/extsoft/include"     -O2 -Wall  -mfpmath=sse -msse2 -mstackrealign -c ImportanceSample.cpp -o ImportanceSample.o
"C:/rtools40/mingw32/bin/"g++ -std=gnu++11  -I"C:/Users/BIOCBU~1/BBS-3~1.12-/R/include" -DNDEBUG  -I'C:/Users/biocbuild/bbs-3.12-bioc/R/library/Rcpp/include'   -I"C:/extsoft/include"     -O2 -Wall  -mfpmath=sse -msse2 -mstackrealign -c ImportanceSampleChange.cpp -o ImportanceSampleChange.o
"C:/rtools40/mingw32/bin/"g++ -std=gnu++11  -I"C:/Users/BIOCBU~1/BBS-3~1.12-/R/include" -DNDEBUG  -I'C:/Users/biocbuild/bbs-3.12-bioc/R/library/Rcpp/include'   -I"C:/extsoft/include"     -O2 -Wall  -mfpmath=sse -msse2 -mstackrealign -c ImportanceSampleDiff.cpp -o ImportanceSampleDiff.o
"C:/rtools40/mingw32/bin/"g++ -std=gnu++11  -I"C:/Users/BIOCBU~1/BBS-3~1.12-/R/include" -DNDEBUG  -I'C:/Users/biocbuild/bbs-3.12-bioc/R/library/Rcpp/include'   -I"C:/extsoft/include"     -O2 -Wall  -mfpmath=sse -msse2 -mstackrealign -c MotifScore.cpp -o MotifScore.o
C:/rtools40/mingw32/bin/g++ -std=gnu++11 -shared -s -static-libgcc -o atSNP.dll tmp.def ImportanceSample.o ImportanceSampleChange.o ImportanceSampleDiff.o MotifScore.o -LC:/extsoft/lib/i386 -LC:/extsoft/lib -LC:/Users/BIOCBU~1/BBS-3~1.12-/R/bin/i386 -lR
installing to C:/Users/biocbuild/bbs-3.12-bioc/meat/atSNP.buildbin-libdir/00LOCK-atSNP/00new/atSNP/libs/i386
** R
** data
** inst
** byte-compile and prepare package for lazy loading
** help
*** installing help indices
  converting help for package 'atSNP'
    finding HTML links ... done
    ComputeMotifScore                       html  
    ComputePValues                          html  
    GetIUPACSequence                        html  
    LoadFastaData                           html  
    LoadMotifLibrary                        html  
    LoadSNPData                             html  
    MatchSubsequence                        html  
    atSNP-package                           html  
    dtMotifMatch                            html  
    encode_motif                            html  
    encode_motifinfo                        html  
    jaspar_motif                            html  
    jaspar_motifinfo                        html  
    motif_library                           html  
    motif_match                             html  
    motif_scores                            html  
    plotMotifMatch                          html  
    prior                                   html  
    snpInfo                                 html  
    snp_tbl                                 html  
    transition                              html  
** building package indices
** installing vignettes
** testing if installed package can be loaded from temporary location
** testing if installed package can be loaded from final location
** testing if installed package keeps a record of temporary installation path

install for x64

* installing *source* package 'atSNP' ...
** libs
"C:/rtools40/mingw64/bin/"g++ -std=gnu++11  -I"C:/Users/BIOCBU~1/BBS-3~1.12-/R/include" -DNDEBUG  -I'C:/Users/biocbuild/bbs-3.12-bioc/R/library/Rcpp/include'   -I"C:/extsoft/include"     -O2 -Wall  -mfpmath=sse -msse2 -mstackrealign -c ImportanceSample.cpp -o ImportanceSample.o
"C:/rtools40/mingw64/bin/"g++ -std=gnu++11  -I"C:/Users/BIOCBU~1/BBS-3~1.12-/R/include" -DNDEBUG  -I'C:/Users/biocbuild/bbs-3.12-bioc/R/library/Rcpp/include'   -I"C:/extsoft/include"     -O2 -Wall  -mfpmath=sse -msse2 -mstackrealign -c ImportanceSampleChange.cpp -o ImportanceSampleChange.o
"C:/rtools40/mingw64/bin/"g++ -std=gnu++11  -I"C:/Users/BIOCBU~1/BBS-3~1.12-/R/include" -DNDEBUG  -I'C:/Users/biocbuild/bbs-3.12-bioc/R/library/Rcpp/include'   -I"C:/extsoft/include"     -O2 -Wall  -mfpmath=sse -msse2 -mstackrealign -c ImportanceSampleDiff.cpp -o ImportanceSampleDiff.o
"C:/rtools40/mingw64/bin/"g++ -std=gnu++11  -I"C:/Users/BIOCBU~1/BBS-3~1.12-/R/include" -DNDEBUG  -I'C:/Users/biocbuild/bbs-3.12-bioc/R/library/Rcpp/include'   -I"C:/extsoft/include"     -O2 -Wall  -mfpmath=sse -msse2 -mstackrealign -c MotifScore.cpp -o MotifScore.o
C:/rtools40/mingw64/bin/g++ -std=gnu++11 -shared -s -static-libgcc -o atSNP.dll tmp.def ImportanceSample.o ImportanceSampleChange.o ImportanceSampleDiff.o MotifScore.o -LC:/extsoft/lib/x64 -LC:/extsoft/lib -LC:/Users/BIOCBU~1/BBS-3~1.12-/R/bin/x64 -lR
installing to C:/Users/biocbuild/bbs-3.12-bioc/meat/atSNP.buildbin-libdir/atSNP/libs/x64
** testing if installed package can be loaded
* MD5 sums
packaged installation of 'atSNP' as atSNP_1.5.0.zip
* DONE (atSNP)
* installing to library 'C:/Users/biocbuild/bbs-3.12-bioc/R/library'
package 'atSNP' successfully unpacked and MD5 sums checked