Back to Multiple platform build/check report for BioC 3.12
AB[C]DEFGHIJKLMNOPQRSTUVWXYZ

BUILD report for CFAssay on tokay1

This page was generated on 2020-08-11 11:41:32 -0400 (Tue, 11 Aug 2020).

TO THE DEVELOPERS/MAINTAINERS OF THE CFAssay PACKAGE: Please make sure to use the following settings in order to reproduce any error or warning you see on this page.
Package 254/1885HostnameOS / ArchINSTALLBUILDCHECKBUILD BIN
CFAssay 1.23.0
Herbert Braselmann
Snapshot Date: 2020-08-10 14:50:56 -0400 (Mon, 10 Aug 2020)
URL: https://git.bioconductor.org/packages/CFAssay
Branch: master
Last Commit: bc395b1
Last Changed Date: 2020-04-27 14:45:10 -0400 (Mon, 27 Apr 2020)
malbec1 Linux (Ubuntu 18.04.4 LTS) / x86_64  OK  OK  OK UNNEEDED, same version exists in internal repository
nebbiolo1 Linux (Ubuntu 20.04.1 LTS) / x86_64  OK  OK  NA 
tokay1 Windows Server 2012 R2 Standard / x64  OK [ OK ] OK  OK UNNEEDED, same version exists in internal repository
merida1 macOS 10.14.6 Mojave / x86_64  OK  OK  OK  OK UNNEEDED, same version exists in internal repository

Summary

Package: CFAssay
Version: 1.23.0
Command: chmod a+r CFAssay -R && C:\Users\biocbuild\bbs-3.12-bioc\R\bin\R.exe CMD build --keep-empty-dirs --no-resave-data CFAssay
StartedAt: 2020-08-10 20:32:20 -0400 (Mon, 10 Aug 2020)
EndedAt: 2020-08-10 20:32:32 -0400 (Mon, 10 Aug 2020)
EllapsedTime: 12.4 seconds
RetCode: 0
Status:  OK  
PackageFile: CFAssay_1.23.0.tar.gz
PackageFileSize: 227.5 KiB

Command output

##############################################################################
##############################################################################
###
### Running command:
###
###   chmod a+r CFAssay -R && C:\Users\biocbuild\bbs-3.12-bioc\R\bin\R.exe CMD build --keep-empty-dirs --no-resave-data CFAssay
###
##############################################################################
##############################################################################


* checking for file 'CFAssay/DESCRIPTION' ... OK
* preparing 'CFAssay':
* checking DESCRIPTION meta-information ... OK
* installing the package to build vignettes
* creating vignettes ... OK
* checking for LF line-endings in source and make files and shell scripts
* checking for empty or unneeded directories
* building 'CFAssay_1.23.0.tar.gz'