Back to Multiple platform build/check report for BioC 3.12 |
|
This page was generated on 2021-05-06 12:33:15 -0400 (Thu, 06 May 2021).
To the developers/maintainers of the Rhdf5lib package: Please make sure to use the following settings in order to reproduce any error or warning you see on this page. |
Package 1524/1974 | Hostname | OS / Arch | INSTALL | BUILD | CHECK | BUILD BIN | ||||||||
Rhdf5lib 1.12.1 (landing page) Mike Smith
| malbec1 | Linux (Ubuntu 18.04.5 LTS) / x86_64 | OK | OK | OK | |||||||||
tokay1 | Windows Server 2012 R2 Standard / x64 | OK | OK | OK | OK | |||||||||
merida1 | macOS 10.14.6 Mojave / x86_64 | OK | OK | OK | OK | |||||||||
Package: Rhdf5lib |
Version: 1.12.1 |
Command: C:\Users\biocbuild\bbs-3.12-bioc\R\bin\R.exe CMD check --force-multiarch --install=check:Rhdf5lib.install-out.txt --library=C:\Users\biocbuild\bbs-3.12-bioc\R\library --no-vignettes --timings Rhdf5lib_1.12.1.tar.gz |
StartedAt: 2021-05-06 06:12:23 -0400 (Thu, 06 May 2021) |
EndedAt: 2021-05-06 06:13:44 -0400 (Thu, 06 May 2021) |
EllapsedTime: 80.9 seconds |
RetCode: 0 |
Status: OK |
CheckDir: Rhdf5lib.Rcheck |
Warnings: 0 |
############################################################################## ############################################################################## ### ### Running command: ### ### C:\Users\biocbuild\bbs-3.12-bioc\R\bin\R.exe CMD check --force-multiarch --install=check:Rhdf5lib.install-out.txt --library=C:\Users\biocbuild\bbs-3.12-bioc\R\library --no-vignettes --timings Rhdf5lib_1.12.1.tar.gz ### ############################################################################## ############################################################################## * using log directory 'C:/Users/biocbuild/bbs-3.12-bioc/meat/Rhdf5lib.Rcheck' * using R version 4.0.5 (2021-03-31) * using platform: x86_64-w64-mingw32 (64-bit) * using session charset: ISO8859-1 * using option '--no-vignettes' * checking for file 'Rhdf5lib/DESCRIPTION' ... OK * checking extension type ... Package * this is package 'Rhdf5lib' version '1.12.1' * package encoding: UTF-8 * checking package namespace information ... OK * checking package dependencies ... OK * checking if this is a source package ... OK * checking if there is a namespace ... OK * checking for hidden files and directories ... OK * checking for portable file names ... OK * checking whether package 'Rhdf5lib' can be installed ... OK * checking installed package size ... NOTE installed size is 37.3Mb sub-directories of 1Mb or more: include 2.5Mb lib 27.5Mb libs 7.2Mb * checking package directory ... OK * checking 'build' directory ... OK * checking DESCRIPTION meta-information ... OK * checking top-level files ... OK * checking for left-over files ... OK * checking index information ... OK * checking package subdirectories ... OK * checking R files for non-ASCII characters ... OK * checking R files for syntax errors ... OK * loading checks for arch 'i386' ** checking whether the package can be loaded ... OK ** checking whether the package can be loaded with stated dependencies ... OK ** checking whether the package can be unloaded cleanly ... OK ** checking whether the namespace can be loaded with stated dependencies ... OK ** checking whether the namespace can be unloaded cleanly ... OK * loading checks for arch 'x64' ** checking whether the package can be loaded ... OK ** checking whether the package can be loaded with stated dependencies ... OK ** checking whether the package can be unloaded cleanly ... OK ** checking whether the namespace can be loaded with stated dependencies ... OK ** checking whether the namespace can be unloaded cleanly ... OK * checking dependencies in R code ... OK * checking S3 generic/method consistency ... OK * checking replacement functions ... OK * checking foreign function calls ... OK * checking R code for possible problems ... OK * checking Rd files ... OK * checking Rd metadata ... OK * checking Rd cross-references ... OK * checking for missing documentation entries ... OK * checking for code/documentation mismatches ... OK * checking Rd \usage sections ... OK * checking Rd contents ... OK * checking for unstated dependencies in examples ... OK * checking line endings in shell scripts ... OK * checking line endings in C/C++/Fortran sources/headers ... OK * checking line endings in Makefiles ... OK * checking compilation flags in Makevars ... OK * checking for GNU extensions in Makefiles ... OK * checking for portable use of $(BLAS_LIBS) and $(LAPACK_LIBS) ... OK * checking use of PKG_*FLAGS in Makefiles ... OK * checking compiled code ... NOTE Note: information on .o files for i386 is not available Note: information on .o files for x64 is not available File 'C:/Users/biocbuild/bbs-3.12-bioc/R/library/Rhdf5lib/libs/i386/Rhdf5lib.dll': Found 'abort', possibly from 'abort' (C), 'runtime' (Fortran) File 'C:/Users/biocbuild/bbs-3.12-bioc/R/library/Rhdf5lib/libs/x64/Rhdf5lib.dll': Found 'abort', possibly from 'abort' (C), 'runtime' (Fortran) Compiled code should not call entry points which might terminate R nor write to stdout/stderr instead of to the console, nor use Fortran I/O nor system RNGs. The detected symbols are linked into the code but might come from libraries and not actually be called. See 'Writing portable packages' in the 'Writing R Extensions' manual. * checking files in 'vignettes' ... OK * checking examples ... ** running examples for arch 'i386' ... OK ** running examples for arch 'x64' ... OK * checking for unstated dependencies in 'tests' ... OK * checking tests ... ** running tests for arch 'i386' ... Running 'tinytest.R' OK ** running tests for arch 'x64' ... Running 'tinytest.R' OK * checking for unstated dependencies in vignettes ... OK * checking package vignettes in 'inst/doc' ... OK * checking running R code from vignettes ... SKIPPED * checking re-building of vignette outputs ... SKIPPED * checking PDF version of manual ... OK * DONE Status: 2 NOTEs See 'C:/Users/biocbuild/bbs-3.12-bioc/meat/Rhdf5lib.Rcheck/00check.log' for details.
Rhdf5lib.Rcheck/00install.out
############################################################################## ############################################################################## ### ### Running command: ### ### C:\cygwin\bin\curl.exe -O http://172.29.0.3/BBS/3.12/bioc/src/contrib/Rhdf5lib_1.12.1.tar.gz && rm -rf Rhdf5lib.buildbin-libdir && mkdir Rhdf5lib.buildbin-libdir && C:\Users\biocbuild\bbs-3.12-bioc\R\bin\R.exe CMD INSTALL --merge-multiarch --build --library=Rhdf5lib.buildbin-libdir Rhdf5lib_1.12.1.tar.gz && C:\Users\biocbuild\bbs-3.12-bioc\R\bin\R.exe CMD INSTALL Rhdf5lib_1.12.1.zip && rm Rhdf5lib_1.12.1.tar.gz Rhdf5lib_1.12.1.zip ### ############################################################################## ############################################################################## % Total % Received % Xferd Average Speed Time Time Time Current Dload Upload Total Spent Left Speed 0 0 0 0 0 0 0 0 --:--:-- --:--:-- --:--:-- 0 100 13.3M 100 13.3M 0 0 29.4M 0 --:--:-- --:--:-- --:--:-- 29.4M install for i386 * installing *source* package 'Rhdf5lib' ... ** using staged installation untarring hdf5_headers_1.10.6.tar.gz ... ** libs mkdir -p "C:/Users/biocbuild/bbs-3.12-bioc/meat/Rhdf5lib.buildbin-libdir/00LOCK-Rhdf5lib/00new/Rhdf5lib/lib/i386/" "C:/Users/biocbuild/bbs-3.12-bioc/meat/Rhdf5lib.buildbin-libdir/00LOCK-Rhdf5lib/00new/Rhdf5lib/include" cp "winlib-8.3.0/i386/libhdf5.a" "C:/Users/biocbuild/bbs-3.12-bioc/meat/Rhdf5lib.buildbin-libdir/00LOCK-Rhdf5lib/00new/Rhdf5lib/lib/i386/libhdf5.a" cp "winlib-8.3.0/i386/libhdf5_cpp.a" "C:/Users/biocbuild/bbs-3.12-bioc/meat/Rhdf5lib.buildbin-libdir/00LOCK-Rhdf5lib/00new/Rhdf5lib/lib/i386/libhdf5_cpp.a" cp "winlib-8.3.0/i386/libhdf5_hl.a" "C:/Users/biocbuild/bbs-3.12-bioc/meat/Rhdf5lib.buildbin-libdir/00LOCK-Rhdf5lib/00new/Rhdf5lib/lib/i386/libhdf5_hl.a" cp "winlib-8.3.0/i386/libhdf5_hl_cpp.a" "C:/Users/biocbuild/bbs-3.12-bioc/meat/Rhdf5lib.buildbin-libdir/00LOCK-Rhdf5lib/00new/Rhdf5lib/lib/i386/libhdf5_hl_cpp.a" cp "winlib-8.3.0/i386/libszip.a" "C:/Users/biocbuild/bbs-3.12-bioc/meat/Rhdf5lib.buildbin-libdir/00LOCK-Rhdf5lib/00new/Rhdf5lib/lib/i386/libszip.a" cp ./hdf5/*.h "C:/Users/biocbuild/bbs-3.12-bioc/meat/Rhdf5lib.buildbin-libdir/00LOCK-Rhdf5lib/00new/Rhdf5lib/include" cp ./hdf5/c++/*.h "C:/Users/biocbuild/bbs-3.12-bioc/meat/Rhdf5lib.buildbin-libdir/00LOCK-Rhdf5lib/00new/Rhdf5lib/include" cp ./hdf5/hl/*.h "C:/Users/biocbuild/bbs-3.12-bioc/meat/Rhdf5lib.buildbin-libdir/00LOCK-Rhdf5lib/00new/Rhdf5lib/include" "C:/Users/BIOCBU~1/BBS-3~1.12-/R/bin/i386/Rscript.exe" "../tools/winlibs.R" 7.64.1 C:/Users/biocbuild/bbs-3.12-bioc/meat/Rhdf5lib.buildbin-libdir/00LOCK-Rhdf5lib/00new/Rhdf5lib/lib/i386/ Copying Winlibs C:\Users\biocbuild\bbs-3.12-bioc\tmpdir\RtmpayKR2f/libcurl [1] "C:\\Users\\biocbuild\\bbs-3.12-bioc\\tmpdir\\RtmpayKR2f/libcurl/libcurl-7.64.1/README.md" [2] "C:\\Users\\biocbuild\\bbs-3.12-bioc\\tmpdir\\RtmpayKR2f/libcurl/libcurl-7.64.1/include/curl/curl.h" [3] "C:\\Users\\biocbuild\\bbs-3.12-bioc\\tmpdir\\RtmpayKR2f/libcurl/libcurl-7.64.1/include/curl/curlver.h" [4] "C:\\Users\\biocbuild\\bbs-3.12-bioc\\tmpdir\\RtmpayKR2f/libcurl/libcurl-7.64.1/include/curl/easy.h" [5] "C:\\Users\\biocbuild\\bbs-3.12-bioc\\tmpdir\\RtmpayKR2f/libcurl/libcurl-7.64.1/include/curl/mprintf.h" [6] "C:\\Users\\biocbuild\\bbs-3.12-bioc\\tmpdir\\RtmpayKR2f/libcurl/libcurl-7.64.1/include/curl/multi.h" [7] "C:\\Users\\biocbuild\\bbs-3.12-bioc\\tmpdir\\RtmpayKR2f/libcurl/libcurl-7.64.1/include/curl/stdcheaders.h" [8] "C:\\Users\\biocbuild\\bbs-3.12-bioc\\tmpdir\\RtmpayKR2f/libcurl/libcurl-7.64.1/include/curl/system.h" [9] "C:\\Users\\biocbuild\\bbs-3.12-bioc\\tmpdir\\RtmpayKR2f/libcurl/libcurl-7.64.1/include/curl/typecheck-gcc.h" [10] "C:\\Users\\biocbuild\\bbs-3.12-bioc\\tmpdir\\RtmpayKR2f/libcurl/libcurl-7.64.1/include/curl/urlapi.h" [11] "C:\\Users\\biocbuild\\bbs-3.12-bioc\\tmpdir\\RtmpayKR2f/libcurl/libcurl-7.64.1/lib/i386/libcrypto.a" [12] "C:\\Users\\biocbuild\\bbs-3.12-bioc\\tmpdir\\RtmpayKR2f/libcurl/libcurl-7.64.1/lib/i386/libcurl.a" [13] "C:\\Users\\biocbuild\\bbs-3.12-bioc\\tmpdir\\RtmpayKR2f/libcurl/libcurl-7.64.1/lib/i386/libssh2.a" [14] "C:\\Users\\biocbuild\\bbs-3.12-bioc\\tmpdir\\RtmpayKR2f/libcurl/libcurl-7.64.1/lib/i386/libssl.a" [15] "C:\\Users\\biocbuild\\bbs-3.12-bioc\\tmpdir\\RtmpayKR2f/libcurl/libcurl-7.64.1/lib/x64/libcrypto.a" [16] "C:\\Users\\biocbuild\\bbs-3.12-bioc\\tmpdir\\RtmpayKR2f/libcurl/libcurl-7.64.1/lib/x64/libcurl.a" [17] "C:\\Users\\biocbuild\\bbs-3.12-bioc\\tmpdir\\RtmpayKR2f/libcurl/libcurl-7.64.1/lib/x64/libssh2.a" [18] "C:\\Users\\biocbuild\\bbs-3.12-bioc\\tmpdir\\RtmpayKR2f/libcurl/libcurl-7.64.1/lib/x64/libssl.a" C:\Users\biocbuild\bbs-3.12-bioc\tmpdir\RtmpayKR2f/libcurl/libcurl-7.64.1/lib/i386/libcrypto.aC:\Users\biocbuild\bbs-3.12-bioc\tmpdir\RtmpayKR2f/libcurl/libcurl-7.64.1/lib/i386/libcurl.aC:\Users\biocbuild\bbs-3.12-bioc\tmpdir\RtmpayKR2f/libcurl/libcurl-7.64.1/lib/i386/libssh2.aC:\Users\biocbuild\bbs-3.12-bioc\tmpdir\RtmpayKR2f/libcurl/libcurl-7.64.1/lib/i386/libssl.a ARCH: i386 [[1]] [1] TRUE [[2]] [1] TRUE [[3]] [1] TRUE [[4]] [1] TRUE "C:/rtools40/mingw32/bin/"gcc -I"C:/Users/BIOCBU~1/BBS-3~1.12-/R/include" -DNDEBUG -I"C:/extsoft/include" -I./hdf5 -O2 -Wall -std=gnu99 -mfpmath=sse -msse2 -mstackrealign -c Rhdf5lib.c -o Rhdf5lib.o C:/rtools40/mingw32/bin/gcc -shared -s -static-libgcc -o Rhdf5lib.dll tmp.def Rhdf5lib.o winlib-8.3.0//i386/libhdf5.a winlib-8.3.0//i386/libszip.a -lpsapi -lz -LC:/extsoft/lib/i386 -LC:/extsoft/lib -LC:/Users/BIOCBU~1/BBS-3~1.12-/R/bin/i386 -lR installing to C:/Users/biocbuild/bbs-3.12-bioc/meat/Rhdf5lib.buildbin-libdir/00LOCK-Rhdf5lib/00new/Rhdf5lib/libs/i386 ** R ** inst ** byte-compile and prepare package for lazy loading ** help *** installing help indices converting help for package 'Rhdf5lib' finding HTML links ... done Rhdf5lib html dot-curlStatus html getHdf5Version html pkgconfig html ** building package indices ** installing vignettes ** testing if installed package can be loaded from temporary location ** testing if installed package can be loaded from final location ** testing if installed package keeps a record of temporary installation path install for x64 * installing *source* package 'Rhdf5lib' ... untarring hdf5_headers_1.10.6.tar.gz ... ** libs mkdir -p "C:/Users/biocbuild/bbs-3.12-bioc/meat/Rhdf5lib.buildbin-libdir/Rhdf5lib/lib/x64/" "C:/Users/biocbuild/bbs-3.12-bioc/meat/Rhdf5lib.buildbin-libdir/Rhdf5lib/include" cp "winlib-8.3.0/x64/libhdf5.a" "C:/Users/biocbuild/bbs-3.12-bioc/meat/Rhdf5lib.buildbin-libdir/Rhdf5lib/lib/x64/libhdf5.a" cp "winlib-8.3.0/x64/libhdf5_cpp.a" "C:/Users/biocbuild/bbs-3.12-bioc/meat/Rhdf5lib.buildbin-libdir/Rhdf5lib/lib/x64/libhdf5_cpp.a" cp "winlib-8.3.0/x64/libhdf5_hl.a" "C:/Users/biocbuild/bbs-3.12-bioc/meat/Rhdf5lib.buildbin-libdir/Rhdf5lib/lib/x64/libhdf5_hl.a" cp "winlib-8.3.0/x64/libhdf5_hl_cpp.a" "C:/Users/biocbuild/bbs-3.12-bioc/meat/Rhdf5lib.buildbin-libdir/Rhdf5lib/lib/x64/libhdf5_hl_cpp.a" cp "winlib-8.3.0/x64/libszip.a" "C:/Users/biocbuild/bbs-3.12-bioc/meat/Rhdf5lib.buildbin-libdir/Rhdf5lib/lib/x64/libszip.a" cp ./hdf5/*.h "C:/Users/biocbuild/bbs-3.12-bioc/meat/Rhdf5lib.buildbin-libdir/Rhdf5lib/include" cp ./hdf5/c++/*.h "C:/Users/biocbuild/bbs-3.12-bioc/meat/Rhdf5lib.buildbin-libdir/Rhdf5lib/include" cp ./hdf5/hl/*.h "C:/Users/biocbuild/bbs-3.12-bioc/meat/Rhdf5lib.buildbin-libdir/Rhdf5lib/include" "C:/Users/BIOCBU~1/BBS-3~1.12-/R/bin/x64/Rscript.exe" "../tools/winlibs.R" 7.64.1 C:/Users/biocbuild/bbs-3.12-bioc/meat/Rhdf5lib.buildbin-libdir/Rhdf5lib/lib/x64/ Copying Winlibs C:\Users\biocbuild\bbs-3.12-bioc\tmpdir\RtmpUVFRga/libcurl [1] "C:\\Users\\biocbuild\\bbs-3.12-bioc\\tmpdir\\RtmpUVFRga/libcurl/libcurl-7.64.1/README.md" [2] "C:\\Users\\biocbuild\\bbs-3.12-bioc\\tmpdir\\RtmpUVFRga/libcurl/libcurl-7.64.1/include/curl/curl.h" [3] "C:\\Users\\biocbuild\\bbs-3.12-bioc\\tmpdir\\RtmpUVFRga/libcurl/libcurl-7.64.1/include/curl/curlver.h" [4] "C:\\Users\\biocbuild\\bbs-3.12-bioc\\tmpdir\\RtmpUVFRga/libcurl/libcurl-7.64.1/include/curl/easy.h" [5] "C:\\Users\\biocbuild\\bbs-3.12-bioc\\tmpdir\\RtmpUVFRga/libcurl/libcurl-7.64.1/include/curl/mprintf.h" [6] "C:\\Users\\biocbuild\\bbs-3.12-bioc\\tmpdir\\RtmpUVFRga/libcurl/libcurl-7.64.1/include/curl/multi.h" [7] "C:\\Users\\biocbuild\\bbs-3.12-bioc\\tmpdir\\RtmpUVFRga/libcurl/libcurl-7.64.1/include/curl/stdcheaders.h" [8] "C:\\Users\\biocbuild\\bbs-3.12-bioc\\tmpdir\\RtmpUVFRga/libcurl/libcurl-7.64.1/include/curl/system.h" [9] "C:\\Users\\biocbuild\\bbs-3.12-bioc\\tmpdir\\RtmpUVFRga/libcurl/libcurl-7.64.1/include/curl/typecheck-gcc.h" [10] "C:\\Users\\biocbuild\\bbs-3.12-bioc\\tmpdir\\RtmpUVFRga/libcurl/libcurl-7.64.1/include/curl/urlapi.h" [11] "C:\\Users\\biocbuild\\bbs-3.12-bioc\\tmpdir\\RtmpUVFRga/libcurl/libcurl-7.64.1/lib/i386/libcrypto.a" [12] "C:\\Users\\biocbuild\\bbs-3.12-bioc\\tmpdir\\RtmpUVFRga/libcurl/libcurl-7.64.1/lib/i386/libcurl.a" [13] "C:\\Users\\biocbuild\\bbs-3.12-bioc\\tmpdir\\RtmpUVFRga/libcurl/libcurl-7.64.1/lib/i386/libssh2.a" [14] "C:\\Users\\biocbuild\\bbs-3.12-bioc\\tmpdir\\RtmpUVFRga/libcurl/libcurl-7.64.1/lib/i386/libssl.a" [15] "C:\\Users\\biocbuild\\bbs-3.12-bioc\\tmpdir\\RtmpUVFRga/libcurl/libcurl-7.64.1/lib/x64/libcrypto.a" [16] "C:\\Users\\biocbuild\\bbs-3.12-bioc\\tmpdir\\RtmpUVFRga/libcurl/libcurl-7.64.1/lib/x64/libcurl.a" [17] "C:\\Users\\biocbuild\\bbs-3.12-bioc\\tmpdir\\RtmpUVFRga/libcurl/libcurl-7.64.1/lib/x64/libssh2.a" [18] "C:\\Users\\biocbuild\\bbs-3.12-bioc\\tmpdir\\RtmpUVFRga/libcurl/libcurl-7.64.1/lib/x64/libssl.a" C:\Users\biocbuild\bbs-3.12-bioc\tmpdir\RtmpUVFRga/libcurl/libcurl-7.64.1/lib/x64/libcrypto.aC:\Users\biocbuild\bbs-3.12-bioc\tmpdir\RtmpUVFRga/libcurl/libcurl-7.64.1/lib/x64/libcurl.aC:\Users\biocbuild\bbs-3.12-bioc\tmpdir\RtmpUVFRga/libcurl/libcurl-7.64.1/lib/x64/libssh2.aC:\Users\biocbuild\bbs-3.12-bioc\tmpdir\RtmpUVFRga/libcurl/libcurl-7.64.1/lib/x64/libssl.a ARCH: x64 [[1]] [1] TRUE [[2]] [1] TRUE [[3]] [1] TRUE [[4]] [1] TRUE "C:/rtools40/mingw64/bin/"gcc -I"C:/Users/BIOCBU~1/BBS-3~1.12-/R/include" -DNDEBUG -I"C:/extsoft/include" -I./hdf5 -O2 -Wall -std=gnu99 -mfpmath=sse -msse2 -mstackrealign -c Rhdf5lib.c -o Rhdf5lib.o C:/rtools40/mingw64/bin/gcc -shared -s -static-libgcc -o Rhdf5lib.dll tmp.def Rhdf5lib.o winlib-8.3.0//x64/libhdf5.a winlib-8.3.0//x64/libszip.a -lpsapi -lz -LC:/extsoft/lib/x64 -LC:/extsoft/lib -LC:/Users/BIOCBU~1/BBS-3~1.12-/R/bin/x64 -lR installing to C:/Users/biocbuild/bbs-3.12-bioc/meat/Rhdf5lib.buildbin-libdir/Rhdf5lib/libs/x64 ** testing if installed package can be loaded * MD5 sums packaged installation of 'Rhdf5lib' as Rhdf5lib_1.12.1.zip * DONE (Rhdf5lib) * installing to library 'C:/Users/biocbuild/bbs-3.12-bioc/R/library' package 'Rhdf5lib' successfully unpacked and MD5 sums checked
Rhdf5lib.Rcheck/tests_i386/tinytest.Rout R version 4.0.5 (2021-03-31) -- "Shake and Throw" Copyright (C) 2021 The R Foundation for Statistical Computing Platform: i386-w64-mingw32/i386 (32-bit) R is free software and comes with ABSOLUTELY NO WARRANTY. You are welcome to redistribute it under certain conditions. Type 'license()' or 'licence()' for distribution details. R is a collaborative project with many contributors. Type 'contributors()' for more information and 'citation()' on how to cite R or R packages in publications. Type 'demo()' for some demos, 'help()' for on-line help, or 'help.start()' for an HTML browser interface to help. Type 'q()' to quit R. > if ( requireNamespace("tinytest", quietly=TRUE) ) { + tinytest::test_package("Rhdf5lib") + } Running test_library_version.R........ 1 tests [0;32mOK[0m Running test_library_version.R........ 2 tests [0;32mOK[0m [0;34m0.1s[0m All ok, 2 results (0.1s) > > proc.time() user system elapsed 0.39 0.07 0.43 |
Rhdf5lib.Rcheck/tests_x64/tinytest.Rout R version 4.0.5 (2021-03-31) -- "Shake and Throw" Copyright (C) 2021 The R Foundation for Statistical Computing Platform: x86_64-w64-mingw32/x64 (64-bit) R is free software and comes with ABSOLUTELY NO WARRANTY. You are welcome to redistribute it under certain conditions. Type 'license()' or 'licence()' for distribution details. R is a collaborative project with many contributors. Type 'contributors()' for more information and 'citation()' on how to cite R or R packages in publications. Type 'demo()' for some demos, 'help()' for on-line help, or 'help.start()' for an HTML browser interface to help. Type 'q()' to quit R. > if ( requireNamespace("tinytest", quietly=TRUE) ) { + tinytest::test_package("Rhdf5lib") + } Running test_library_version.R........ 1 tests [0;32mOK[0m Running test_library_version.R........ 2 tests [0;32mOK[0m [0;34m0.1s[0m All ok, 2 results (0.1s) > > proc.time() user system elapsed 0.39 0.04 0.42 |
Rhdf5lib.Rcheck/examples_i386/Rhdf5lib-Ex.timings
|
Rhdf5lib.Rcheck/examples_x64/Rhdf5lib-Ex.timings
|