Back to Multiple platform build/check report for BioC 3.12
[A]BCDEFGHIJKLMNOPQRSTUVWXYZ

BUILD BIN report for ADaCGH2 on tokay1

This page was generated on 2020-07-30 11:54:57 -0400 (Thu, 30 Jul 2020).

TO THE DEVELOPERS/MAINTAINERS OF THE ADaCGH2 PACKAGE: Please make sure to use the following settings in order to reproduce any error or warning you see on this page.
Package 15/1879HostnameOS / ArchINSTALLBUILDCHECKBUILD BIN
ADaCGH2 2.29.0
Ramon Diaz-Uriarte
Snapshot Date: 2020-07-29 14:50:08 -0400 (Wed, 29 Jul 2020)
URL: https://git.bioconductor.org/packages/ADaCGH2
Branch: master
Last Commit: 31c21bb
Last Changed Date: 2020-04-27 14:23:32 -0400 (Mon, 27 Apr 2020)
malbec1 Linux (Ubuntu 18.04.4 LTS) / x86_64  OK  OK  OK UNNEEDED, same version exists in internal repository
tokay1 Windows Server 2012 R2 Standard / x64  OK  OK  OK [ OK ]UNNEEDED, same version exists in internal repository
merida1 macOS 10.14.6 Mojave / x86_64  OK  OK  OK  OK UNNEEDED, same version exists in internal repository

Summary

Package: ADaCGH2
Version: 2.29.0
Command: rm -rf ADaCGH2.buildbin-libdir && mkdir ADaCGH2.buildbin-libdir && C:\Users\biocbuild\bbs-3.12-bioc\R\bin\R.exe CMD INSTALL --merge-multiarch --build --library=ADaCGH2.buildbin-libdir ADaCGH2_2.29.0.tar.gz
StartedAt: 2020-07-30 07:27:16 -0400 (Thu, 30 Jul 2020)
EndedAt: 2020-07-30 07:28:08 -0400 (Thu, 30 Jul 2020)
EllapsedTime: 51.9 seconds
RetCode: 0
Status:  OK  
PackageFile: ADaCGH2_2.29.0.zip
PackageFileSize: 1.181 MiB

Command output

##############################################################################
##############################################################################
###
### Running command:
###
###   rm -rf ADaCGH2.buildbin-libdir && mkdir ADaCGH2.buildbin-libdir && C:\Users\biocbuild\bbs-3.12-bioc\R\bin\R.exe CMD INSTALL --merge-multiarch --build --library=ADaCGH2.buildbin-libdir ADaCGH2_2.29.0.tar.gz
###
##############################################################################
##############################################################################



install for i386

* installing *source* package 'ADaCGH2' ...
** using staged installation
** libs
"C:/rtools40/mingw32/bin/"gcc  -I"C:/Users/BIOCBU~1/BBS-3~1.12-/R/include" -DNDEBUG     -I"C:/extsoft/include"     -O2 -Wall  -std=gnu99 -mfpmath=sse -msse2 -mstackrealign -c init.c -o init.o
"C:/rtools40/mingw32/bin/"gcc  -I"C:/Users/BIOCBU~1/BBS-3~1.12-/R/include" -DNDEBUG     -I"C:/extsoft/include"     -O2 -Wall  -std=gnu99 -mfpmath=sse -msse2 -mstackrealign -c r_haarseg.c -o r_haarseg.o
r_haarseg.c: In function 'ad_HaarConv':
r_haarseg.c:65:12: warning: unused variable 'totalNorm' [-Wunused-variable]
     double totalNorm;
            ^~~~~~~~~
r_haarseg.c: In function 'ad_FindLocalPeaks':
r_haarseg.c:152:8: warning: "/*" within comment [-Wcomment]
       }/* for j */
         
r_haarseg.c:176:8: warning: "/*" within comment [-Wcomment]
       }/* for j */
         
r_haarseg.c:128:9: warning: unused variable 'j' [-Wunused-variable]
   int k,j;
         ^
r_haarseg.c: In function 'ad_HaarConv':
r_haarseg.c:97:27: warning: 'highNonNormed' may be used uninitialized in this function [-Wmaybe-uninitialized]
             highNonNormed += signal[highEnd]*weight[highEnd] - signal[k-1]*weight[k-1];
             ~~~~~~~~~~~~~~^~~~~~~~~~~~~~~~~~~~~~~~~~~~~~~~~~~~~~~~~~~~~~~~~~~~~~~~~~~~
r_haarseg.c:96:26: warning: 'lowNonNormed' may be used uninitialized in this function [-Wmaybe-uninitialized]
             lowNonNormed += signal[lowEnd]*weight[lowEnd] - signal[k-1]*weight[k-1];
             ~~~~~~~~~~~~~^~~~~~~~~~~~~~~~~~~~~~~~~~~~~~~~~~~~~~~~~~~~~~~~~~~~~~~~~~
r_haarseg.c:99:27: warning: 'highWeightSum' may be used uninitialized in this function [-Wmaybe-uninitialized]
             highWeightSum += weight[highEnd] - weight[k-1];
             ~~~~~~~~~~~~~~^~~~~~~~~~~~~~~~~~~~~~~~~~~~~~~~
r_haarseg.c:98:26: warning: 'lowWeightSum' may be used uninitialized in this function [-Wmaybe-uninitialized]
             lowWeightSum += weight[k-1] - weight[lowEnd];
             ~~~~~~~~~~~~~^~~~~~~~~~~~~~~~~~~~~~~~~~~~~~~
C:/rtools40/mingw32/bin/gcc -shared -s -static-libgcc -o ADaCGH2.dll tmp.def init.o r_haarseg.o -LC:/extsoft/lib/i386 -LC:/extsoft/lib -LC:/Users/BIOCBU~1/BBS-3~1.12-/R/bin/i386 -lR
installing to C:/Users/biocbuild/bbs-3.12-bioc/meat/ADaCGH2.buildbin-libdir/00LOCK-ADaCGH2/00new/ADaCGH2/libs/i386
** R
** data
** inst
** byte-compile and prepare package for lazy loading
** help
*** installing help indices
  converting help for package 'ADaCGH2'
    finding HTML links ... done
    cutFile                                 html  
    inputEx                                 html  
    inputToADaCGH                           html  
    finding level-2 HTML links ... done

    outputToCGHregions                      html  
    pChromPlot                              html  
    pSegment                                html  
** building package indices
** installing vignettes
** testing if installed package can be loaded from temporary location
** testing if installed package can be loaded from final location
** testing if installed package keeps a record of temporary installation path

install for x64

* installing *source* package 'ADaCGH2' ...
** libs
"C:/rtools40/mingw64/bin/"gcc  -I"C:/Users/BIOCBU~1/BBS-3~1.12-/R/include" -DNDEBUG     -I"C:/extsoft/include"     -O2 -Wall  -std=gnu99 -mfpmath=sse -msse2 -mstackrealign -c init.c -o init.o
"C:/rtools40/mingw64/bin/"gcc  -I"C:/Users/BIOCBU~1/BBS-3~1.12-/R/include" -DNDEBUG     -I"C:/extsoft/include"     -O2 -Wall  -std=gnu99 -mfpmath=sse -msse2 -mstackrealign -c r_haarseg.c -o r_haarseg.o
r_haarseg.c: In function 'ad_HaarConv':
r_haarseg.c:65:12: warning: unused variable 'totalNorm' [-Wunused-variable]
     double totalNorm;
            ^~~~~~~~~
r_haarseg.c: In function 'ad_FindLocalPeaks':
r_haarseg.c:152:8: warning: "/*" within comment [-Wcomment]
       }/* for j */
         
r_haarseg.c:176:8: warning: "/*" within comment [-Wcomment]
       }/* for j */
         
r_haarseg.c:128:9: warning: unused variable 'j' [-Wunused-variable]
   int k,j;
         ^
r_haarseg.c: In function 'ad_HaarConv':
r_haarseg.c:97:27: warning: 'highNonNormed' may be used uninitialized in this function [-Wmaybe-uninitialized]
             highNonNormed += signal[highEnd]*weight[highEnd] - signal[k-1]*weight[k-1];
             ~~~~~~~~~~~~~~^~~~~~~~~~~~~~~~~~~~~~~~~~~~~~~~~~~~~~~~~~~~~~~~~~~~~~~~~~~~
r_haarseg.c:96:26: warning: 'lowNonNormed' may be used uninitialized in this function [-Wmaybe-uninitialized]
             lowNonNormed += signal[lowEnd]*weight[lowEnd] - signal[k-1]*weight[k-1];
             ~~~~~~~~~~~~~^~~~~~~~~~~~~~~~~~~~~~~~~~~~~~~~~~~~~~~~~~~~~~~~~~~~~~~~~~
r_haarseg.c:99:27: warning: 'highWeightSum' may be used uninitialized in this function [-Wmaybe-uninitialized]
             highWeightSum += weight[highEnd] - weight[k-1];
             ~~~~~~~~~~~~~~^~~~~~~~~~~~~~~~~~~~~~~~~~~~~~~~
r_haarseg.c:98:26: warning: 'lowWeightSum' may be used uninitialized in this function [-Wmaybe-uninitialized]
             lowWeightSum += weight[k-1] - weight[lowEnd];
             ~~~~~~~~~~~~~^~~~~~~~~~~~~~~~~~~~~~~~~~~~~~~
C:/rtools40/mingw64/bin/gcc -shared -s -static-libgcc -o ADaCGH2.dll tmp.def init.o r_haarseg.o -LC:/extsoft/lib/x64 -LC:/extsoft/lib -LC:/Users/BIOCBU~1/BBS-3~1.12-/R/bin/x64 -lR
installing to C:/Users/biocbuild/bbs-3.12-bioc/meat/ADaCGH2.buildbin-libdir/ADaCGH2/libs/x64
** testing if installed package can be loaded
* MD5 sums
packaged installation of 'ADaCGH2' as ADaCGH2_2.29.0.zip
* DONE (ADaCGH2)