Back to Multiple platform build/check report for BioC 3.12
AB[C]DEFGHIJKLMNOPQRSTUVWXYZ

BUILD report for cellity on merida1

This page was generated on 2021-01-22 11:57:53 -0500 (Fri, 22 Jan 2021).

TO THE DEVELOPERS/MAINTAINERS OF THE cellity PACKAGE: Please make sure to use the following settings in order to reproduce any error or warning you see on this page.
Package 253/1974HostnameOS / ArchINSTALLBUILDCHECKBUILD BIN
cellity 1.18.0
Tomislav Ilicic
Snapshot Date: 2021-01-21 14:42:12 -0500 (Thu, 21 Jan 2021)
URL: https://git.bioconductor.org/packages/cellity
Branch: RELEASE_3_12
Last Commit: 65b7ecd
Last Changed Date: 2020-10-27 11:11:33 -0500 (Tue, 27 Oct 2020)
malbec1 Linux (Ubuntu 18.04.5 LTS) / x86_64  OK  OK  OK UNNEEDED, same version exists in internal repository
nebbiolo1 Linux (Ubuntu 20.04.1 LTS) / x86_64  OK  OK  OK 
tokay1 Windows Server 2012 R2 Standard / x64  OK  OK  OK  OK UNNEEDED, same version exists in internal repository
merida1 macOS 10.14.6 Mojave / x86_64  OK [ OK ] OK  OK UNNEEDED, same version exists in internal repository

Summary

Package: cellity
Version: 1.18.0
Command: /Library/Frameworks/R.framework/Versions/Current/Resources/bin/R CMD build --keep-empty-dirs --no-resave-data cellity
StartedAt: 2021-01-21 18:33:25 -0500 (Thu, 21 Jan 2021)
EndedAt: 2021-01-21 18:34:55 -0500 (Thu, 21 Jan 2021)
EllapsedTime: 90.8 seconds
RetCode: 0
Status:  OK 
PackageFile: cellity_1.18.0.tar.gz
PackageFileSize: 1.053 MiB

Command output

##############################################################################
##############################################################################
###
### Running command:
###
###   /Library/Frameworks/R.framework/Versions/Current/Resources/bin/R CMD build --keep-empty-dirs --no-resave-data cellity
###
##############################################################################
##############################################################################


* checking for file ‘cellity/DESCRIPTION’ ... OK
* preparing ‘cellity’:
* checking DESCRIPTION meta-information ... OK
* installing the package to build vignettes
* creating vignettes ... OK
* checking for LF line-endings in source and make files and shell scripts
* checking for empty or unneeded directories
* building ‘cellity_1.18.0.tar.gz’