Back to Multiple platform build/check report for BioC 3.12
[A]BCDEFGHIJKLMNOPQRSTUVWXYZ

BUILD report for adductomicsR on merida1

This page was generated on 2020-08-12 12:03:55 -0400 (Wed, 12 Aug 2020).

TO THE DEVELOPERS/MAINTAINERS OF THE adductomicsR PACKAGE: Please make sure to use the following settings in order to reproduce any error or warning you see on this page.
Package 19/1885HostnameOS / ArchINSTALLBUILDCHECKBUILD BIN
adductomicsR 1.5.0
Josie Hayes
Snapshot Date: 2020-08-11 14:50:16 -0400 (Tue, 11 Aug 2020)
URL: https://git.bioconductor.org/packages/adductomicsR
Branch: master
Last Commit: fa14d84
Last Changed Date: 2020-04-27 15:22:50 -0400 (Mon, 27 Apr 2020)
malbec1 Linux (Ubuntu 18.04.4 LTS) / x86_64  OK  OK  WARNINGS UNNEEDED, same version exists in internal repository
nebbiolo1 Linux (Ubuntu 20.04.1 LTS) / x86_64  OK  OK  WARNINGS 
tokay1 Windows Server 2012 R2 Standard / x64  OK  OK  WARNINGS  OK UNNEEDED, same version exists in internal repository
merida1 macOS 10.14.6 Mojave / x86_64  OK [ OK ] WARNINGS  OK UNNEEDED, same version exists in internal repository

Summary

Package: adductomicsR
Version: 1.5.0
Command: /Library/Frameworks/R.framework/Versions/Current/Resources/bin/R CMD build --keep-empty-dirs --no-resave-data adductomicsR
StartedAt: 2020-08-11 21:24:14 -0400 (Tue, 11 Aug 2020)
EndedAt: 2020-08-11 21:25:39 -0400 (Tue, 11 Aug 2020)
EllapsedTime: 85.5 seconds
RetCode: 0
Status:  OK 
PackageFile: adductomicsR_1.5.0.tar.gz
PackageFileSize: 751.7 KiB

Command output

##############################################################################
##############################################################################
###
### Running command:
###
###   /Library/Frameworks/R.framework/Versions/Current/Resources/bin/R CMD build --keep-empty-dirs --no-resave-data adductomicsR
###
##############################################################################
##############################################################################


* checking for file ‘adductomicsR/DESCRIPTION’ ... OK
* preparing ‘adductomicsR’:
* checking DESCRIPTION meta-information ... OK
* installing the package to build vignettes
* creating vignettes ... OK
* checking for LF line-endings in source and make files and shell scripts
* checking for empty or unneeded directories
* building ‘adductomicsR_1.5.0.tar.gz’