Back to Multiple platform build/check report for BioC 3.12 |
|
This page was generated on 2021-01-25 11:52:26 -0500 (Mon, 25 Jan 2021).
TO THE DEVELOPERS/MAINTAINERS OF THE CATALYST PACKAGE: Please make sure to use the following settings in order to reproduce any error or warning you see on this page. |
Package 237/1974 | Hostname | OS / Arch | INSTALL | BUILD | CHECK | BUILD BIN | ||||||
CATALYST 1.14.0 Helena L. Crowell
| malbec1 | Linux (Ubuntu 18.04.5 LTS) / x86_64 | OK | OK | OK | ![]() | ||||||
nebbiolo1 | Linux (Ubuntu 20.04.1 LTS) / x86_64 | OK | OK | OK | ||||||||
tokay1 | Windows Server 2012 R2 Standard / x64 | OK | [ OK ] | OK | OK | ![]() | ||||||
merida1 | macOS 10.14.6 Mojave / x86_64 | OK | OK | OK | OK | ![]() |
Package: CATALYST |
Version: 1.14.0 |
Command: chmod a+r CATALYST -R && C:\Users\biocbuild\bbs-3.12-bioc\R\bin\R.exe CMD build --keep-empty-dirs --no-resave-data CATALYST |
StartedAt: 2021-01-24 20:04:42 -0500 (Sun, 24 Jan 2021) |
EndedAt: 2021-01-24 20:09:34 -0500 (Sun, 24 Jan 2021) |
EllapsedTime: 291.5 seconds |
RetCode: 0 |
Status: OK |
PackageFile: CATALYST_1.14.0.tar.gz |
PackageFileSize: 6.48 MiB |
############################################################################## ############################################################################## ### ### Running command: ### ### chmod a+r CATALYST -R && C:\Users\biocbuild\bbs-3.12-bioc\R\bin\R.exe CMD build --keep-empty-dirs --no-resave-data CATALYST ### ############################################################################## ############################################################################## * checking for file 'CATALYST/DESCRIPTION' ... OK * preparing 'CATALYST': * checking DESCRIPTION meta-information ... OK * installing the package to build vignettes * creating vignettes ... OK * checking for LF line-endings in source and make files and shell scripts * checking for empty or unneeded directories * building 'CATALYST_1.14.0.tar.gz'