Back to Multiple platform build/check report for BioC 3.12
A[B]CDEFGHIJKLMNOPQRSTUVWXYZ

BUILD report for BadRegionFinder on tokay1

This page was generated on 2021-02-22 12:37:01 -0500 (Mon, 22 Feb 2021).

To the developers/maintainers of the BadRegionFinder package:
Please make sure to use the following settings in order to reproduce any error or warning you see on this page.
Package 109/1974HostnameOS / ArchINSTALLBUILDCHECKBUILD BIN
BadRegionFinder 1.18.0
Sarah Sandmann
Snapshot Date: 2021-02-21 14:52:07 -0500 (Sun, 21 Feb 2021)
URL: https://git.bioconductor.org/packages/BadRegionFinder
Branch: RELEASE_3_12
Last Commit: 54deba4
Last Changed Date: 2020-10-27 11:13:27 -0500 (Tue, 27 Oct 2020)
malbec1Linux (Ubuntu 18.04.5 LTS) / x86_64  OK    OK    OK  UNNEEDED, same version exists in internal repository
nebbiolo1Linux (Ubuntu 20.04.2 LTS) / x86_64  OK    OK    OK  
tokay1Windows Server 2012 R2 Standard / x64  OK    OK    OK    OK  UNNEEDED, same version exists in internal repository
merida1macOS 10.14.6 Mojave / x86_64  OK    OK    OK    OK  UNNEEDED, same version exists in internal repository

Summary

Package: BadRegionFinder
Version: 1.18.0
Command: chmod a+r BadRegionFinder -R && C:\Users\biocbuild\bbs-3.12-bioc\R\bin\R.exe CMD build --keep-empty-dirs --no-resave-data BadRegionFinder
StartedAt: 2021-02-21 19:42:06 -0500 (Sun, 21 Feb 2021)
EndedAt: 2021-02-21 19:43:43 -0500 (Sun, 21 Feb 2021)
EllapsedTime: 96.8 seconds
RetCode: 0
Status:   OK   
PackageFile: BadRegionFinder_1.18.0.tar.gz
PackageFileSize: 765.1 KiB

Command output

##############################################################################
##############################################################################
###
### Running command:
###
###   chmod a+r BadRegionFinder -R && C:\Users\biocbuild\bbs-3.12-bioc\R\bin\R.exe CMD build --keep-empty-dirs --no-resave-data BadRegionFinder
###
##############################################################################
##############################################################################


* checking for file 'BadRegionFinder/DESCRIPTION' ... OK
* preparing 'BadRegionFinder':
* checking DESCRIPTION meta-information ... OK
* installing the package to process help pages
* saving partial Rd database
* creating vignettes ... OK
* checking for LF line-endings in source and make files and shell scripts
* checking for empty or unneeded directories
* building 'BadRegionFinder_1.18.0.tar.gz'