Back to Multiple platform build/check report for BioC 3.12
[A]BCDEFGHIJKLMNOPQRSTUVWXYZ

BUILD BIN report for ASSET on tokay1

This page was generated on 2020-08-13 11:37:37 -0400 (Thu, 13 Aug 2020).

TO THE DEVELOPERS/MAINTAINERS OF THE ASSET PACKAGE: Please make sure to use the following settings in order to reproduce any error or warning you see on this page.
Package 91/1885HostnameOS / ArchINSTALLBUILDCHECKBUILD BIN
ASSET 2.7.0
Samsiddhi Bhattacharjee
Snapshot Date: 2020-08-12 14:52:00 -0400 (Wed, 12 Aug 2020)
URL: https://git.bioconductor.org/packages/ASSET
Branch: master
Last Commit: 86da514
Last Changed Date: 2020-04-27 14:36:01 -0400 (Mon, 27 Apr 2020)
malbec1 Linux (Ubuntu 18.04.4 LTS) / x86_64  OK  OK  WARNINGS UNNEEDED, same version exists in internal repository
nebbiolo1 Linux (Ubuntu 20.04.1 LTS) / x86_64  OK  OK  WARNINGS 
tokay1 Windows Server 2012 R2 Standard / x64  OK  OK  WARNINGS [ OK ]UNNEEDED, same version exists in internal repository
merida1 macOS 10.14.6 Mojave / x86_64  OK  OK  WARNINGS  OK UNNEEDED, same version exists in internal repository

Summary

Package: ASSET
Version: 2.7.0
Command: rm -rf ASSET.buildbin-libdir && mkdir ASSET.buildbin-libdir && C:\Users\biocbuild\bbs-3.12-bioc\R\bin\R.exe CMD INSTALL --merge-multiarch --build --library=ASSET.buildbin-libdir ASSET_2.7.0.tar.gz
StartedAt: 2020-08-13 07:52:16 -0400 (Thu, 13 Aug 2020)
EndedAt: 2020-08-13 07:53:02 -0400 (Thu, 13 Aug 2020)
EllapsedTime: 45.1 seconds
RetCode: 0
Status:  OK  
PackageFile: ASSET_2.7.0.zip
PackageFileSize: 386 KiB

Command output

##############################################################################
##############################################################################
###
### Running command:
###
###   rm -rf ASSET.buildbin-libdir && mkdir ASSET.buildbin-libdir && C:\Users\biocbuild\bbs-3.12-bioc\R\bin\R.exe CMD INSTALL --merge-multiarch --build --library=ASSET.buildbin-libdir ASSET_2.7.0.tar.gz
###
##############################################################################
##############################################################################



install for i386

* installing *source* package 'ASSET' ...
** using staged installation
** R
** data
** inst
** byte-compile and prepare package for lazy loading
** help
*** installing help indices
  converting help for package 'ASSET'
    finding HTML links ... done
    ASSET                                   html  
    ex_trait                                html  
    ex_types                                html  
    h.forestPlot                            html  
    h.summary                               html  
    h.traits                                html  
    finding level-2 HTML links ... done

Rd warning: C:/Users/biocbuild/bbs-3.12-bioc/tmpdir/Rtmp8GORVZ/R.INSTALL25147f3b574c/ASSET/man/h.traits.Rd:41: missing link 'p.tube'
    h.types                                 html  
Rd warning: C:/Users/biocbuild/bbs-3.12-bioc/tmpdir/Rtmp8GORVZ/R.INSTALL25147f3b574c/ASSET/man/h.types.Rd:38: missing link 'p.tube'
    p.dlm                                   html  
    z.max                                   html  
** building package indices
** installing vignettes
** testing if installed package can be loaded from temporary location
** testing if installed package can be loaded from final location
** testing if installed package keeps a record of temporary installation path

install for x64

* installing *source* package 'ASSET' ...
** testing if installed package can be loaded
* MD5 sums
packaged installation of 'ASSET' as ASSET_2.7.0.zip
* DONE (ASSET)