Back to Multiple platform build/check report for BioC 3.12
AB[C]DEFGHIJKLMNOPQRSTUVWXYZ

BUILD report for CFAssay on malbec1

This page was generated on 2020-10-25 12:01:20 -0400 (Sun, 25 Oct 2020).

TO THE DEVELOPERS/MAINTAINERS OF THE CFAssay PACKAGE: Please make sure to use the following settings in order to reproduce any error or warning you see on this page.
Package 265/1974HostnameOS / ArchINSTALLBUILDCHECKBUILD BIN
CFAssay 1.23.0
Herbert Braselmann
Snapshot Date: 2020-10-24 14:40:19 -0400 (Sat, 24 Oct 2020)
URL: https://git.bioconductor.org/packages/CFAssay
Branch: master
Last Commit: bc395b1
Last Changed Date: 2020-04-27 14:45:10 -0400 (Mon, 27 Apr 2020)
malbec1 Linux (Ubuntu 18.04.4 LTS) / x86_64  OK [ OK ] OK UNNEEDED, same version exists in internal repository
nebbiolo1 Linux (Ubuntu 20.04.1 LTS) / x86_64  OK  OK  OK 
tokay1 Windows Server 2012 R2 Standard / x64  OK  OK  OK  OK UNNEEDED, same version exists in internal repository
riesling1 Windows Server 2019 Standard / x64  OK  OK  OK  OK 
merida1 macOS 10.14.6 Mojave / x86_64  OK  OK  OK  OK UNNEEDED, same version exists in internal repository

Summary

Package: CFAssay
Version: 1.23.0
Command: /home/biocbuild/bbs-3.12-bioc/R/bin/R CMD build --keep-empty-dirs --no-resave-data CFAssay
StartedAt: 2020-10-24 18:31:29 -0400 (Sat, 24 Oct 2020)
EndedAt: 2020-10-24 18:31:37 -0400 (Sat, 24 Oct 2020)
EllapsedTime: 8.5 seconds
RetCode: 0
Status:  OK 
PackageFile: CFAssay_1.23.0.tar.gz
PackageFileSize: 226.2 KiB

Command output

##############################################################################
##############################################################################
###
### Running command:
###
###   /home/biocbuild/bbs-3.12-bioc/R/bin/R CMD build --keep-empty-dirs --no-resave-data CFAssay
###
##############################################################################
##############################################################################


* checking for file ‘CFAssay/DESCRIPTION’ ... OK
* preparing ‘CFAssay’:
* checking DESCRIPTION meta-information ... OK
* installing the package to build vignettes
* creating vignettes ... OK
* checking for LF line-endings in source and make files and shell scripts
* checking for empty or unneeded directories
* building ‘CFAssay_1.23.0.tar.gz’