Back to Multiple platform build/check report for BioC 3.12
AB[C]DEFGHIJKLMNOPQRSTUVWXYZ

INSTALL report for ceRNAnetsim on tokay1

This page was generated on 2020-08-07 12:19:15 -0400 (Fri, 07 Aug 2020).

TO THE DEVELOPERS/MAINTAINERS OF THE ceRNAnetsim PACKAGE: Please make sure to use the following settings in order to reproduce any error or warning you see on this page.
Package 251/1882HostnameOS / ArchINSTALLBUILDCHECKBUILD BIN
ceRNAnetsim 1.1.0
Selcen Ari Yuka
Snapshot Date: 2020-08-06 14:50:46 -0400 (Thu, 06 Aug 2020)
URL: https://git.bioconductor.org/packages/ceRNAnetsim
Branch: master
Last Commit: 8ace956
Last Changed Date: 2020-04-27 15:32:45 -0400 (Mon, 27 Apr 2020)
malbec1 Linux (Ubuntu 18.04.4 LTS) / x86_64  OK  OK  OK UNNEEDED, same version exists in internal repository
tokay1 Windows Server 2012 R2 Standard / x64 [ OK ] OK  OK  OK UNNEEDED, same version exists in internal repository
merida1 macOS 10.14.6 Mojave / x86_64  OK  OK  OK  OK UNNEEDED, same version exists in internal repository

Summary

Package: ceRNAnetsim
Version: 1.1.0
Command: C:\cygwin\bin\curl.exe -O https://malbec1.bioconductor.org/BBS/3.12/bioc/src/contrib/ceRNAnetsim_1.1.0.tar.gz && rm -rf ceRNAnetsim.buildbin-libdir && mkdir ceRNAnetsim.buildbin-libdir && C:\Users\biocbuild\bbs-3.12-bioc\R\bin\R.exe CMD INSTALL --merge-multiarch --build --library=ceRNAnetsim.buildbin-libdir ceRNAnetsim_1.1.0.tar.gz && C:\Users\biocbuild\bbs-3.12-bioc\R\bin\R.exe CMD INSTALL ceRNAnetsim_1.1.0.zip && rm ceRNAnetsim_1.1.0.tar.gz ceRNAnetsim_1.1.0.zip
StartedAt: 2020-08-06 17:20:56 -0400 (Thu, 06 Aug 2020)
EndedAt: 2020-08-06 17:22:10 -0400 (Thu, 06 Aug 2020)
EllapsedTime: 74.1 seconds
RetCode: 0
Status:  OK  

Command output

##############################################################################
##############################################################################
###
### Running command:
###
###   C:\cygwin\bin\curl.exe -O https://malbec1.bioconductor.org/BBS/3.12/bioc/src/contrib/ceRNAnetsim_1.1.0.tar.gz && rm -rf ceRNAnetsim.buildbin-libdir && mkdir ceRNAnetsim.buildbin-libdir && C:\Users\biocbuild\bbs-3.12-bioc\R\bin\R.exe CMD INSTALL --merge-multiarch --build --library=ceRNAnetsim.buildbin-libdir ceRNAnetsim_1.1.0.tar.gz && C:\Users\biocbuild\bbs-3.12-bioc\R\bin\R.exe CMD INSTALL ceRNAnetsim_1.1.0.zip && rm ceRNAnetsim_1.1.0.tar.gz ceRNAnetsim_1.1.0.zip
###
##############################################################################
##############################################################################


  % Total    % Received % Xferd  Average Speed   Time    Time     Time  Current
                                 Dload  Upload   Total   Spent    Left  Speed

  0     0    0     0    0     0      0      0 --:--:-- --:--:-- --:--:--     0
100 2226k  100 2226k    0     0  6193k      0 --:--:-- --:--:-- --:--:-- 6254k

install for i386

* installing *source* package 'ceRNAnetsim' ...
** using staged installation
** R
** data
** byte-compile and prepare package for lazy loading
** help
*** installing help indices
  converting help for package 'ceRNAnetsim'
    finding HTML links ... done
    TCGA_E9_A1N5_mirnanormal                html  
    TCGA_E9_A1N5_mirnatumor                 html  
    TCGA_E9_A1N5_normal                     html  
    TCGA_E9_A1N5_tumor                      html  
    calc_perturbation                       html  
    find_iteration                          html  
    find_node_perturbation                  html  
    gene_knockdown                          html  
    huge_example                            html  
    midsamp                                 html  
    midsamp_new_counts                      html  
    minsamp                                 html  
    mirtarbasegene                          html  
    new_counts                              html  
    normalize                               html  
    prepare_rhs                             html  
    prepare_rhs_once                        html  
    priming_graph                           html  
    simulate                                html  
    simulate_vis                            html  
    update_how                              html  
    update_nodes                            html  
    update_variables                        html  
    vis_graph                               html  
** building package indices
** installing vignettes
** testing if installed package can be loaded from temporary location
** testing if installed package can be loaded from final location
** testing if installed package keeps a record of temporary installation path

install for x64

* installing *source* package 'ceRNAnetsim' ...
** testing if installed package can be loaded
* MD5 sums
packaged installation of 'ceRNAnetsim' as ceRNAnetsim_1.1.0.zip
* DONE (ceRNAnetsim)
* installing to library 'C:/Users/biocbuild/bbs-3.12-bioc/R/library'
package 'ceRNAnetsim' successfully unpacked and MD5 sums checked