Back to Multiple platform build/check report for BioC 3.12
[A]BCDEFGHIJKLMNOPQRSTUVWXYZ

BUILD report for affyPLM on tokay1

This page was generated on 2021-02-22 12:36:51 -0500 (Mon, 22 Feb 2021).

To the developers/maintainers of the affyPLM package:
Please make sure to use the following settings in order to reproduce any error or warning you see on this page.
Package 34/1974HostnameOS / ArchINSTALLBUILDCHECKBUILD BIN
affyPLM 1.66.0
Ben Bolstad
Snapshot Date: 2021-02-21 14:52:07 -0500 (Sun, 21 Feb 2021)
URL: https://git.bioconductor.org/packages/affyPLM
Branch: RELEASE_3_12
Last Commit: f0780c3
Last Changed Date: 2020-10-27 10:22:56 -0500 (Tue, 27 Oct 2020)
malbec1Linux (Ubuntu 18.04.5 LTS) / x86_64  OK    OK    OK  UNNEEDED, same version exists in internal repository
nebbiolo1Linux (Ubuntu 20.04.2 LTS) / x86_64  OK    OK    WARNINGS  
tokay1Windows Server 2012 R2 Standard / x64  OK    OK    OK    OK  UNNEEDED, same version exists in internal repository
merida1macOS 10.14.6 Mojave / x86_64  OK    OK    OK    OK  UNNEEDED, same version exists in internal repository

Summary

Package: affyPLM
Version: 1.66.0
Command: chmod a+r affyPLM -R && C:\Users\biocbuild\bbs-3.12-bioc\R\bin\R.exe CMD build --keep-empty-dirs --no-resave-data affyPLM
StartedAt: 2021-02-21 19:31:42 -0500 (Sun, 21 Feb 2021)
EndedAt: 2021-02-21 19:34:49 -0500 (Sun, 21 Feb 2021)
EllapsedTime: 187.8 seconds
RetCode: 0
Status:   OK   
PackageFile: affyPLM_1.66.0.tar.gz
PackageFileSize: 4.557 MiB

Command output

##############################################################################
##############################################################################
###
### Running command:
###
###   chmod a+r affyPLM -R && C:\Users\biocbuild\bbs-3.12-bioc\R\bin\R.exe CMD build --keep-empty-dirs --no-resave-data affyPLM
###
##############################################################################
##############################################################################


* checking for file 'affyPLM/DESCRIPTION' ... OK
* preparing 'affyPLM':
* checking DESCRIPTION meta-information ... OK
* cleaning src
* installing the package to build vignettes
* creating vignettes ... OK
* cleaning src
* checking for LF line-endings in source and make files and shell scripts
* checking for empty or unneeded directories
* building 'affyPLM_1.66.0.tar.gz'