Back to Multiple platform build/check report for BioC 3.12
ABC[D]EFGHIJKLMNOPQRSTUVWXYZ

Multiple platform build/check report for BioC 3.12

Results for diffcyt

This page was generated on 2020-10-24 10:55:43 -0400 (Sat, 24 Oct 2020).

Package 476/1974HostnameOS / ArchINSTALLBUILDCHECKBUILD BIN
diffcyt 1.9.8
Lukas M. Weber
Snapshot Date: 2020-10-23 14:40:36 -0400 (Fri, 23 Oct 2020)
URL: https://git.bioconductor.org/packages/diffcyt
Branch: master
Last Commit: 9bbb64c
Last Changed Date: 2020-08-05 14:24:46 -0400 (Wed, 05 Aug 2020)
malbec1 Linux (Ubuntu 18.04.4 LTS) / x86_64  OK  OK  OK UNNEEDED, same version exists in internal repository
nebbiolo1 Linux (Ubuntu 20.04.1 LTS) / x86_64  OK  OK  OK 
tokay1 Windows Server 2012 R2 Standard / x64  OK  OK  OK  OK UNNEEDED, same version exists in internal repository
riesling1 Windows Server 2019 Standard / x64  OK  OK  OK  OK 
merida1 macOS 10.14.6 Mojave / x86_64  OK  OK  OK  OK UNNEEDED, same version exists in internal repository