Back to Multiple platform build/check report for BioC 3.12
[A]BCDEFGHIJKLMNOPQRSTUVWXYZ

INSTALL report for annotatr on merida1

This page was generated on 2020-08-06 12:23:11 -0400 (Thu, 06 Aug 2020).

TO THE DEVELOPERS/MAINTAINERS OF THE annotatr PACKAGE: Please make sure to use the following settings in order to reproduce any error or warning you see on this page.
Package 65/1882HostnameOS / ArchINSTALLBUILDCHECKBUILD BIN
annotatr 1.15.2
Raymond G. Cavalcante
Snapshot Date: 2020-08-05 14:50:59 -0400 (Wed, 05 Aug 2020)
URL: https://git.bioconductor.org/packages/annotatr
Branch: master
Last Commit: 78eb300
Last Changed Date: 2020-07-07 08:56:57 -0400 (Tue, 07 Jul 2020)
malbec1 Linux (Ubuntu 18.04.4 LTS) / x86_64  OK  OK  OK UNNEEDED, same version exists in internal repository
tokay1 Windows Server 2012 R2 Standard / x64  OK  OK  OK  OK UNNEEDED, same version exists in internal repository
merida1 macOS 10.14.6 Mojave / x86_64 [ OK ] OK  OK  OK UNNEEDED, same version exists in internal repository

Summary

Package: annotatr
Version: 1.15.2
Command: /Library/Frameworks/R.framework/Versions/Current/Resources/bin/R CMD INSTALL annotatr
StartedAt: 2020-08-05 17:32:10 -0400 (Wed, 05 Aug 2020)
EndedAt: 2020-08-05 17:32:55 -0400 (Wed, 05 Aug 2020)
EllapsedTime: 45.0 seconds
RetCode: 0
Status:  OK 

Command output

##############################################################################
##############################################################################
###
### Running command:
###
###   /Library/Frameworks/R.framework/Versions/Current/Resources/bin/R CMD INSTALL annotatr
###
##############################################################################
##############################################################################


* installing to library ‘/Library/Frameworks/R.framework/Versions/4.0/Resources/library’
* installing *source* package ‘annotatr’ ...
** using staged installation
** R
** data
*** moving datasets to lazyload DB
** inst
** byte-compile and prepare package for lazy loading
** help
*** installing help indices
** building package indices
** installing vignettes
** testing if installed package can be loaded from temporary location
** testing if installed package can be loaded from final location
** testing if installed package keeps a record of temporary installation path
* DONE (annotatr)