Back to Multiple platform build/check report for BioC 3.12
AB[C]DEFGHIJKLMNOPQRSTUVWXYZ

BUILD report for Cardinal on tokay1

This page was generated on 2020-08-11 11:41:47 -0400 (Tue, 11 Aug 2020).

TO THE DEVELOPERS/MAINTAINERS OF THE Cardinal PACKAGE: Please make sure to use the following settings in order to reproduce any error or warning you see on this page.
Package 224/1885HostnameOS / ArchINSTALLBUILDCHECKBUILD BIN
Cardinal 2.7.1
Kylie A. Bemis
Snapshot Date: 2020-08-10 14:50:56 -0400 (Mon, 10 Aug 2020)
URL: https://git.bioconductor.org/packages/Cardinal
Branch: master
Last Commit: 8fcee13
Last Changed Date: 2020-05-02 02:24:20 -0400 (Sat, 02 May 2020)
malbec1 Linux (Ubuntu 18.04.4 LTS) / x86_64  ERROR  ERROR  skipped 
nebbiolo1 Linux (Ubuntu 20.04.1 LTS) / x86_64  ERROR  ERROR  skipped 
tokay1 Windows Server 2012 R2 Standard / x64  ERROR [ ERROR ] skipped  skipped 
merida1 macOS 10.14.6 Mojave / x86_64  ERROR  ERROR  skipped  skipped 

Summary

Package: Cardinal
Version: 2.7.1
Command: chmod a+r Cardinal -R && C:\Users\biocbuild\bbs-3.12-bioc\R\bin\R.exe CMD build --keep-empty-dirs --no-resave-data Cardinal
StartedAt: 2020-08-10 20:35:59 -0400 (Mon, 10 Aug 2020)
EndedAt: 2020-08-10 20:36:19 -0400 (Mon, 10 Aug 2020)
EllapsedTime: 20.0 seconds
RetCode: 1
Status:  ERROR  
PackageFile: Cardinal_2.7.1.tar.gz
PackageFileSize: 1.068 MiB

Command output

##############################################################################
##############################################################################
###
### Running command:
###
###   chmod a+r Cardinal -R && C:\Users\biocbuild\bbs-3.12-bioc\R\bin\R.exe CMD build --keep-empty-dirs --no-resave-data Cardinal
###
##############################################################################
##############################################################################


* checking for file 'Cardinal/DESCRIPTION' ... OK
* preparing 'Cardinal':
* checking DESCRIPTION meta-information ... OK
* cleaning src
* installing the package to build vignettes
      -----------------------------------
ERROR: dependency 'matter' is not available for package 'Cardinal'
* removing 'C:/Users/biocbuild/bbs-3.12-bioc/tmpdir/RtmpeWd9po/Rinstc782a021077/Cardinal'
      -----------------------------------
ERROR: package installation failed