Back to Multiple platform build/check report for BioC 3.12
AB[C]DEFGHIJKLMNOPQRSTUVWXYZ

BUILD report for celda on merida1

This page was generated on 2020-12-01 12:01:09 -0500 (Tue, 01 Dec 2020).

TO THE DEVELOPERS/MAINTAINERS OF THE celda PACKAGE: Please make sure to use the following settings in order to reproduce any error or warning you see on this page.
Package 248/1974HostnameOS / ArchINSTALLBUILDCHECKBUILD BIN
celda 1.6.1
Joshua Campbell
Snapshot Date: 2020-11-30 14:42:56 -0500 (Mon, 30 Nov 2020)
URL: https://git.bioconductor.org/packages/celda
Branch: RELEASE_3_12
Last Commit: c18034f
Last Changed Date: 2020-10-27 13:51:27 -0500 (Tue, 27 Oct 2020)
malbec1 Linux (Ubuntu 18.04.4 LTS) / x86_64  OK  OK  OK UNNEEDED, same version exists in internal repository
nebbiolo1 Linux (Ubuntu 20.04.1 LTS) / x86_64  OK  OK  OK 
tokay1 Windows Server 2012 R2 Standard / x64  OK  OK  OK  OK UNNEEDED, same version exists in internal repository
merida1 macOS 10.14.6 Mojave / x86_64  OK [ OK ] OK  OK UNNEEDED, same version exists in internal repository

Summary

Package: celda
Version: 1.6.1
Command: /Library/Frameworks/R.framework/Versions/Current/Resources/bin/R CMD build --keep-empty-dirs --no-resave-data celda
StartedAt: 2020-11-30 18:30:49 -0500 (Mon, 30 Nov 2020)
EndedAt: 2020-11-30 18:40:48 -0500 (Mon, 30 Nov 2020)
EllapsedTime: 599.0 seconds
RetCode: 0
Status:  OK 
PackageFile: celda_1.6.1.tar.gz
PackageFileSize: 937 KiB

Command output

##############################################################################
##############################################################################
###
### Running command:
###
###   /Library/Frameworks/R.framework/Versions/Current/Resources/bin/R CMD build --keep-empty-dirs --no-resave-data celda
###
##############################################################################
##############################################################################


* checking for file ‘celda/DESCRIPTION’ ... OK
* preparing ‘celda’:
* checking DESCRIPTION meta-information ... OK
* cleaning src
* installing the package to build vignettes
* creating vignettes ... OK
* cleaning src
* checking for LF line-endings in source and make files and shell scripts
* checking for empty or unneeded directories
* building ‘celda_1.6.1.tar.gz’