Back to Multiple platform build/check report for BioC 3.12
ABCDEFGHIJKLMNOPQ[R]STUVWXYZ

BUILD BIN report for RBM on tokay1

This page was generated on 2020-11-23 12:22:32 -0500 (Mon, 23 Nov 2020).

TO THE DEVELOPERS/MAINTAINERS OF THE RBM PACKAGE: Please make sure to use the following settings in order to reproduce any error or warning you see on this page.
Package 1460/1974HostnameOS / ArchINSTALLBUILDCHECKBUILD BIN
RBM 1.22.0
Dongmei Li
Snapshot Date: 2020-11-22 14:42:09 -0500 (Sun, 22 Nov 2020)
URL: https://git.bioconductor.org/packages/RBM
Branch: RELEASE_3_12
Last Commit: f15d3de
Last Changed Date: 2020-10-27 11:04:01 -0500 (Tue, 27 Oct 2020)
malbec1 Linux (Ubuntu 18.04.4 LTS) / x86_64  OK  OK  OK UNNEEDED, same version exists in internal repository
nebbiolo1 Linux (Ubuntu 20.04.1 LTS) / x86_64  OK  OK  OK 
tokay1 Windows Server 2012 R2 Standard / x64  OK  OK  OK [ OK ]UNNEEDED, same version exists in internal repository
merida1 macOS 10.14.6 Mojave / x86_64  OK  OK  OK  OK UNNEEDED, same version exists in internal repository

Summary

Package: RBM
Version: 1.22.0
Command: rm -rf RBM.buildbin-libdir && mkdir RBM.buildbin-libdir && C:\Users\biocbuild\bbs-3.12-bioc\R\bin\R.exe CMD INSTALL --merge-multiarch --build --library=RBM.buildbin-libdir RBM_1.22.0.tar.gz
StartedAt: 2020-11-23 10:33:37 -0500 (Mon, 23 Nov 2020)
EndedAt: 2020-11-23 10:34:20 -0500 (Mon, 23 Nov 2020)
EllapsedTime: 42.7 seconds
RetCode: 0
Status:  OK  
PackageFile: RBM_1.22.0.zip
PackageFileSize: 323.4 KiB

Command output

##############################################################################
##############################################################################
###
### Running command:
###
###   rm -rf RBM.buildbin-libdir && mkdir RBM.buildbin-libdir && C:\Users\biocbuild\bbs-3.12-bioc\R\bin\R.exe CMD INSTALL --merge-multiarch --build --library=RBM.buildbin-libdir RBM_1.22.0.tar.gz
###
##############################################################################
##############################################################################



install for i386

* installing *source* package 'RBM' ...
** using staged installation
** R
** data
** inst
** byte-compile and prepare package for lazy loading
** help
*** installing help indices
  converting help for package 'RBM'
    finding HTML links ... done
    RBM-package                             html  
    RBM_F                                   html  
    RBM_T                                   html  
    ovarian_cancer_methylation              html  
** building package indices
** installing vignettes
** testing if installed package can be loaded from temporary location
** testing if installed package can be loaded from final location
** testing if installed package keeps a record of temporary installation path

install for x64

* installing *source* package 'RBM' ...
** testing if installed package can be loaded
* MD5 sums
packaged installation of 'RBM' as RBM_1.22.0.zip
* DONE (RBM)