Back to Multiple platform build/check report for BioC 3.12
[A]BCDEFGHIJKLMNOPQRSTUVWXYZ

BUILD report for aroma.light on malbec1

This page was generated on 2020-08-10 11:32:51 -0400 (Mon, 10 Aug 2020).

TO THE DEVELOPERS/MAINTAINERS OF THE aroma.light PACKAGE: Please make sure to use the following settings in order to reproduce any error or warning you see on this page.
Package 74/1882HostnameOS / ArchINSTALLBUILDCHECKBUILD BIN
aroma.light 3.19.0
Henrik Bengtsson
Snapshot Date: 2020-08-09 14:51:29 -0400 (Sun, 09 Aug 2020)
URL: https://git.bioconductor.org/packages/aroma.light
Branch: master
Last Commit: 38f3c56
Last Changed Date: 2020-04-27 14:13:39 -0400 (Mon, 27 Apr 2020)
malbec1 Linux (Ubuntu 18.04.4 LTS) / x86_64  OK [ OK ] OK UNNEEDED, same version exists in internal repository
nebbiolo1 Linux (Ubuntu 20.04.1 LTS) / x86_64  OK  OK  OK 
tokay1 Windows Server 2012 R2 Standard / x64  OK  OK  WARNINGS  OK UNNEEDED, same version exists in internal repository
merida1 macOS 10.14.6 Mojave / x86_64  OK  OK  OK  OK UNNEEDED, same version exists in internal repository

Summary

Package: aroma.light
Version: 3.19.0
Command: /home/biocbuild/bbs-3.12-bioc/R/bin/R CMD build --keep-empty-dirs --no-resave-data aroma.light
StartedAt: 2020-08-09 17:38:29 -0400 (Sun, 09 Aug 2020)
EndedAt: 2020-08-09 17:38:30 -0400 (Sun, 09 Aug 2020)
EllapsedTime: 1.0 seconds
RetCode: 0
Status:  OK 
PackageFile: aroma.light_3.19.0.tar.gz
PackageFileSize: 381.6 KiB

Command output

##############################################################################
##############################################################################
###
### Running command:
###
###   /home/biocbuild/bbs-3.12-bioc/R/bin/R CMD build --keep-empty-dirs --no-resave-data aroma.light
###
##############################################################################
##############################################################################


* checking for file ‘aroma.light/DESCRIPTION’ ... OK
* preparing ‘aroma.light’:
* checking DESCRIPTION meta-information ... OK
* checking for LF line-endings in source and make files and shell scripts
* checking for empty or unneeded directories
* building ‘aroma.light_3.19.0.tar.gz’