Back to Multiple platform build/check report for BioC 3.12
A[B]CDEFGHIJKLMNOPQRSTUVWXYZ

BUILD report for BioQC on malbec1

This page was generated on 2020-08-07 11:23:06 -0400 (Fri, 07 Aug 2020).

TO THE DEVELOPERS/MAINTAINERS OF THE BioQC PACKAGE: Please make sure to use the following settings in order to reproduce any error or warning you see on this page.
Package 174/1882HostnameOS / ArchINSTALLBUILDCHECKBUILD BIN
BioQC 1.17.1
Jitao David Zhang
Snapshot Date: 2020-08-06 14:50:46 -0400 (Thu, 06 Aug 2020)
URL: https://git.bioconductor.org/packages/BioQC
Branch: master
Last Commit: 02e9885
Last Changed Date: 2020-07-23 03:41:29 -0400 (Thu, 23 Jul 2020)
malbec1 Linux (Ubuntu 18.04.4 LTS) / x86_64  OK [ OK ] OK UNNEEDED, same version exists in internal repository
tokay1 Windows Server 2012 R2 Standard / x64  OK  OK  OK  OK UNNEEDED, same version exists in internal repository
merida1 macOS 10.14.6 Mojave / x86_64  OK  OK  OK  OK UNNEEDED, same version exists in internal repository

Summary

Package: BioQC
Version: 1.17.1
Command: /home/biocbuild/bbs-3.12-bioc/R/bin/R CMD build --keep-empty-dirs --no-resave-data BioQC
StartedAt: 2020-08-06 19:36:20 -0400 (Thu, 06 Aug 2020)
EndedAt: 2020-08-06 19:36:50 -0400 (Thu, 06 Aug 2020)
EllapsedTime: 30.1 seconds
RetCode: 0
Status:  OK 
PackageFile: BioQC_1.17.1.tar.gz
PackageFileSize: 609.9 KiB

Command output

##############################################################################
##############################################################################
###
### Running command:
###
###   /home/biocbuild/bbs-3.12-bioc/R/bin/R CMD build --keep-empty-dirs --no-resave-data BioQC
###
##############################################################################
##############################################################################


* checking for file ‘BioQC/DESCRIPTION’ ... OK
* preparing ‘BioQC’:
* checking DESCRIPTION meta-information ... OK
* cleaning src
* installing the package to build vignettes
* creating vignettes ... OK
* cleaning src
* checking for LF line-endings in source and make files and shell scripts
* checking for empty or unneeded directories
* building ‘BioQC_1.17.1.tar.gz’