Back to Multiple platform build/check report for BioC 3.12
[A]BCDEFGHIJKLMNOPQRSTUVWXYZ

BUILD BIN report for affylmGUI on tokay1

This page was generated on 2020-08-07 11:56:34 -0400 (Fri, 07 Aug 2020).

TO THE DEVELOPERS/MAINTAINERS OF THE affylmGUI PACKAGE: Please make sure to use the following settings in order to reproduce any error or warning you see on this page.
Package 31/1882HostnameOS / ArchINSTALLBUILDCHECKBUILD BIN
affylmGUI 1.63.0
Gordon Smyth
Snapshot Date: 2020-08-06 14:50:46 -0400 (Thu, 06 Aug 2020)
URL: https://git.bioconductor.org/packages/affylmGUI
Branch: master
Last Commit: 4752dac
Last Changed Date: 2020-04-27 14:09:39 -0400 (Mon, 27 Apr 2020)
malbec1 Linux (Ubuntu 18.04.4 LTS) / x86_64  OK  OK  OK UNNEEDED, same version exists in internal repository
tokay1 Windows Server 2012 R2 Standard / x64  OK  OK  OK [ OK ]UNNEEDED, same version exists in internal repository
merida1 macOS 10.14.6 Mojave / x86_64  OK  OK  OK  OK UNNEEDED, same version exists in internal repository

Summary

Package: affylmGUI
Version: 1.63.0
Command: rm -rf affylmGUI.buildbin-libdir && mkdir affylmGUI.buildbin-libdir && C:\Users\biocbuild\bbs-3.12-bioc\R\bin\R.exe CMD INSTALL --merge-multiarch --build --library=affylmGUI.buildbin-libdir affylmGUI_1.63.0.tar.gz
StartedAt: 2020-08-07 06:51:44 -0400 (Fri, 07 Aug 2020)
EndedAt: 2020-08-07 06:54:01 -0400 (Fri, 07 Aug 2020)
EllapsedTime: 137.1 seconds
RetCode: 0
Status:  OK  
PackageFile: affylmGUI_1.63.0.zip
PackageFileSize: 2.101 MiB

Command output

##############################################################################
##############################################################################
###
### Running command:
###
###   rm -rf affylmGUI.buildbin-libdir && mkdir affylmGUI.buildbin-libdir && C:\Users\biocbuild\bbs-3.12-bioc\R\bin\R.exe CMD INSTALL --merge-multiarch --build --library=affylmGUI.buildbin-libdir affylmGUI_1.63.0.tar.gz
###
##############################################################################
##############################################################################



install for i386

* installing *source* package 'affylmGUI' ...
** using staged installation
** R
** inst
** byte-compile and prepare package for lazy loading
** help
*** installing help indices
  converting help for package 'affylmGUI'
    finding HTML links ... done
    affylmGU-package                        html  
    finding level-2 HTML links ... done

    affylmGUI                               html  
    internal                                html  
** building package indices
** installing vignettes
** testing if installed package can be loaded from temporary location
** testing if installed package can be loaded from final location
** testing if installed package keeps a record of temporary installation path

install for x64

* installing *source* package 'affylmGUI' ...
** testing if installed package can be loaded
* MD5 sums
packaged installation of 'affylmGUI' as affylmGUI_1.63.0.zip
* DONE (affylmGUI)